BEGIN:VCALENDAR
VERSION:2.0
PRODID:-//The Prague Literary Calendar - ECPv6.15.20//NONSGML v1.0//EN
CALSCALE:GREGORIAN
METHOD:PUBLISH
X-ORIGINAL-URL:https://pragueliterarycalendar.com
X-WR-CALDESC:Events for The Prague Literary Calendar
REFRESH-INTERVAL;VALUE=DURATION:PT1H
X-Robots-Tag:noindex
X-PUBLISHED-TTL:PT1H
BEGIN:VTIMEZONE
TZID:Europe/Prague
BEGIN:DAYLIGHT
TZOFFSETFROM:+0100
TZOFFSETTO:+0200
TZNAME:CEST
DTSTART:20250330T010000
END:DAYLIGHT
BEGIN:STANDARD
TZOFFSETFROM:+0200
TZOFFSETTO:+0100
TZNAME:CET
DTSTART:20251026T010000
END:STANDARD
BEGIN:DAYLIGHT
TZOFFSETFROM:+0100
TZOFFSETTO:+0200
TZNAME:CEST
DTSTART:20260329T010000
END:DAYLIGHT
BEGIN:STANDARD
TZOFFSETFROM:+0200
TZOFFSETTO:+0100
TZNAME:CET
DTSTART:20261025T010000
END:STANDARD
BEGIN:DAYLIGHT
TZOFFSETFROM:+0100
TZOFFSETTO:+0200
TZNAME:CEST
DTSTART:20270328T010000
END:DAYLIGHT
BEGIN:STANDARD
TZOFFSETFROM:+0200
TZOFFSETTO:+0100
TZNAME:CET
DTSTART:20271031T010000
END:STANDARD
END:VTIMEZONE
BEGIN:VEVENT
DTSTART;TZID=Europe/Prague:20260328T173000
DTEND;TZID=Europe/Prague:20260328T203000
DTSTAMP:20260421T170713
CREATED:20260323T174354Z
LAST-MODIFIED:20260331T131454Z
UID:10731-1774719000-1774729800@pragueliterarycalendar.com
SUMMARY:SOUL A SANZA - Conte poétique et musical
DESCRIPTION:SOUL A SANZA est un conte poétique et musical\, issu de l’adapation du Recueil de Poèmes ‘SOUL A SANZA’.Ce conte met en scène un voyage initiatique à travers la poésie\, la puissance des mots et le chant.Les rythmes de l ‘instrument de musique SANZA\, nous accompagnent tout au long de la narration du conte.
URL:https://pragueliterarycalendar.com/calendar/soul-a-sanza-conte-poetique-et-musical/
LOCATION:Boudoir u sta rán\, Boudoir u sta rán
CATEGORIES:Music,Performance,Poetry
END:VEVENT
END:VCALENDAR