BEGIN:VCALENDAR
VERSION:2.0
PRODID:-//The Prague Literary Calendar - ECPv6.15.20//NONSGML v1.0//EN
CALSCALE:GREGORIAN
METHOD:PUBLISH
X-WR-CALNAME:The Prague Literary Calendar
X-ORIGINAL-URL:https://pragueliterarycalendar.com
X-WR-CALDESC:Events for The Prague Literary Calendar
REFRESH-INTERVAL;VALUE=DURATION:PT1H
X-Robots-Tag:noindex
X-PUBLISHED-TTL:PT1H
BEGIN:VTIMEZONE
TZID:Europe/Prague
BEGIN:DAYLIGHT
TZOFFSETFROM:+0100
TZOFFSETTO:+0200
TZNAME:CEST
DTSTART:20250330T010000
END:DAYLIGHT
BEGIN:STANDARD
TZOFFSETFROM:+0200
TZOFFSETTO:+0100
TZNAME:CET
DTSTART:20251026T010000
END:STANDARD
BEGIN:DAYLIGHT
TZOFFSETFROM:+0100
TZOFFSETTO:+0200
TZNAME:CEST
DTSTART:20260329T010000
END:DAYLIGHT
BEGIN:STANDARD
TZOFFSETFROM:+0200
TZOFFSETTO:+0100
TZNAME:CET
DTSTART:20261025T010000
END:STANDARD
BEGIN:DAYLIGHT
TZOFFSETFROM:+0100
TZOFFSETTO:+0200
TZNAME:CEST
DTSTART:20270328T010000
END:DAYLIGHT
BEGIN:STANDARD
TZOFFSETFROM:+0200
TZOFFSETTO:+0100
TZNAME:CET
DTSTART:20271031T010000
END:STANDARD
END:VTIMEZONE
BEGIN:VEVENT
DTSTART;TZID=Europe/Prague:20260427T193000
DTEND;TZID=Europe/Prague:20260427T223000
DTSTAMP:20260421T153721
CREATED:20260327T093234Z
LAST-MODIFIED:20260331T131431Z
UID:11122-1777318200-1777329000@pragueliterarycalendar.com
SUMMARY:Metropolis koncert
DESCRIPTION:Prahu čeká mimořádný filmově-hudební zážitek\, jaký svět ještě neviděl! \nVizionářský film Metropolis (1927) režiséra Fritze Langa\, považovaný za jeden z pilířů světové kinematografie\, ožije v nové podobě – s premiérovou symfonickou hudbou z pera Jeffa Beala\, pětinásobného držitele ceny Emmy a autora ikonické hudby k seriálu House of Cards. Pod jeho osobním vedením vytvoří Český národní symfonický orchestr dokonalé propojení živé hudby a nadčasového filmového obrazu. Zvuk\, obraz\, emoce – to vše splyne v jediný okamžik\, který se zapíše do dějin.
URL:https://pragueliterarycalendar.com/calendar/metropolis-koncert/
LOCATION:Hudební divadlo Karlín\, Hudební divadlo Karlín
CATEGORIES:Music,Performance
END:VEVENT
END:VCALENDAR