BEGIN:VCALENDAR
VERSION:2.0
PRODID:-//The Prague Literary Calendar - ECPv6.15.20//NONSGML v1.0//EN
CALSCALE:GREGORIAN
METHOD:PUBLISH
X-ORIGINAL-URL:https://pragueliterarycalendar.com
X-WR-CALDESC:Events for The Prague Literary Calendar
REFRESH-INTERVAL;VALUE=DURATION:PT1H
X-Robots-Tag:noindex
X-PUBLISHED-TTL:PT1H
BEGIN:VTIMEZONE
TZID:Europe/Prague
BEGIN:DAYLIGHT
TZOFFSETFROM:+0100
TZOFFSETTO:+0200
TZNAME:CEST
DTSTART:20250330T010000
END:DAYLIGHT
BEGIN:STANDARD
TZOFFSETFROM:+0200
TZOFFSETTO:+0100
TZNAME:CET
DTSTART:20251026T010000
END:STANDARD
BEGIN:DAYLIGHT
TZOFFSETFROM:+0100
TZOFFSETTO:+0200
TZNAME:CEST
DTSTART:20260329T010000
END:DAYLIGHT
BEGIN:STANDARD
TZOFFSETFROM:+0200
TZOFFSETTO:+0100
TZNAME:CET
DTSTART:20261025T010000
END:STANDARD
BEGIN:DAYLIGHT
TZOFFSETFROM:+0100
TZOFFSETTO:+0200
TZNAME:CEST
DTSTART:20270328T010000
END:DAYLIGHT
BEGIN:STANDARD
TZOFFSETFROM:+0200
TZOFFSETTO:+0100
TZNAME:CET
DTSTART:20271031T010000
END:STANDARD
END:VTIMEZONE
BEGIN:VEVENT
DTSTART;TZID=Europe/Prague:20260526T213000
DTEND;TZID=Europe/Prague:20260526T223000
DTSTAMP:20260425T220121
CREATED:20260414T141729Z
LAST-MODIFIED:20260414T165229Z
UID:12284-1779831000-1779834600@pragueliterarycalendar.com
SUMMARY:Prague Fringe: Metro Comedy Club Presents: Jeff Koch - Improv Academy Show
DESCRIPTION:A brand new show each time: Using your suggestions and occasional participation\, a team of professional improvisers will create a one-of-a-kind performance featuring intricate stories\, hilarious games\, and original songs.
URL:https://pragueliterarycalendar.com/calendar/prague-fringe-metro-comedy-club-presents-jeff-koch-improv-academy-show/
LOCATION:Metro Comedy Club\, Metro Comedy Club
CATEGORIES:Comedy,Improv,Performance
ORGANIZER;CN="Prague Fringe Festival":MAILTO:noreply@facebookmail.com
END:VEVENT
END:VCALENDAR