BEGIN:VCALENDAR
VERSION:2.0
PRODID:-//The Prague Literary Calendar - ECPv6.15.20//NONSGML v1.0//EN
CALSCALE:GREGORIAN
METHOD:PUBLISH
X-ORIGINAL-URL:https://pragueliterarycalendar.com
X-WR-CALDESC:Events for The Prague Literary Calendar
REFRESH-INTERVAL;VALUE=DURATION:PT1H
X-Robots-Tag:noindex
X-PUBLISHED-TTL:PT1H
BEGIN:VTIMEZONE
TZID:Europe/Prague
BEGIN:DAYLIGHT
TZOFFSETFROM:+0100
TZOFFSETTO:+0200
TZNAME:CEST
DTSTART:20250330T010000
END:DAYLIGHT
BEGIN:STANDARD
TZOFFSETFROM:+0200
TZOFFSETTO:+0100
TZNAME:CET
DTSTART:20251026T010000
END:STANDARD
BEGIN:DAYLIGHT
TZOFFSETFROM:+0100
TZOFFSETTO:+0200
TZNAME:CEST
DTSTART:20260329T010000
END:DAYLIGHT
BEGIN:STANDARD
TZOFFSETFROM:+0200
TZOFFSETTO:+0100
TZNAME:CET
DTSTART:20261025T010000
END:STANDARD
BEGIN:DAYLIGHT
TZOFFSETFROM:+0100
TZOFFSETTO:+0200
TZNAME:CEST
DTSTART:20270328T010000
END:DAYLIGHT
BEGIN:STANDARD
TZOFFSETFROM:+0200
TZOFFSETTO:+0100
TZNAME:CET
DTSTART:20271031T010000
END:STANDARD
END:VTIMEZONE
BEGIN:VEVENT
DTSTART;TZID=Europe/Prague:20260329T160000
DTEND;TZID=Europe/Prague:20260329T190000
DTSTAMP:20260420T171018
CREATED:20260327T094212Z
LAST-MODIFIED:20260331T130120Z
UID:11161-1774800000-1774810800@pragueliterarycalendar.com
SUMMARY:A Novel Bunch - March Meeting
DESCRIPTION:to discuss our March read: Parable of the Sower by Octavia E. Butler
URL:https://pragueliterarycalendar.com/calendar/a-novel-bunch-march-meeting/
LOCATION:Palo Verde Bistro\, Palo Verde Bistro
CATEGORIES:Book Club,Discussion
ORGANIZER;CN="Shenali Amaratunga":MAILTO:noreply@facebookmail.com
END:VEVENT
BEGIN:VEVENT
DTSTART;TZID=Europe/Prague:20260329T170000
DTEND;TZID=Europe/Prague:20260329T200000
DTSTAMP:20260420T171018
CREATED:20260327T093150Z
LAST-MODIFIED:20260331T130120Z
UID:11118-1774803600-1774814400@pragueliterarycalendar.com
SUMMARY:Feminist BOOK CLUB in Safe space bookstore
DESCRIPTION:Come to join our book club!
URL:https://pragueliterarycalendar.com/calendar/feminist-book-club-in-safe-space-bookstore/
LOCATION:U božích bojovníků 606/3\, 13000 Prague\, Czech Republic\, U božích bojovníků 606/3\, 13000 Prague\, Czech Republic
CATEGORIES:Book Club,Discussion
ORGANIZER;CN="Safe space bookstore":MAILTO:noreply@facebookmail.com
END:VEVENT
END:VCALENDAR