BEGIN:VCALENDAR
VERSION:2.0
PRODID:-//The Prague Literary Calendar - ECPv6.15.20//NONSGML v1.0//EN
CALSCALE:GREGORIAN
METHOD:PUBLISH
X-WR-CALNAME:The Prague Literary Calendar
X-ORIGINAL-URL:https://pragueliterarycalendar.com
X-WR-CALDESC:Events for The Prague Literary Calendar
REFRESH-INTERVAL;VALUE=DURATION:PT1H
X-Robots-Tag:noindex
X-PUBLISHED-TTL:PT1H
BEGIN:VTIMEZONE
TZID:Europe/Prague
BEGIN:DAYLIGHT
TZOFFSETFROM:+0100
TZOFFSETTO:+0200
TZNAME:CEST
DTSTART:20250330T010000
END:DAYLIGHT
BEGIN:STANDARD
TZOFFSETFROM:+0200
TZOFFSETTO:+0100
TZNAME:CET
DTSTART:20251026T010000
END:STANDARD
BEGIN:DAYLIGHT
TZOFFSETFROM:+0100
TZOFFSETTO:+0200
TZNAME:CEST
DTSTART:20260329T010000
END:DAYLIGHT
BEGIN:STANDARD
TZOFFSETFROM:+0200
TZOFFSETTO:+0100
TZNAME:CET
DTSTART:20261025T010000
END:STANDARD
BEGIN:DAYLIGHT
TZOFFSETFROM:+0100
TZOFFSETTO:+0200
TZNAME:CEST
DTSTART:20270328T010000
END:DAYLIGHT
BEGIN:STANDARD
TZOFFSETFROM:+0200
TZOFFSETTO:+0100
TZNAME:CET
DTSTART:20271031T010000
END:STANDARD
END:VTIMEZONE
BEGIN:VEVENT
DTSTART;TZID=Europe/Prague:20260411T150000
DTEND;TZID=Europe/Prague:20260411T160000
DTSTAMP:20260420T142347
CREATED:20260327T094733Z
LAST-MODIFIED:20260331T130120Z
UID:11191-1775919600-1775923200@pragueliterarycalendar.com
SUMMARY:The Song of Achilles by Madeline Miller
DESCRIPTION:Hi readers 😃 📖 The next book club meeting and another new book 😃 And we will keep the new meeting place! \nThe Book:  \nThe Song of Achilles by Madeline Miller \nMeeting time and place:  \n☕ Saturday 11th of Apr 2026 – 3:00 PM at La Boheme Cafe ** The new one near the park ** \nNa Švihance 1\, 120 00 Praha 2-Vinohrady \nhttps://share.google/wo6wLGQPjR7KOziqf \n🪡🧶🐶 Bring your pets\, your crafting projects or anything else you’d like and let’s have a fun chat 😁
URL:https://pragueliterarycalendar.com/calendar/the-song-of-achilles-by-madeline-miller/
LOCATION:La Bohéme Café\, La Bohéme Café
CATEGORIES:Book Club,Discussion
ORGANIZER;CN="Fatema Aseeri":MAILTO:noreply@facebookmail.com
END:VEVENT
END:VCALENDAR