BEGIN:VCALENDAR
VERSION:2.0
PRODID:-//The Prague Literary Calendar - ECPv6.15.20//NONSGML v1.0//EN
CALSCALE:GREGORIAN
METHOD:PUBLISH
X-ORIGINAL-URL:https://pragueliterarycalendar.com
X-WR-CALDESC:Events for The Prague Literary Calendar
REFRESH-INTERVAL;VALUE=DURATION:PT1H
X-Robots-Tag:noindex
X-PUBLISHED-TTL:PT1H
BEGIN:VTIMEZONE
TZID:Europe/Prague
BEGIN:DAYLIGHT
TZOFFSETFROM:+0100
TZOFFSETTO:+0200
TZNAME:CEST
DTSTART:20250330T010000
END:DAYLIGHT
BEGIN:STANDARD
TZOFFSETFROM:+0200
TZOFFSETTO:+0100
TZNAME:CET
DTSTART:20251026T010000
END:STANDARD
BEGIN:DAYLIGHT
TZOFFSETFROM:+0100
TZOFFSETTO:+0200
TZNAME:CEST
DTSTART:20260329T010000
END:DAYLIGHT
BEGIN:STANDARD
TZOFFSETFROM:+0200
TZOFFSETTO:+0100
TZNAME:CET
DTSTART:20261025T010000
END:STANDARD
BEGIN:DAYLIGHT
TZOFFSETFROM:+0100
TZOFFSETTO:+0200
TZNAME:CEST
DTSTART:20270328T010000
END:DAYLIGHT
BEGIN:STANDARD
TZOFFSETFROM:+0200
TZOFFSETTO:+0100
TZNAME:CET
DTSTART:20271031T010000
END:STANDARD
END:VTIMEZONE
BEGIN:VEVENT
DTSTART;TZID=Europe/Prague:20260416T191500
DTEND;TZID=Europe/Prague:20260416T221500
DTSTAMP:20260425T153921
CREATED:20260407T122447Z
LAST-MODIFIED:20260407T123121Z
UID:11710-1776366900-1776377700@pragueliterarycalendar.com
SUMMARY:The Hour of the Star by Clarice Lispector
DESCRIPTION:Narrated by the cosmopolitan Rodrigo S.M.\, this brief\, strange\, and haunting tale is the story of Macabéa\, one of life’s unfortunates. Living in the slums of Rio de Janeiro and eking out a poor living as a typist\, Macabéa loves movies\, Coca-Cola\, and her rat of a boyfriend; she would like to be like Marilyn Monroe\, but she is ugly\, underfed\, sickly\, and unloved. Rodrigo recoils from her wretchedness\, and yet he cannot avoid realization that for all her outward misery\, Macabéa is inwardly free. She doesn’t seem to know how unhappy she should be. Lispector employs her pathetic heroine against her urbane\, empty narrator–edge of despair to edge of despair–and\, working them like a pair of scissors\, she cuts away the reader’s preconceived notions about poverty\, identity\, love\, and the art of fiction.
URL:https://pragueliterarycalendar.com/calendar/the-hour-of-the-star-by-clarice-lispector/
LOCATION:Globe Bookstore and Cafe\, Globe Bookstore and Cafe
CATEGORIES:Book Club,Discussion
ORGANIZER;CN="Marie Lecocq":MAILTO:noreply@facebookmail.com
END:VEVENT
END:VCALENDAR