BEGIN:VCALENDAR
VERSION:2.0
PRODID:-//The Prague Literary Calendar - ECPv6.15.20//NONSGML v1.0//EN
CALSCALE:GREGORIAN
METHOD:PUBLISH
X-WR-CALNAME:The Prague Literary Calendar
X-ORIGINAL-URL:https://pragueliterarycalendar.com
X-WR-CALDESC:Events for The Prague Literary Calendar
REFRESH-INTERVAL;VALUE=DURATION:PT1H
X-Robots-Tag:noindex
X-PUBLISHED-TTL:PT1H
BEGIN:VTIMEZONE
TZID:Europe/Prague
BEGIN:DAYLIGHT
TZOFFSETFROM:+0100
TZOFFSETTO:+0200
TZNAME:CEST
DTSTART:20250330T010000
END:DAYLIGHT
BEGIN:STANDARD
TZOFFSETFROM:+0200
TZOFFSETTO:+0100
TZNAME:CET
DTSTART:20251026T010000
END:STANDARD
BEGIN:DAYLIGHT
TZOFFSETFROM:+0100
TZOFFSETTO:+0200
TZNAME:CEST
DTSTART:20260329T010000
END:DAYLIGHT
BEGIN:STANDARD
TZOFFSETFROM:+0200
TZOFFSETTO:+0100
TZNAME:CET
DTSTART:20261025T010000
END:STANDARD
BEGIN:DAYLIGHT
TZOFFSETFROM:+0100
TZOFFSETTO:+0200
TZNAME:CEST
DTSTART:20270328T010000
END:DAYLIGHT
BEGIN:STANDARD
TZOFFSETFROM:+0200
TZOFFSETTO:+0100
TZNAME:CET
DTSTART:20271031T010000
END:STANDARD
END:VTIMEZONE
BEGIN:VEVENT
DTSTART;TZID=Europe/Prague:20260514T093000
DTEND;TZID=Europe/Prague:20260517T160000
DTSTAMP:20260422T162839
CREATED:20260327T094637Z
LAST-MODIFIED:20260413T103633Z
UID:11186-1778751000-1779033600@pragueliterarycalendar.com
SUMMARY:Svět knihy Praha '26
DESCRIPTION:📖 31. ročník mezinárodního knižního veletrhu a literárního festivalu Svět knihy Praha se pomalu\, ale jistě blíží! \nNa všechny příznivce literatury se těšíme 14. – 17. května na Výstavišti Praha v Holešovicích. Jako každý rok připravujeme bohatý program\, zajímavé besedy\, autogramiády\, setkání s vašimi oblíbenými spisovateli a spisovatelkami. \nProgram se zaměří na tři vzájemně propojená témata – Evropu\, historii a literaturu jako hlas svobody. Dramaturgický koncept vychází z citátu Milana Kundery „Boj člověka proti moci je bojem paměti proti zapomínání“ a reflektuje roli literatury v době společenských i politických proměn. Festival představí domácí i zahraniční nakladatele a bohatý mezinárodní program. Novinkou letošního ročníku bude Svět knihy Plus\, nedělní odpolední programový blok propojující literaturu s dalšími formami umění. \nTěšíme se na vás!____________________ \nDůležité informace: 14. – 17. května 2026 Výstaviště Praha / Křižíkovy pavilony / Praha 7 – Holešovice Vstupenky: http://bit.ly/3P0XHii
URL:https://pragueliterarycalendar.com/calendar/svet-knihy-praha-26/
LOCATION:Výstaviště 67\, 170 00\, Výstaviště 67\, 170 00
CATEGORIES:Book Launch,Festival
END:VEVENT
BEGIN:VEVENT
DTSTART;TZID=Europe/Prague:20260523T100000
DTEND;TZID=Europe/Prague:20260523T180000
DTSTAMP:20260422T162839
CREATED:20260330T103258Z
LAST-MODIFIED:20260331T130755Z
UID:11250-1779530400-1779559200@pragueliterarycalendar.com
SUMMARY:Papír Fest Jaro 2026
DESCRIPTION:🎨 Papír Fest – jarní edice s rozšířeným prostorem! \nOblíbený festival lokální papírenské tvorby se vrací se svou jarní edicí! 📝 Kdy: sobota 23. května 2026📍 Kde: WPP Campus\, Bubenská 1\, Praha 7 \nPro letošní ročník jsme festivalový prostor rozšířili o hlavní foyer\, takže vás čeká více místa a pohodlí při objevování všech papírových pokladů. \nNa festivalu budete moci prozkoumat tvorbu desítek lokálních tvůrců\, ilustrátorů a značek – představí vám vše od diářů a zápisníků přes přání\, tisky a samolepky až po originální balicí papíry\, psací potřeby a další kreativní nezbytnosti. \nSoučástí programu budou také workshopy pro děti i dospělé\, kde si návštěvníci můžou vyzkoušet různé výtvarné a papírenské techniky. \nNebude chybět ani skvělé občerstvení – o vaše chuťové zážitky se postarají např. oblíbená Etapa nebo Kobliha Brno. ☕🥐 \nPřijďte si užít den plný inspirace a kreativní atmosféry! \n🌐 Pro více info sledujte: http://www.papirfest.cz
URL:https://pragueliterarycalendar.com/calendar/papir-fest-jaro-2026/
LOCATION:Bubenská 1477/1\, 170 00 Praha\, Česko\, Bubenská 1477/1\, 170 00 Praha\, Česko
CATEGORIES:Festival,Workshop,Writing
ORGANIZER;CN="Pap%C3%ADr Fest":MAILTO:noreply@facebookmail.com
END:VEVENT
BEGIN:VEVENT
DTSTART;TZID=Europe/Prague:20260523T110000
DTEND;TZID=Europe/Prague:20260523T140000
DTSTAMP:20260422T162839
CREATED:20260413T103423Z
LAST-MODIFIED:20260413T104939Z
UID:11858-1779534000-1779544800@pragueliterarycalendar.com
SUMMARY:Anarchistický festival knihy
DESCRIPTION:Anarchistický festival knihy bude letos po delší době jednodenní a uskuteční se v sobotu 23. května 2026 na pražské Štvanici\, v prostorách klubů Bike Jesus a Fuchs2. \nJiž tradičně se na něm představí vydavatelé a distributoři anarchistické literatury nejen z Česka a Slovenska\, ale i ze zahraničí. Festival není jen prodejní prezentací knih a literatury. Je především místem setkávání\, kde můžete tváří v tvář potkat nejen malé vydavatele a autory\, ale i nejrůznější organizace\, kolektivy a uskupení z širšího okruhu antiautoritářského hnutí. Místem\, kde se lze seznámit s lidmi z masa a kostí a poznat tak organizace a kolektivy jinak\, než z prohlášení na webových stránkách\, místem\, kde lze navázat nové vztahy a přátelství\, místem\, kde lze domlouvat nové projekty a spolupráci. \nNa bookfair naváže hudební program v klubu Bike Jesus. \nInformace o přednáškách\, workshopech a vystupujících budeme přidávat postupně.  \nxxxxxxxxxxxxxxxxxxxxxxxxxxxxxxxxxxxxxxxxxxxxxxxxxxxxxxxxxxxxxxxThis year\, after some time\, the Anarchist Bookfair will be a one-day event and will take place on Saturday\, May 23\, 2026\, at Štvanice in Prague\, in the premises of the Bike Jesus and Fuchs2 clubs. \nAs usual\, publishers and distributors of anarchist literature not only from Czechia and Slovakia\, but also from abroad will be present. The festival is not just a sales presentation of books and literature. It is primarily a meeting place where you can meet not only small publishers and authors face to face\, but also various organizations\, collectives\, and groups from the wider anti-authoritarian movement. It is a place where you can meet real people and get to know organizations and collectives in a different way than from statements on websites\, a place where you can establish new relationships and friendships\, a place where you can discuss new projects and collaborations. \nThe bookfair will be followed by a music program at the Bike Jesus club. \nWe will be adding information about lectures\, workshops\, and performers as it becomes available.
URL:https://pragueliterarycalendar.com/calendar/anarchisticky-festival-knihy/
LOCATION:Ostrov Štvanice\, 170 00 Praha\, Česko\, Ostrov Štvanice\, 170 00 Praha\, Česko
CATEGORIES:Festival
END:VEVENT
BEGIN:VEVENT
DTSTART;TZID=Europe/Prague:20260526T150000
DTEND;TZID=Europe/Prague:20260526T180000
DTSTAMP:20260422T162839
CREATED:20260413T124741Z
LAST-MODIFIED:20260413T124835Z
UID:11907-1779807600-1779818400@pragueliterarycalendar.com
SUMMARY:Cena Tvůrčí Afriky 2026
DESCRIPTION:Festival Tvůrčí Afrika už dvacet dva let propojuje české a africké umělce a propaguje africké a karibské kultury v České republice. U příležitosti oslav Mezinárodního dne Afriky a ve spolupráci s africkými ambasádami akreditovanými v Praze je nám ctí ocenit Cenou Tvůrčí Afriky francouzskou teatroložku Sylvie Chalaye\, specialistku na frankofonní subsaharské dramaturgie\, dramatika\, spisovatele a básníka z Martiniku Alfreda Alexandra\, publicistku a dramaturgyni Janu Paterovou a herce Maxima Mededu\, v Čechách usazeného Beninčana. \nCeny Tvůrčí Afriky předá ředitelka festivalu Lucie Němečková společně s doyenkou afrických ambasád v České republice\, velvyslankyní Jihoafrické republiky\, J.E. paní Mosou Ditty Sejosingoe. \nCeremoniál proběhne v angličtině a francouzštině\, s tlumočením do češtiny.
URL:https://pragueliterarycalendar.com/calendar/cena-tvurci-afriky-2026/
LOCATION:Knihovna Václava Havla\, Ostrovní 13\, Praha\, Knihovna Václava Havla\, Ostrovní 13\, Praha
CATEGORIES:Festival,Music,Performance
ORGANIZER;CN="Knihovna V%C3%A1clava Havla":MAILTO:noreply@facebookmail.com
END:VEVENT
END:VCALENDAR