BEGIN:VCALENDAR
VERSION:2.0
PRODID:-//The Prague Literary Calendar - ECPv6.15.20//NONSGML v1.0//EN
CALSCALE:GREGORIAN
METHOD:PUBLISH
X-WR-CALNAME:The Prague Literary Calendar
X-ORIGINAL-URL:https://pragueliterarycalendar.com
X-WR-CALDESC:Events for The Prague Literary Calendar
REFRESH-INTERVAL;VALUE=DURATION:PT1H
X-Robots-Tag:noindex
X-PUBLISHED-TTL:PT1H
BEGIN:VTIMEZONE
TZID:Europe/Prague
BEGIN:DAYLIGHT
TZOFFSETFROM:+0100
TZOFFSETTO:+0200
TZNAME:CEST
DTSTART:20250330T010000
END:DAYLIGHT
BEGIN:STANDARD
TZOFFSETFROM:+0200
TZOFFSETTO:+0100
TZNAME:CET
DTSTART:20251026T010000
END:STANDARD
BEGIN:DAYLIGHT
TZOFFSETFROM:+0100
TZOFFSETTO:+0200
TZNAME:CEST
DTSTART:20260329T010000
END:DAYLIGHT
BEGIN:STANDARD
TZOFFSETFROM:+0200
TZOFFSETTO:+0100
TZNAME:CET
DTSTART:20261025T010000
END:STANDARD
BEGIN:DAYLIGHT
TZOFFSETFROM:+0100
TZOFFSETTO:+0200
TZNAME:CEST
DTSTART:20270328T010000
END:DAYLIGHT
BEGIN:STANDARD
TZOFFSETFROM:+0200
TZOFFSETTO:+0100
TZNAME:CET
DTSTART:20271031T010000
END:STANDARD
END:VTIMEZONE
BEGIN:VEVENT
DTSTART;TZID=Europe/Prague:20260331T183000
DTEND;TZID=Europe/Prague:20260331T203000
DTSTAMP:20260422T162652
CREATED:20260324T113051Z
LAST-MODIFIED:20260331T130459Z
UID:10789-1774981800-1774989000@pragueliterarycalendar.com
SUMMARY:CRAFT WHILE LEARNING CZECH: Paper bouquets
DESCRIPTION:Join us for a fun craft event where you get to know new people and practice czech! \nWe are more than excited to try out our newest concept: Czech Craft Club! \nThis is not a Czech course but we will provide plenty of opportunities to pick up on new craft and related vocabulary. Low pressure\, social and creative language exposure. Come listen to some czech and maybe even speaking some with your fellow crafters. \nAll levels welcome! \nThis spring edition we’ll be making paper bouquets.  \nThe event is hosted by expat organisation something new and local Czech artist Alžběta Procházkova. A match made in heaven 💘 \nCurious? Sign up! \nTicket: 300kc – (All inclusive\, craft materials and prints provided)Reservations: https://connect.boomevents.org/en/somethingnew-uqvwe/craft-while-learning-czech-crafty-animals-docxz
URL:https://pragueliterarycalendar.com/calendar/craft-while-learning-czech-paper-bouquets/
LOCATION:Cože?\, Cože?
CATEGORIES:Craft,Learn Czech
ORGANIZER;CN="Somethingnew":MAILTO:noreply@facebookmail.com
END:VEVENT
END:VCALENDAR