BEGIN:VCALENDAR
VERSION:2.0
PRODID:-//The Prague Literary Calendar - ECPv6.15.20//NONSGML v1.0//EN
CALSCALE:GREGORIAN
METHOD:PUBLISH
X-WR-CALNAME:The Prague Literary Calendar
X-ORIGINAL-URL:https://pragueliterarycalendar.com
X-WR-CALDESC:Events for The Prague Literary Calendar
REFRESH-INTERVAL;VALUE=DURATION:PT1H
X-Robots-Tag:noindex
X-PUBLISHED-TTL:PT1H
BEGIN:VTIMEZONE
TZID:Europe/Prague
BEGIN:DAYLIGHT
TZOFFSETFROM:+0100
TZOFFSETTO:+0200
TZNAME:CEST
DTSTART:20250330T010000
END:DAYLIGHT
BEGIN:STANDARD
TZOFFSETFROM:+0200
TZOFFSETTO:+0100
TZNAME:CET
DTSTART:20251026T010000
END:STANDARD
BEGIN:DAYLIGHT
TZOFFSETFROM:+0100
TZOFFSETTO:+0200
TZNAME:CEST
DTSTART:20260329T010000
END:DAYLIGHT
BEGIN:STANDARD
TZOFFSETFROM:+0200
TZOFFSETTO:+0100
TZNAME:CET
DTSTART:20261025T010000
END:STANDARD
BEGIN:DAYLIGHT
TZOFFSETFROM:+0100
TZOFFSETTO:+0200
TZNAME:CEST
DTSTART:20270328T010000
END:DAYLIGHT
BEGIN:STANDARD
TZOFFSETFROM:+0200
TZOFFSETTO:+0100
TZNAME:CET
DTSTART:20271031T010000
END:STANDARD
END:VTIMEZONE
BEGIN:VEVENT
DTSTART;TZID=Europe/Prague:20260426T160000
DTEND;TZID=Europe/Prague:20260426T190000
DTSTAMP:20260420T140635
CREATED:20260413T103402Z
LAST-MODIFIED:20260413T104517Z
UID:11855-1777219200-1777230000@pragueliterarycalendar.com
SUMMARY:SONG WRITING WORKSHOP
DESCRIPTION:Songwriting Workshop📅26.04⏰ 16:00 – 18:00📍 ŽižkovšiškaHusitská 888/11PragueWhat you will learn🎼 How real songs are structuredUnderstand verse\, pre-chorus\, chorus and emotional flow.✍️ How to write lyrics that feel realTurn emotions and ideas into strong lines and hooks.🎤 How to create melodies over musicLearn simple techniques to build melody on instrumental tracks.🎧 How producers shape a songUnderstand demo creation and basic song direction.🤝 Creative group exercisesWrite and perform short song ideas together. \n⚡ Limited capacity \nRegistration contact:📞 +420 722 235 883
URL:https://pragueliterarycalendar.com/calendar/song-writing-workshop/
LOCATION:žižkovšiška\, žižkovšiška
CATEGORIES:Music,Workshop,Writing
END:VEVENT
END:VCALENDAR