BEGIN:VCALENDAR
VERSION:2.0
PRODID:-//The Prague Literary Calendar - ECPv6.15.20//NONSGML v1.0//EN
CALSCALE:GREGORIAN
METHOD:PUBLISH
X-WR-CALNAME:The Prague Literary Calendar
X-ORIGINAL-URL:https://pragueliterarycalendar.com
X-WR-CALDESC:Events for The Prague Literary Calendar
REFRESH-INTERVAL;VALUE=DURATION:PT1H
X-Robots-Tag:noindex
X-PUBLISHED-TTL:PT1H
BEGIN:VTIMEZONE
TZID:Europe/Prague
BEGIN:DAYLIGHT
TZOFFSETFROM:+0100
TZOFFSETTO:+0200
TZNAME:CEST
DTSTART:20250330T010000
END:DAYLIGHT
BEGIN:STANDARD
TZOFFSETFROM:+0200
TZOFFSETTO:+0100
TZNAME:CET
DTSTART:20251026T010000
END:STANDARD
BEGIN:DAYLIGHT
TZOFFSETFROM:+0100
TZOFFSETTO:+0200
TZNAME:CEST
DTSTART:20260329T010000
END:DAYLIGHT
BEGIN:STANDARD
TZOFFSETFROM:+0200
TZOFFSETTO:+0100
TZNAME:CET
DTSTART:20261025T010000
END:STANDARD
BEGIN:DAYLIGHT
TZOFFSETFROM:+0100
TZOFFSETTO:+0200
TZNAME:CEST
DTSTART:20270328T010000
END:DAYLIGHT
BEGIN:STANDARD
TZOFFSETFROM:+0200
TZOFFSETTO:+0100
TZNAME:CET
DTSTART:20271031T010000
END:STANDARD
END:VTIMEZONE
BEGIN:VEVENT
DTSTART;TZID=Europe/Prague:20260507T100000
DTEND;TZID=Europe/Prague:20260507T130000
DTSTAMP:20260420T153329
CREATED:20260413T103820Z
LAST-MODIFIED:20260413T104705Z
UID:11881-1778148000-1778158800@pragueliterarycalendar.com
SUMMARY:Proud barev a hudba – jarní - kurz mezi ateliérem a krajinou
DESCRIPTION:CZ – ENG – ESP ↓↓↓↓ \nJaro zve ven. Barvy se probouzejí — a něco v nás s nimi. \nZvu vás na prožitkový malířský kurz\, kde se setkává ticho ateliéru s otevřeností krajiny – Stromovky (přímo vedle ateliéru\, bez nutnosti dojíždění). \nBudeme malovat\, vnímat a zpomalovat.Ne hledat správnost\, ale kontakt — se sebou\, s barvou\, s prostorem kolem nás. \n❤️‍🔥 Co vás čeká• 5 čtvrtečních setkání• Malba v ateliéru i venku v parku Stromovka (přímo vedle ateliéru)• Prostor pro ticho\, hudbu i spontánní tvorbu• Jemné vedení\, bez hodnocení a tlaku• Práce s barvou\, tvarem\, vrstvami a vnímánímKurz je otevřený všem dospělým (nebo mladí od 14let)— bez předchozí zkušenosti. \n🗓 Termíny7/5 – ateliér (2 hodiny)14/5 – Stromovka (cca 3–4 hodiny)21/5 – ateliér (2 hodiny)28/5 – Stromovka (cca 3–4 hodiny)4/6 – ateliér (2 hodiny\, závěr)🕒 Časy: 10:00–12:00 nebo 17:30–19:30(u venkovních setkání bude čas mírně prodloužen – domluvíme detaily na prvním setkání) \n📍 Atelier Množina + park StromovkaCelkový rozsah: cca 12–14 hodin🎨 Cena5400 Kč(včetně veškerého materiálu\, čaje a malého občerstvení) \n🌺 PřihlášeníStačí napsat zprávu nebo e-mail.Počet míst je omezený\, aby zůstal prostor pro klidnou atmosféru a individuální přístup. \nProvází: Laura Victoria Delgado(malba jako prostor pro vnímání\, prožitek a způsob sebevyjádření i vztahu k sobě a okolí)lavitoka@gmail.com \n——-EN \nSpring calls us outside.Colors awaken — and something within us awakens with them. \nI invite you to an experiential painting course where the quiet of the studio meets the openness of the landscape — Stromovka (just next to the studio\, no need to travel). \nWe will paint\, perceive\, and slow down.Not searching for correctness\, but for connection — with ourselves\, with color\, with the space around us. \n❤️‍🔥 What awaits you• 5 Thursday sessions• Painting both in the studio and outdoors in Stromovka park (right next to the studio)• Space for silence\, music\, and spontaneous creation• Gentle guidance\, without judgment or pressure• Working with color\, form\, layers\, and perceptionThe course is open to all adults (kids possible from 14y)— no previous experience needed. \n🗓 Dates7/5 – studio (2 hours)14/5 – Stromovka (approx. 3–4 hours)21/5 – studio (2 hours)28/5 – Stromovka (approx. 3–4 hours)4/6 – studio (2 hours\, closing session) \n🕒 Time: 10:00–12:00 or 17:30–19:30(outdoor sessions will be slightly longer — details will be arranged in the first meeting) \n📍 Atelier Množina + Stromovka park📌 Total duration: approx. 12–14 hours🎨 Price5400 CZK(including all materials\, tea\, and light refreshments) \n🌺 RegistrationJust send a message or email.The number of places is limited to keep a calm atmosphere and allow for individual attention. \nThe course is guided by:Laura Victoria Delgado (painting as a space for perception\, experience\, and a gentle way of self-expression and connection to oneself and the world around)📩 lavitoka@gmail.com \n—–ES \nTe invito a un curso de pintura experiencial donde el trabajo del taller se encuentra con la apertura de la naturaleza — Stromovka (justo al lado del taller\, sin necesidad de desplazarse mucho). \nVamos a pintar\, a percibir y a desacelerar. No buscando la corrección\, sino el contacto — con uno mismo\, con el color\, con el espacio que nos rodea. \n❤️‍🔥 Qué te espera• 5 encuentros (los jueves en la mañana o en la tarde)• Pintura tanto en el taller como al aire libre en el parque Stromovka (justo al lado del taller)• Espacio para el silencio\, la música y la creación espontánea• Acompañamiento suave\, sin juicio ni presión• Trabajo con el color\, la forma\, las capas y la percepciónEl curso está abierto a todas las personas adultas o jóvenes desde 14 años— no se requiere experiencia previa. \n🗓 Fechas7/5 – taller (2 horas)14/5 – Stromovka (aprox. 3–4 horas)21/5 – taller (2 horas)28/5 – Stromovka (aprox. 3–4 horas)4/6 – taller (2 horas\, cierre) \n🕒 Horarios: 10:00–12:00 o 17:30–19:30(las sesiones al aire libre serán un poco más largas — se concretarán los detalles en el primer encuentro)📍 Atelier Množina + parque Stromovka📌 Duración total: aprox. 12–14 horas🎨 Precio5400 Kč(incluye todos los materiales\, té y un pequeño refrigerio) \n🌺 InscripciónBasta con enviar un mensaje o un correo electrónico.El número de plazas es limitado para mantener un ambiente tranquilo y un acompañamiento cercano.El curso está guiado por:Laura Victoria Delgado(la pintura como un espacio de percepción\, experiencia y una forma de expresión y de relación con uno mismo y con el entorno)📩 lavitoka@gmail.com \nhttps://www.facebook.com/events/4363585350524351/?event_time_id=4363585353857684
URL:https://pragueliterarycalendar.com/calendar/proud-barev-a-hudba-jarni-kurz-mezi-atelierem-a-krajinou/
LOCATION:Online Event\, Online Event
CATEGORIES:Improv,Music,Performance
END:VEVENT
END:VCALENDAR