BEGIN:VCALENDAR
VERSION:2.0
PRODID:-//The Prague Literary Calendar - ECPv6.15.20//NONSGML v1.0//EN
CALSCALE:GREGORIAN
METHOD:PUBLISH
X-ORIGINAL-URL:https://pragueliterarycalendar.com
X-WR-CALDESC:Events for The Prague Literary Calendar
REFRESH-INTERVAL;VALUE=DURATION:PT1H
X-Robots-Tag:noindex
X-PUBLISHED-TTL:PT1H
BEGIN:VTIMEZONE
TZID:Europe/Prague
BEGIN:DAYLIGHT
TZOFFSETFROM:+0100
TZOFFSETTO:+0200
TZNAME:CEST
DTSTART:20250330T010000
END:DAYLIGHT
BEGIN:STANDARD
TZOFFSETFROM:+0200
TZOFFSETTO:+0100
TZNAME:CET
DTSTART:20251026T010000
END:STANDARD
BEGIN:DAYLIGHT
TZOFFSETFROM:+0100
TZOFFSETTO:+0200
TZNAME:CEST
DTSTART:20260329T010000
END:DAYLIGHT
BEGIN:STANDARD
TZOFFSETFROM:+0200
TZOFFSETTO:+0100
TZNAME:CET
DTSTART:20261025T010000
END:STANDARD
BEGIN:DAYLIGHT
TZOFFSETFROM:+0100
TZOFFSETTO:+0200
TZNAME:CEST
DTSTART:20270328T010000
END:DAYLIGHT
BEGIN:STANDARD
TZOFFSETFROM:+0200
TZOFFSETTO:+0100
TZNAME:CET
DTSTART:20271031T010000
END:STANDARD
END:VTIMEZONE
BEGIN:VEVENT
DTSTART;TZID=Europe/Prague:20260419T140000
DTEND;TZID=Europe/Prague:20260419T170000
DTSTAMP:20260420T111647
CREATED:20260413T103340Z
LAST-MODIFIED:20260413T104429Z
UID:11852-1776607200-1776618000@pragueliterarycalendar.com
SUMMARY:Table Mountain String Band near Tiny Teahouse - busking edition
DESCRIPTION:We are delighted to invite you folks to another semi-acoustic busking gig near the Tiny Teahouse in Letná park.  \nTable Mountain String Band is a four-piece group based out of Prague\, playing high-energy\, driving old-time American fiddle tunes and folk songs. The band gets its name from an area not far from where Nick Jennings grew up\, in Northern California. He fronts the group\, playing clawhammer banjo\, along with his wife Eliška Jennings\, a native of Prague\, on guitar. The couple’s intertwined vocal harmonies and strong rhythms lay the groundwork for the band. \nThey are joined by Ludvík Jacek\, also from Prague\, who has played fiddle from an early age\, developing a versatile and enchanting sound. Hailing from Moravia\, Petr Pijáček brings a solid foundation in Moravian folklore to the group. His dancing bass lines fill out their sound and hold it all together. \nhttps://tablemountainstringband.com
URL:https://pragueliterarycalendar.com/calendar/table-mountain-string-band-near-tiny-teahouse-busking-edition/
LOCATION:The Teahouse Collective\, The Teahouse Collective
CATEGORIES:Music,Performance
END:VEVENT
BEGIN:VEVENT
DTSTART;TZID=Europe/Prague:20260408T190000
DTEND;TZID=Europe/Prague:20260408T220000
DTSTAMP:20260420T111647
CREATED:20260320T172509Z
LAST-MODIFIED:20260331T131453Z
UID:10488-1775674800-1775685600@pragueliterarycalendar.com
SUMMARY:Inner Spaces Prague vol. 12 - art gathering 💫
DESCRIPTION:Inner Spaces is a safe space for artists to share. It is a monthly gathering where four artists of all kinds (poetry\, visual arts\, music\, fashion\, dance\, …) present both their work and the process behind it. An honest dialogue between the artists and the audience then emerges. It is a place to share\, feel encouraged\, and get inspired. It’s a way to quickly and deeply step outside your usual bubble. And\, of course\, a place to connect with other creative and curious souls. \nThe project originates in Lisbon and was brought to Prague in April 2025. Since then\, it has hosted 11 magical evenings with different artists in different spaces and\, most importantly\, created a space for both established and emerging artists to share.Join us this evening – get inspired and become part of the Inner Spaces community. 💫 \n📍 Kampus Hybernská – C.0 Čítarna⏳ Doors open 18:45\, Start 19:00🌿 Free entry\, donations welcome \n🔮 See you there?#innerspacesprague #creativecommunity #pragueevents #artgathering #poetryprague #hyb4 #kampushybernska \nPart of @inner_spaces_lisbon by Iva Divic
URL:https://pragueliterarycalendar.com/calendar/inner-spaces-prague-vol-12-art-gathering-%f0%9f%92%ab/
LOCATION:Kampus Hybernská\, Kampus Hybernská
CATEGORIES:Make Connections,Music,Performance,Poetry,Storytelling
END:VEVENT
BEGIN:VEVENT
DTSTART;TZID=Europe/Prague:20260328T173000
DTEND;TZID=Europe/Prague:20260328T203000
DTSTAMP:20260420T111647
CREATED:20260323T174354Z
LAST-MODIFIED:20260331T131454Z
UID:10731-1774719000-1774729800@pragueliterarycalendar.com
SUMMARY:SOUL A SANZA - Conte poétique et musical
DESCRIPTION:SOUL A SANZA est un conte poétique et musical\, issu de l’adapation du Recueil de Poèmes ‘SOUL A SANZA’.Ce conte met en scène un voyage initiatique à travers la poésie\, la puissance des mots et le chant.Les rythmes de l ‘instrument de musique SANZA\, nous accompagnent tout au long de la narration du conte.
URL:https://pragueliterarycalendar.com/calendar/soul-a-sanza-conte-poetique-et-musical/
LOCATION:Boudoir u sta rán\, Boudoir u sta rán
CATEGORIES:Music,Performance,Poetry
END:VEVENT
BEGIN:VEVENT
DTSTART;TZID=Europe/Prague:20260327T200000
DTEND;TZID=Europe/Prague:20260327T230000
DTSTAMP:20260420T111647
CREATED:20260327T093009Z
LAST-MODIFIED:20260331T131454Z
UID:11108-1774641600-1774652400@pragueliterarycalendar.com
SUMMARY:WHEELS & BEATS
DESCRIPTION:Skate partyyyy 🚨 1st edition of WHEELS & BEATS with DJ LEDET & roller dance warm up with VERONISKATES is here!  \nProgram: 20:00-20:30 roller dance warm up with @veroniskates 20:30-00:00 your fav skate DJ LEDET @ledet_dumonde  \nEntry fee: 250 CZK 📍 @roller_rink_prague (Vinohradská 25) skate rental is available 🛼 \nBring your friends\, come dance\, skate\, or just hang out and listen to some good tunes! 🎶
URL:https://pragueliterarycalendar.com/calendar/wheels-beats/
LOCATION:Vinohradská 35/25 \, 12000 Prague\, Czech Republic\, Vinohradská 35/25 \, 12000 Prague\, Czech Republic
CATEGORIES:Movement,Music,Performance
END:VEVENT
BEGIN:VEVENT
DTSTART;TZID=Europe/Prague:20260327T193000
DTEND;TZID=Europe/Prague:20260327T223000
DTSTAMP:20260420T111647
CREATED:20260323T165601Z
LAST-MODIFIED:20260331T131454Z
UID:10729-1774639800-1774650600@pragueliterarycalendar.com
SUMMARY:Shabaaz Mystik Live – A Night of Hip-Hop\, Soul\, Rumba & Jazz
DESCRIPTION:Originating from the Congo\, Shabaaz Mystik is a visionary artist\, poet\, and musician whose unique sound blends Hip-Hop\, Soul\, Rumba\, and Jazz. His music is an emotional journey where poetry\, melody\, and groove come together in a contemporary and unforgettable experience. \nAfter his previous appearances\, Shabaaz Mystik is back in Prague to share his latest creations live! \nHis latest album\, “Graine\,” is more than just music—it’s a sonic ritual. Each track is a seed planted in the hearts and minds of listeners\, exploring themes of rebirth\, memory\, transmission\, and healing. Through “Graine\,” Shabaaz Mystik fuses African musical traditions with modern sounds\, inviting the audience to slow down\, listen deeply\, and let what is planted within grow. \nEvery performance is designed to touch the soul\, inspire reflection\, and ignite movement. Come and experience the magic of Shabaaz Mystik live.https://www.youtube.com/@shabaazmystikhttps://www.instagram.com/shabaazmystik/ \nProgram: 20h30 – Poetical Intro with Marko and Zoe (accordeon)20h50 – Shabaaz Mystik22h30 – DJ Midou – Organic & Ethno Deep House Music \nEntry/ VstupMusic from 20.3ohCash is best for entry fee. Cards are fine to use on the bar.Doors open from 19.30Entry till 19.40pm cheap value ticket for all 100kcAfter that timeStudents & members & regulars 150kčSuccessful Adults 250kč.Hotovost je nejlepší na vstupní poplatek. Karty se dobře používají na baru.Dveře otevřeny od 19.30Vstupdo 19.40h levná vstupenka všem 100kčPo té doběStudenti a členové 150 KčÚspěšní dospělí 250kc
URL:https://pragueliterarycalendar.com/calendar/shabaaz-mystik-live-a-night-of-hip-hop-soul-rumba-jazz/
LOCATION:žižkovšiška\, žižkovšiška
CATEGORIES:Music,Performance,Poetry
ORGANIZER;CN="Poetry by All and for All":MAILTO:noreply@facebookmail.com
END:VEVENT
END:VCALENDAR