BEGIN:VCALENDAR
VERSION:2.0
PRODID:-//The Prague Literary Calendar - ECPv6.15.20//NONSGML v1.0//EN
CALSCALE:GREGORIAN
METHOD:PUBLISH
X-ORIGINAL-URL:https://pragueliterarycalendar.com
X-WR-CALDESC:Events for The Prague Literary Calendar
REFRESH-INTERVAL;VALUE=DURATION:PT1H
X-Robots-Tag:noindex
X-PUBLISHED-TTL:PT1H
BEGIN:VTIMEZONE
TZID:Europe/Prague
BEGIN:DAYLIGHT
TZOFFSETFROM:+0100
TZOFFSETTO:+0200
TZNAME:CEST
DTSTART:20250330T010000
END:DAYLIGHT
BEGIN:STANDARD
TZOFFSETFROM:+0200
TZOFFSETTO:+0100
TZNAME:CET
DTSTART:20251026T010000
END:STANDARD
BEGIN:DAYLIGHT
TZOFFSETFROM:+0100
TZOFFSETTO:+0200
TZNAME:CEST
DTSTART:20260329T010000
END:DAYLIGHT
BEGIN:STANDARD
TZOFFSETFROM:+0200
TZOFFSETTO:+0100
TZNAME:CET
DTSTART:20261025T010000
END:STANDARD
BEGIN:DAYLIGHT
TZOFFSETFROM:+0100
TZOFFSETTO:+0200
TZNAME:CEST
DTSTART:20270328T010000
END:DAYLIGHT
BEGIN:STANDARD
TZOFFSETFROM:+0200
TZOFFSETTO:+0100
TZNAME:CET
DTSTART:20271031T010000
END:STANDARD
END:VTIMEZONE
BEGIN:VEVENT
DTSTART;TZID=Europe/Prague:20260423T190000
DTEND;TZID=Europe/Prague:20260423T220000
DTSTAMP:20260422T135630
CREATED:20260327T093412Z
LAST-MODIFIED:20260331T131431Z
UID:11133-1776970800-1776981600@pragueliterarycalendar.com
SUMMARY:NOISY POTS - křest desky + DJ FLOEX\, special guests TANITA & AIKO
DESCRIPTION:💥 𝗡𝗢𝗜𝗦𝗬 𝗣𝗢𝗧𝗦 \nNoisy Pots v Cafe v Lese pokřtí zbrusu novou desku\, kterou natočili na třech kontinentech spolu s hosty ze zemí od Indie až po Mexiko. \nElektronické taneční duo ve složení Michal Šupák a Jakub Tengler přichází s druhou deskou\, na kterou si přizvali hosty\, které poznali během svých zahraničních turné. Kapela se dostala do povědomí svým originálním zvukem\, který tvoří kýble\, hrnce a další „nástroje“ z kuchyně či garáže spolu s elektronikou\, synthy a vokály.Noisy Pots\, kteří v minulém roce oslavili deset let od svého založení vystoupili např. na Echoes of Earth Goa (IN)\, v klubech v Mexico City\, na Folk Alliance (USA)\, All About Music Mumbai (IN)\, Reeperbahn (DE)\, Seoul Music Week (KOR)\, Trans Musicales de Rennes (FR)\, aj. V Česku mj. zahráli na festivalech Colours of Ostrava\, Rock for People\, Besedě u Bigbítu. \nPrvní nápady k albu vznikly už asi před deseti na soustředění ve starém opuštěném zlínském kině. Od té doby členové prošli spoustou životních změn a procestovali svět\, ať už sami\, či na koncertních šňůrách\, nebo buskerských dobrodružstvích. Odtud název A Trip of Being. \nV Café v Lese uslyšíte živě nové songy z desky\, z nichž některé zazní vůbec popvrvé. Jako speciální hosté se představí zpěvačka Aiko a rapperka Tanita\, o lightshow se postará Matyáš Baierle a o zvuk Amák Golden. \nA Trip of Being vychází na všech streamovacích platformách a na vinylu u labelu Brainzone.  \nAlbum bylo podpořeno OSA.  \nhttps://www.instagram.com/noisypots/?hl=enhttps://open.spotify.com/artist/0kQ8xUyWvyJF1Sm6rIpDSo \n💥 𝗗𝗝 𝗙𝗟𝗢𝗘𝗫 \nDJ Floexservíruje pestrobarevný styl plný energie\, extatických okamžiků\, který neztrácí hloubku ani v rovině taneční hudby. Floexovi sety oscilujímezi elektronikou\, technem\, či deep housem. V nestřežených momentech vás však překvapí novými souvislostmi\, polní Africké nahrávky\, nebo hip hopová balada od Franka Oceana.  \nTomáš Dvořák aka Floex je známý jako producent\, skladatel hudby do her a průkopník elektronické hudby v Čechách. První desku Pocustone vydal již v roce 2001. Jeho nahrávky jsou ceněny u nás i v zahraničí. Poslední deska‘A Portrait Of John Doe’ (2018)\, kterouvydal s Londýnským skladatelem a pianistou Tomem Hodgem\, vyšla na Britském labelu Mercury KX\, který spadá pod legendární Decca Classics. Floexovu hudbu remixoval např. Max Cooper\,Holandští Deltawerk\, nebo Olaf Stuut. Dlouhodobě spolupracuje s herním studiem Amanita Design a podepsal se pod hudbu ke hrám Samorost 2\, Machinarium\, Samorost 3\, Phonopolis. Soundtrack k Machinariu vyvolal obrovský ohlas jak u fanoušků\, tak kritiků z celého světa. \nhttps://soundcloud.com/fwd-dj/fwd123-floexhttps://vimeo.com/281453647 \n💥 𝗧𝗔𝗡𝗜𝗧𝗔 \nTanita Yankova je bulharská zpěvačka\, rapperka\, skladatelka a hudebnice působící v Praze. Momentálně je členkou divadelního souboru God Save the Drama Queen. S Noisy Pots se podílela na projektu Operave spolku Run Operun\, spojujícím operu a techno a pravidelně vystupuje jako host na jejich koncertech.  \n💥 𝗔𝗜𝗞𝗢 \nAiko je energická zpěvačka narozená v Moskvě\, vyrůstající v Česku a aktuálně působící v Londýně\, autorka alba Expiration Date a singlů Power a Daughter of the Sun\, první česká a slovenská tvář projektu Spotify Equal s billboardem na Times Square\, která vystoupila na festivalech jako Sziget či Waves Vienna a postoupila do semifinále Eurovision Song Contest 2024.  \n🌐 VSTUPENKY \nPředprodej vstupenek na TicketLive \n— ENGLISH — \n💥 𝗡𝗢𝗜𝗦𝗬 𝗣𝗢𝗧𝗦 \nNoisy Pots will launch their brand-new album at Café v Lese — a record created across three continents in collaboration with guest artists from countries ranging from India to Mexico.The electronic dance duo\, consisting of Michal Šupák and Jakub Tengler\, returns with their second album\, featuring artists they met during their international tours. \nThe band has gained recognition for their original sound\, built from buckets\, pots\, and other “instruments” from kitchens and garages\, combined with electronics\, synths\, and vocals.Last year\, Noisy Pots celebrated ten years since their formation and performed at events such as Echoes of Earth Goa (IN)\, clubs in Mexico City\, Folk Alliance (USA)\, All About Music Mumbai (IN)\, Reeperbahn (DE)\, Seoul Music Week (KOR)\, Trans Musicales de Rennes (FR)\, and many more. In the Czech Republic\, they have appeared at major festivals including Colours of Ostrava\, Rock for People\, and Beseda u Bigbítu.The first ideas for the album were born nearly ten years ago during a residency in an old abandoned cinema in Zlín. Since then\, the members have experienced many life changes and traveled the world — whether solo\, on tour\, or during busking adventures. Hence the album title: A Trip of Being. \nAt Café v Lese\, you will hear the new tracks performed live\, some of them for the very first time. Special guests include singer Aiko and rapper Tanita\, with light design by Matyáš Baierle and sound by Amák Golden.“A Trip of Being” will be available on all streaming platforms and on vinyl via Brainzone. The album was created with support from OSA. \nInstagram: https://www.instagram.com/noisypots/?hl=enSpotify: https://open.spotify.com/artist/0kQ8xUyWvyJF1Sm6rIpDSo \n💥 𝗗𝗝 𝗙𝗟𝗢𝗘𝗫 \nDJ Floex delivers a vibrant\, high-energy style full of ecstatic moments while maintaining depth within the realm of dance music. His sets oscillate between electronica\, techno\, and deep house. In unguarded moments\, he may surprise you with unexpected connections — field recordings from Africa or even a hip hop ballad by Frank Ocean. \nTomáš Dvořák aka Floex is known as a producer\, game composer\, and a pioneer of electronic music in the Czech Republic. He released his debut album Pocustone in 2001\, and his recordings have received acclaim both at home and abroad.His latest album\, A Portrait Of John Doe (2018)\, created with London-based composer and pianist Tom Hodge\, was released on the British label Mercury KX\, part of the legendary Decca Classics. Floex’s music has been remixed by artists such as Max Cooper\, Dutch duo Deltawerk\, and Olaf Stuut. \nHe has long collaborated with the game studio Amanita Design and composed music for Samorost 2\, Machinarium\, Samorost 3\, and Phonopolis. The soundtrack to Machinarium received widespread acclaim from fans and critics worldwide.SoundCloud: https://soundcloud.com/fwd-dj/fwd123-floexVimeo: https://vimeo.com/281453647 \n💥 𝗧𝗔𝗡𝗜𝗧𝗔 \nTanita Yankova is a Bulgarian singer\, rapper\, songwriter\, and musician based in Prague. She is currently a member of the theatre collective God Save the Drama Queen. With Noisy Pots\, she collaborated on the Operave project by the Run Operun collective\, blending opera and techno\, and regularly performs as a guest at their concerts. \n💥 𝗔𝗜𝗞𝗢 \nAiko is an energetic singer born in Moscow\, raised in the Czech Republic\, and currently based in London. She is the author of the album Expiration Date and the singles Power and Daughter of the Sun. She became the first Czech and Slovak ambassador of the Spotify Equal project\, featured on a Times Square billboard\, has performed at festivals such as Sziget and Waves Vienna\, and reached the semi-finals of Eurovision Song Contest 2024. \n🌐 TICKETS \nTickets available via TicketLive.
URL:https://pragueliterarycalendar.com/calendar/noisy-pots-krest-desky-dj-floex-special-guests-tanita-aiko/
LOCATION:Café V lese\, Café V lese
CATEGORIES:Music,Performance
END:VEVENT
BEGIN:VEVENT
DTSTART;TZID=Europe/Prague:20260424T190000
DTEND;TZID=Europe/Prague:20260424T220000
DTSTAMP:20260422T135630
CREATED:20260407T122422Z
LAST-MODIFIED:20260407T123614Z
UID:11706-1777057200-1777068000@pragueliterarycalendar.com
SUMMARY:𝑽𝒆𝒏𝒖𝒔̌𝒊𝒏𝒂 𝒏𝒐𝒄 ♦︎ 𝑶𝑷𝑬𝑹𝑨𝑽𝑬 + 𝑳𝑬𝑻𝑴𝑶 ♦︎ 𝒑𝒂𝒓𝒕𝒚 𝑽𝒆𝒏𝒖𝒔̌𝒊𝒏𝒚́𝒄𝒉 𝒅𝒏𝒊́
DESCRIPTION:𝑽𝒆𝒏𝒖𝒔̌𝒊𝒏𝒚 𝒅𝒏𝒚 𝒌𝒐𝒏𝒄̌𝒊́ – 𝒔𝒌𝒐𝒓𝒐 – 𝒂 𝒕𝒐 𝒛𝒏𝒂𝒎𝒆𝒏𝒂́҉ ~ ҉~ ҉~ ҉𝙋 ҉𝘼 ҉𝘼 ҉𝘼 ҉𝙍 ҉𝙏 ҉𝙔 ҉𝙔 ҉𝙔 ҉𝙔 ҉~ ҉~ ҉~  \nOslava 11. ročníku svobodné (ženské) tvorby\, odvahy pustit se do neznáma i stát si za svým. Prosecco v akci\, buď božská*božský*božské a pojď řádit. \n⋆ 𝒅𝒓𝒆𝒔𝒔𝒄𝒐𝒅𝒆: 𝑣𝑒𝑚 𝑠𝑖\, 𝑐𝑜 𝑛𝑒𝑣𝑦𝑛𝑜𝑠𝑖́𝑠̌ 𝑗𝑖𝑛𝑎𝑚 ⋆ \n❀ 𝑶𝑷𝑬𝑹𝑨𝑽𝑬 𝒃𝒚 𝑹𝑼𝑵 𝑶𝑷𝑬𝑹𝑼𝑵 ❀ \n✦ 𝑘𝑑𝑦𝑧̌ 𝑛𝑒𝑝𝑟̌𝑖𝑗𝑑𝑒𝑠̌ 𝑛𝑎 𝑜𝑝𝑒𝑟𝑢\, 𝑝𝑟̌𝑖𝑗𝑑𝑒 𝑜𝑝𝑒𝑟𝑎 𝑧𝑎 𝑡𝑒𝑏𝑜𝑢 – 𝑡𝑟̌𝑒𝑏𝑎 𝑘𝑙𝑖𝑑𝑛𝑒̌ 𝑛𝑎 𝑟𝑎𝑣𝑒 ✦ \nNa českou scénu přinášíme něco mezi Berghainem a Bayreuthem. Propojením operních pěvců*kyní\, DJs a atmosféry techna vzniká na pomezí nočního klubu a operního jeviště OPERAVE ×͜×  \nBoříme bariéry mezi honosnou operní kulturou a nočním životem ravů a stavíme na hodnotách\, kdy spolu oba hudební světy můžou fungovat. Tvoříme party\, kde se budete cítit komfortně nezávisle na tom\, jaký žánr je vám bližší ♪ ༘⋆ Nečekej představení ani koncert – přineseme prvky opery na rave tak\, jaký má být. Opera a elektro hudba se stanou rovnocennými partnery. Umělecký kolektiv RUN OPERUN skrze OPERAVE dál přibližuje operu současnému publiku a dokazuje\, že klasická hudba má co říct i lidem mimo jeviště či koncertní síně 𝄞⨾𓍢ִ໋ \nV hlavních rolích se představí: \n❀ B. Va & Kristýna Kůstková: Přední české operní pěvkyně\, které propůjčí své hlasy elektronickým aranžím.❀ Tanita Yanková & Jakub Tengler: DJs a hudebníci\, kteří stojí za originálním a pohlcujícím zvukem celého projektu. \n❀ 𝑳𝑬𝑻𝑴𝑶 ❀ \nMladá autorská kapela z Teplic\, pohybující se na pomezí alternativního popu a indie. Jejich hudba spojuje osobní texty\, chytlavé melodie a hravou\, svobodnou energii\, díky níž si rychle získávají publikum na tuzemské klubové i festivalové scéně. Skupinu tvoří studentské trio Veronika\, Cecílie a Tadeáš\, kteří v roce 2025 vydali své debutové album Bída a lesk\, na němž naplno vyniká jejich osobitý styl i cit pro současný zvuk. 💿🍄🐸 \n❁✿❀❁✿❀❁✿❀❁✿❀❁✿❀❁✿❀❁✿❀❁✿❀ \n❀ 𝑽𝑺𝑻𝑼𝑷𝑵𝑬́❀ \n𝒆𝒂𝒓𝒍𝒚 𝒃𝒊𝒓𝒅: 350 𝒆𝒂𝒓𝒍𝒚 𝒃𝒊𝒓𝒅 – 𝒔𝒕𝒖𝒅𝒆𝒏𝒕𝒔𝒕𝒗𝒐: 190 \n𝒃𝒐𝒉𝒚𝒏𝒆̌: 1000𝒛𝒂́𝒌𝒍𝒂𝒅𝒏𝒊́ 𝒗𝒔𝒕𝒖𝒑𝒏𝒆́: 450𝒔𝒕𝒖𝒅𝒆𝒏𝒕𝒔𝒕𝒗𝒐: 220“𝒃𝒚𝒍𝒙 𝒋𝒔𝒆𝒎 𝒏𝒂 𝒑𝒓̌𝒆𝒅𝒔𝒕𝒂𝒗𝒆𝒏𝒊́ 𝒇𝒆𝒔𝒕𝒊𝒗𝒂𝒍𝒖 𝒂 𝒑𝒓𝒐𝒌𝒂́𝒛̌𝒖 𝒕𝒐 𝒖 𝒑𝒐𝒌𝒍𝒂𝒅𝒏𝒚”: 200 \n❀ 𝑣𝑜𝑙𝑛𝑜𝑠𝑡 – 𝑟𝑜𝑣𝑛𝑜𝑠𝑡 – 𝑠𝑒𝑠𝑡𝑒𝑟𝑠𝑡𝑣𝑖́ ❀
URL:https://pragueliterarycalendar.com/calendar/%f0%9d%91%bd%f0%9d%92%86%f0%9d%92%8f%f0%9d%92%96%f0%9d%92%94%f0%9d%92%8a%f0%9d%92%8f%f0%9d%92%82-%f0%9d%92%8f%f0%9d%92%90%f0%9d%92%84-%e2%99%a6%ef%b8%8e-%f0%9d%91%b6%f0%9d%91%b7%f0%9d%91%ac/
LOCATION:Slavíkova 22\, 13000 Prague\, Czech Republic\, Slavíkova 22\, 13000 Prague\, Czech Republic
CATEGORIES:Music,Performance
END:VEVENT
BEGIN:VEVENT
DTSTART;TZID=Europe/Prague:20260426T160000
DTEND;TZID=Europe/Prague:20260426T190000
DTSTAMP:20260422T135630
CREATED:20260413T103402Z
LAST-MODIFIED:20260413T104517Z
UID:11855-1777219200-1777230000@pragueliterarycalendar.com
SUMMARY:SONG WRITING WORKSHOP
DESCRIPTION:Songwriting Workshop📅26.04⏰ 16:00 – 18:00📍 ŽižkovšiškaHusitská 888/11PragueWhat you will learn🎼 How real songs are structuredUnderstand verse\, pre-chorus\, chorus and emotional flow.✍️ How to write lyrics that feel realTurn emotions and ideas into strong lines and hooks.🎤 How to create melodies over musicLearn simple techniques to build melody on instrumental tracks.🎧 How producers shape a songUnderstand demo creation and basic song direction.🤝 Creative group exercisesWrite and perform short song ideas together. \n⚡ Limited capacity \nRegistration contact:📞 +420 722 235 883
URL:https://pragueliterarycalendar.com/calendar/song-writing-workshop/
LOCATION:žižkovšiška\, žižkovšiška
CATEGORIES:Music,Workshop,Writing
END:VEVENT
BEGIN:VEVENT
DTSTART;TZID=Europe/Prague:20260427T193000
DTEND;TZID=Europe/Prague:20260427T223000
DTSTAMP:20260422T135630
CREATED:20260327T093234Z
LAST-MODIFIED:20260331T131431Z
UID:11122-1777318200-1777329000@pragueliterarycalendar.com
SUMMARY:Metropolis koncert
DESCRIPTION:Prahu čeká mimořádný filmově-hudební zážitek\, jaký svět ještě neviděl! \nVizionářský film Metropolis (1927) režiséra Fritze Langa\, považovaný za jeden z pilířů světové kinematografie\, ožije v nové podobě – s premiérovou symfonickou hudbou z pera Jeffa Beala\, pětinásobného držitele ceny Emmy a autora ikonické hudby k seriálu House of Cards. Pod jeho osobním vedením vytvoří Český národní symfonický orchestr dokonalé propojení živé hudby a nadčasového filmového obrazu. Zvuk\, obraz\, emoce – to vše splyne v jediný okamžik\, který se zapíše do dějin.
URL:https://pragueliterarycalendar.com/calendar/metropolis-koncert/
LOCATION:Hudební divadlo Karlín\, Hudební divadlo Karlín
CATEGORIES:Music,Performance
END:VEVENT
BEGIN:VEVENT
DTSTART;TZID=Europe/Prague:20260428T193000
DTEND;TZID=Europe/Prague:20260428T223000
DTSTAMP:20260422T135630
CREATED:20260327T093935Z
LAST-MODIFIED:20260331T131431Z
UID:11151-1777404600-1777415400@pragueliterarycalendar.com
SUMMARY:Gustavo Santaolalla koncert
DESCRIPTION:Velkolepé finále festivalu s legendou světové hudby! \nDvojnásobný držitel Oscara Gustavo Santaolalla osobně představí své nejslavnější skladby z filmů a her\, které dojaly celý svět – The Last of Us\, Zkrocená hora\, Babel\, Motocyklové deníky a další. V doprovodu Českého národního symfonického orchestru zazní jeho jedinečný hudební rukopis – směs vášně\, hloubky a jihoamerické duše\, která dokáže rozechvět každé srdce. Je to možnost zažít mistrovství skladatele\, který přepisuje dějiny filmové i herní hudby.
URL:https://pragueliterarycalendar.com/calendar/gustavo-santaolalla-koncert/
LOCATION:Hudební divadlo Karlín\, Hudební divadlo Karlín
CATEGORIES:Music,Performance
END:VEVENT
BEGIN:VEVENT
DTSTART;TZID=Europe/Prague:20260430T140000
DTEND;TZID=Europe/Prague:20260502T234500
DTSTAMP:20260422T135630
CREATED:20260327T093813Z
LAST-MODIFIED:20260331T131431Z
UID:11147-1777557600-1777765500@pragueliterarycalendar.com
SUMMARY:United Islands 2026
DESCRIPTION:Festival United Islands se bude v roce 2026 konat po třiaadvacáté!🎉Opět se můžete těšit na hudební objevy z České republiky\, i z celé Evropy a to od 30. dubna do 2. května. Koná se na pražském ostrově Štvanice a pak také v řadě klubů po celé Praze. Během tří dnů vystoupí víc než sto hudebních objevů a chybět nebude ani skvělý doprovodný program\, živé podcasty nebo skvělé jídlo. 🎶 \nFestival i nadále zůstává volně přístupný komukoliv bez potřeby vstupenky. Rádi bychom ale byli ještě svobodnější a nezávislejší\, než jsme teď\, a proto zavádíme dobrovolné vstupné. Na festivalu nadále nebudou žádné turnikety\, kterými budete muset projít. Připravili jsme pro Vás několik kategorií – od symbolického vstupného až po větší podporu. Jestli si koupíte vstupenku“ za kilo\, pětikilo nebo za litr je jen a jen na vás. 💜💛 \n🎟️Dobrovolná vstupenka – https://goout.net/cs/united-islands-2026/szvqvdy/ \nCelý program festivalu najdete na našem webu http://www.unitedislands.cz.Těšíme se na vás!🔥🌞🎵#uiop——————————————————————Sledujte naše kanály\, aby vám neunikla žádná novinka.Web: http://www.unitedislands.cz/csInstagram: http://www.instagram.com/united_islands/X: https://x.com/unitedislandsYouTube: http://www.youtube.com/user/unitedislands
URL:https://pragueliterarycalendar.com/calendar/united-islands-2026/
LOCATION:Ostrov Štvanice\, 170 00 Praha\, Česko\, Ostrov Štvanice\, 170 00 Praha\, Česko
CATEGORIES:Music,Performance
END:VEVENT
END:VCALENDAR