BEGIN:VCALENDAR
VERSION:2.0
PRODID:-//The Prague Literary Calendar - ECPv6.15.20//NONSGML v1.0//EN
CALSCALE:GREGORIAN
METHOD:PUBLISH
X-ORIGINAL-URL:https://pragueliterarycalendar.com
X-WR-CALDESC:Events for The Prague Literary Calendar
REFRESH-INTERVAL;VALUE=DURATION:PT1H
X-Robots-Tag:noindex
X-PUBLISHED-TTL:PT1H
BEGIN:VTIMEZONE
TZID:Europe/Prague
BEGIN:DAYLIGHT
TZOFFSETFROM:+0100
TZOFFSETTO:+0200
TZNAME:CEST
DTSTART:20250330T010000
END:DAYLIGHT
BEGIN:STANDARD
TZOFFSETFROM:+0200
TZOFFSETTO:+0100
TZNAME:CET
DTSTART:20251026T010000
END:STANDARD
BEGIN:DAYLIGHT
TZOFFSETFROM:+0100
TZOFFSETTO:+0200
TZNAME:CEST
DTSTART:20260329T010000
END:DAYLIGHT
BEGIN:STANDARD
TZOFFSETFROM:+0200
TZOFFSETTO:+0100
TZNAME:CET
DTSTART:20261025T010000
END:STANDARD
BEGIN:DAYLIGHT
TZOFFSETFROM:+0100
TZOFFSETTO:+0200
TZNAME:CEST
DTSTART:20270328T010000
END:DAYLIGHT
BEGIN:STANDARD
TZOFFSETFROM:+0200
TZOFFSETTO:+0100
TZNAME:CET
DTSTART:20271031T010000
END:STANDARD
END:VTIMEZONE
BEGIN:VEVENT
DTSTART;TZID=Europe/Prague:20260410T193000
DTEND;TZID=Europe/Prague:20260410T223000
DTSTAMP:20260424T160515
CREATED:20260407T122319Z
LAST-MODIFIED:20260407T122758Z
UID:11699-1775849400-1775860200@pragueliterarycalendar.com
SUMMARY:Literary Lavatory | L'Objet trouvé
DESCRIPTION:We are back baby with the most therapeutic reading in Prague! \nExpect a cozy reading where you can read or share something or you can just sit and appreaciate and critique other people’s texts. \nLook forward to writers’ circle\, group therapy vibes. \nAny language\, any genital\, any genre is welcome! \nSee you on Friday\, April 10\, at 7:30pm!At Jo Blin’s new café\, the lovely L’Objet trouvé\, in Holešovice\, Šternberkova 11.
URL:https://pragueliterarycalendar.com/calendar/literary-lavatory-lobjet-trouve/
LOCATION:L’Objet trouvé\, L'Objet trouvé
CATEGORIES:Author Talks,Poetry,Public Speaking,Storytelling,Writing
END:VEVENT
END:VCALENDAR