BEGIN:VCALENDAR
VERSION:2.0
PRODID:-//The Prague Literary Calendar - ECPv6.15.20//NONSGML v1.0//EN
CALSCALE:GREGORIAN
METHOD:PUBLISH
X-ORIGINAL-URL:https://pragueliterarycalendar.com
X-WR-CALDESC:Events for The Prague Literary Calendar
REFRESH-INTERVAL;VALUE=DURATION:PT1H
X-Robots-Tag:noindex
X-PUBLISHED-TTL:PT1H
BEGIN:VTIMEZONE
TZID:Europe/Prague
BEGIN:DAYLIGHT
TZOFFSETFROM:+0100
TZOFFSETTO:+0200
TZNAME:CEST
DTSTART:20250330T010000
END:DAYLIGHT
BEGIN:STANDARD
TZOFFSETFROM:+0200
TZOFFSETTO:+0100
TZNAME:CET
DTSTART:20251026T010000
END:STANDARD
BEGIN:DAYLIGHT
TZOFFSETFROM:+0100
TZOFFSETTO:+0200
TZNAME:CEST
DTSTART:20260329T010000
END:DAYLIGHT
BEGIN:STANDARD
TZOFFSETFROM:+0200
TZOFFSETTO:+0100
TZNAME:CET
DTSTART:20261025T010000
END:STANDARD
BEGIN:DAYLIGHT
TZOFFSETFROM:+0100
TZOFFSETTO:+0200
TZNAME:CEST
DTSTART:20270328T010000
END:DAYLIGHT
BEGIN:STANDARD
TZOFFSETFROM:+0200
TZOFFSETTO:+0100
TZNAME:CET
DTSTART:20271031T010000
END:STANDARD
END:VTIMEZONE
BEGIN:VEVENT
DTSTART;TZID=Europe/Prague:20260415T190000
DTEND;TZID=Europe/Prague:20260415T220000
DTSTAMP:20260424T144200
CREATED:20260413T103716Z
LAST-MODIFIED:20260413T104202Z
UID:11875-1776279600-1776290400@pragueliterarycalendar.com
SUMMARY:The rise of the far right in Latin America - (Discussion Group)
DESCRIPTION:Open political discussion group in Prague – come and participate! \nTheme: The rise of the far right in Latin America; Why does it keep gaining consensus and captivating public opinion? Why do popular sectors\, which have historically identified with the left\, now see these leaders as an option? \nIn Czechia\, the far right (SPD and Motoristé) already influences the government – “Trumpism” has already arrived in the heart of Europe. But perhaps there is a key difference: While in Czechia politics is framed as “democracy vs authoritarianism\,” in Latin America the phenomenon is much cruder: people perceive that voting does very little – it doesn’t solve hunger\, insecurity\, or precarity. Politics is experienced as a circus\, and the far right capitalizes on that rage by promising to “blow up the system” – as a response to the disillusionment with liberal democracy. \nSome of the hypotheses from the left to explain this phenomenon are as follows: \n1. Crisis of representation and failure of “progressivism” – One of the most solid theses points out that the advance of the far right is\, paradoxically\, the child of the crisis of neoliberalism and the inability of the governments that followed it. \n2. Asymmetric polarization”: rebellion dresses up as the right – It’s a common mistake to believe that rebellion and social rage can only translate into left-wing votes. Faced with popular exhaustion\, figures like Milei\, Kast\, or Bolsonaro channel discontent not against capitalism\, but against “political elites\,” “progressivism\,” or the poor (whom they blame for the crisis)\, constructing an authoritarian and liberal common sense. \n3. The return of the Monroe Doctrine by the United States – Trumpism has launched an offensive to retake undisputed control of the region\, challenge geopolitical powers like China\, and stop any attempt at autonomous integration. The far-right governments are\, in this sense\, the executing arms of this new recolonization. \n4. Neofascism and the culture of “order” – More than populism\, what we see is neofascism. These projects share a common core: authoritarianism\, reactionary nationalism\, the cult of the leader\, and the targeting of “scapegoats” (immigrants\, feminists\, dissidents).  \n5. The Bukele factor: exception or model? – The analysis here is more complex: he is not a classic neoliberal like Milei\, but his government has mutated toward “bourgeois Bonapartism.” His success lies in having broken with the old corrupt political caste and offering tangible results (security) that the Salvadoran left (FMLN) failed to provide\, thus winning the loyalty of broad popular sectors. \n📅 Date: April 15th⏰ Time: 7 PM📍 Location: AC254 / Argentinská 783/18\, Prague. \nAbout us:Asamblea Abierta de Praga is a leftist collective established by migrants and locals in Prague. With our work\, we seek to build broad and plural alliances with other similar groups and people in the city.
URL:https://pragueliterarycalendar.com/calendar/the-rise-of-the-far-right-in-latin-america-discussion-group/
LOCATION:Argentinská 783/18\, 170 00 Praha\, Česko\, Argentinská 783/18\, 170 00 Praha\, Česko
CATEGORIES:Discussion,Make Connections,Public Speaking
END:VEVENT
END:VCALENDAR