BEGIN:VCALENDAR
VERSION:2.0
PRODID:-//The Prague Literary Calendar - ECPv6.15.20//NONSGML v1.0//EN
CALSCALE:GREGORIAN
METHOD:PUBLISH
X-ORIGINAL-URL:https://pragueliterarycalendar.com
X-WR-CALDESC:Events for The Prague Literary Calendar
REFRESH-INTERVAL;VALUE=DURATION:PT1H
X-Robots-Tag:noindex
X-PUBLISHED-TTL:PT1H
BEGIN:VTIMEZONE
TZID:Europe/Prague
BEGIN:DAYLIGHT
TZOFFSETFROM:+0100
TZOFFSETTO:+0200
TZNAME:CEST
DTSTART:20250330T010000
END:DAYLIGHT
BEGIN:STANDARD
TZOFFSETFROM:+0200
TZOFFSETTO:+0100
TZNAME:CET
DTSTART:20251026T010000
END:STANDARD
BEGIN:DAYLIGHT
TZOFFSETFROM:+0100
TZOFFSETTO:+0200
TZNAME:CEST
DTSTART:20260329T010000
END:DAYLIGHT
BEGIN:STANDARD
TZOFFSETFROM:+0200
TZOFFSETTO:+0100
TZNAME:CET
DTSTART:20261025T010000
END:STANDARD
BEGIN:DAYLIGHT
TZOFFSETFROM:+0100
TZOFFSETTO:+0200
TZNAME:CEST
DTSTART:20270328T010000
END:DAYLIGHT
BEGIN:STANDARD
TZOFFSETFROM:+0200
TZOFFSETTO:+0100
TZNAME:CET
DTSTART:20271031T010000
END:STANDARD
END:VTIMEZONE
BEGIN:VEVENT
DTSTART;TZID=Europe/Prague:20260421T193000
DTEND;TZID=Europe/Prague:20260421T223000
DTSTAMP:20260422T150857
CREATED:20260330T143804Z
LAST-MODIFIED:20260331T131431Z
UID:11252-1776799800-1776810600@pragueliterarycalendar.com
SUMMARY:Multilingual Poetry Open Stage + OneHome Projection
DESCRIPTION:”Guilt and anger and fear are part of the problem. If you want to save the world\, save it because you love it!” —Gary Snyder \nJoin us for a special evening of poetry celebrating our beautiful Earth! As usual\, please bring your texts\, your friends\, your love… If possible\, please bring texts about the Earth. \nduring the evening\, you can expect to see multiple projections form the Earth from space\, some commented\, and some that will just be a background for your poems… \nThis project is supported by the Organisation OneHome:”OneHome is a nonprofit initiative with a bold mission: to help every human fall in love with the Earth. Using unique NASA images taken from one and a half million kilometers away by the DSCOVR satellite\, OneHome offers everyone the chance to experience the Overview Effect — that life-changing perspective astronauts describe when they see our planet from space.” \n”You will discover how real images of our planet in motion — whole\, fragile\, and breathtaking — can awaken awe\, responsibility\, and love. Not as a map divided by nations\, but as one luminous home shared by us all. To deepen this experience\, OneHome collaborates with musicians and inspiring voices from around the world\, bringing art and science together in service of the Earth.”
URL:https://pragueliterarycalendar.com/calendar/multilingual-poetry-open-stage-onehome-projection/
LOCATION:Kafe nůžky papír\, Kafe nůžky papír
CATEGORIES:Performance,Poetry,Public Speaking
ORGANIZER;CN="Poetry by All and for All":MAILTO:noreply@facebookmail.com
END:VEVENT
END:VCALENDAR