BEGIN:VCALENDAR
VERSION:2.0
PRODID:-//The Prague Literary Calendar - ECPv6.15.20//NONSGML v1.0//EN
CALSCALE:GREGORIAN
METHOD:PUBLISH
X-ORIGINAL-URL:https://pragueliterarycalendar.com
X-WR-CALDESC:Events for The Prague Literary Calendar
REFRESH-INTERVAL;VALUE=DURATION:PT1H
X-Robots-Tag:noindex
X-PUBLISHED-TTL:PT1H
BEGIN:VTIMEZONE
TZID:Europe/Prague
BEGIN:DAYLIGHT
TZOFFSETFROM:+0100
TZOFFSETTO:+0200
TZNAME:CEST
DTSTART:20250330T010000
END:DAYLIGHT
BEGIN:STANDARD
TZOFFSETFROM:+0200
TZOFFSETTO:+0100
TZNAME:CET
DTSTART:20251026T010000
END:STANDARD
BEGIN:DAYLIGHT
TZOFFSETFROM:+0100
TZOFFSETTO:+0200
TZNAME:CEST
DTSTART:20260329T010000
END:DAYLIGHT
BEGIN:STANDARD
TZOFFSETFROM:+0200
TZOFFSETTO:+0100
TZNAME:CET
DTSTART:20261025T010000
END:STANDARD
BEGIN:DAYLIGHT
TZOFFSETFROM:+0100
TZOFFSETTO:+0200
TZNAME:CEST
DTSTART:20270328T010000
END:DAYLIGHT
BEGIN:STANDARD
TZOFFSETFROM:+0200
TZOFFSETTO:+0100
TZNAME:CET
DTSTART:20271031T010000
END:STANDARD
END:VTIMEZONE
BEGIN:VEVENT
DTSTART;TZID=Europe/Prague:20260525T191500
DTEND;TZID=Europe/Prague:20260525T201500
DTSTAMP:20260420T183839
CREATED:20260414T141721Z
LAST-MODIFIED:20260414T155636Z
UID:12253-1779736500-1779740100@pragueliterarycalendar.com
SUMMARY:Prague Fringe: Pip Utton - Hunchback of Notre Dames
DESCRIPTION:Fringe legend Pip Utton returns to Prague with what he considers to be one of his most beautiful scripts. Quasimodo keeps vigil over the lifeless body of Gypsy dancer\, Esmeralda. This Hunchback is no caricature\, but a sensitive soul;  rejected at birth as an abomination\, raised lovingly by the cathedral’s archdeacon but cast out  by the people of Paris\, because he is misshapen and ugly. He looks down on Paris from his home\, the lofty tower of Notre Dames\, only the bells and gargoyles for company.” Perhaps God doesn’t love me” If Beauty is only skin deep\, isn’t ugliness the same? \n‘Rare and beautiful’ (Three Weeks). ‘Achieves beauty in its simplicity’ (Stage). ‘Beautifully crafted\, absolutely compelling’ (EdinburghGuide.com) \nfar beyond any star rating a reviewer might give’ Theatreparadijs.nl
URL:https://pragueliterarycalendar.com/calendar/prague-fringe-pip-utton-hunchback-of-notre-dames/
LOCATION:A Studio RubÃ­n\, A Studio RubÃ­n
CATEGORIES:Performance,Storytelling,Theatre
ORGANIZER;CN="Prague Fringe Festival":MAILTO:noreply@facebookmail.com
END:VEVENT
BEGIN:VEVENT
DTSTART;TZID=Europe/Prague:20260525T210000
DTEND;TZID=Europe/Prague:20260525T215000
DTSTAMP:20260420T183839
CREATED:20260414T141722Z
LAST-MODIFIED:20260414T160759Z
UID:12259-1779742800-1779745800@pragueliterarycalendar.com
SUMMARY:Prague Fringe: Boxeur
DESCRIPTION:Paris 1946 and the most awaited boxing match of the post-war period. Pick of Catania Fringe – boxing\, courage\, anti-fascism and anti-Nazism\, never give up because the impossible is not forever – Boxeur \n“…strong emotional impact…” InScena\nLoredana Pinto \n“… to reserve to the spectators continuous surprises.” SpettacoliNews_Valeria Prina \n“Detassis holds the stage with great energy\, and manages to bring out the outline characters with a great suggestion\, …” Elena Zeta Grimaldi\nPaneAcquaCulture \n“….singular grace…” Paolo Randazzo_Dramma.it \nSemi-finalist show for the Dante Cappelletti Award 2023\nitaly \nWinner of the regional circuit award 2024_italy \nRETABLO ETS Award at Milano Off Fringe 2024 \nSpecial mention at Dundee Festival at Milano Off Fringe 2024 \nNomination for Thessaloniki Festival at Milano Off Fringe 2024 \nAvignon Le Off Award at Catania Off Fringe 2024
URL:https://pragueliterarycalendar.com/calendar/prague-fringe-boxeur/
LOCATION:Divadlo Inspirace\, Divadlo Inspirace
CATEGORIES:Performance,Storytelling,Theatre
ORGANIZER;CN="Prague Fringe Festival":MAILTO:noreply@facebookmail.com
END:VEVENT
BEGIN:VEVENT
DTSTART;TZID=Europe/Prague:20260526T183000
DTEND;TZID=Europe/Prague:20260526T193000
DTSTAMP:20260420T183839
CREATED:20260414T141726Z
LAST-MODIFIED:20260414T155605Z
UID:12272-1779820200-1779823800@pragueliterarycalendar.com
SUMMARY:Prague Fringe: Pip Utton - Hunchback of Notre Dames
DESCRIPTION:Fringe legend Pip Utton returns to Prague with what he considers to be one of his most beautiful scripts. Quasimodo keeps vigil over the lifeless body of Gypsy dancer\, Esmeralda. This Hunchback is no caricature\, but a sensitive soul;  rejected at birth as an abomination\, raised lovingly by the cathedral’s archdeacon but cast out  by the people of Paris\, because he is misshapen and ugly. He looks down on Paris from his home\, the lofty tower of Notre Dames\, only the bells and gargoyles for company.” Perhaps God doesn’t love me” If Beauty is only skin deep\, isn’t ugliness the same? \n‘Rare and beautiful’ (Three Weeks). ‘Achieves beauty in its simplicity’ (Stage). ‘Beautifully crafted\, absolutely compelling’ (EdinburghGuide.com) \nfar beyond any star rating a reviewer might give’ Theatreparadijs.nl
URL:https://pragueliterarycalendar.com/calendar/prague-fringe-pip-utton-hunchback-of-notre-dames-2/
LOCATION:A Studio RubÃ­n\, A Studio RubÃ­n
CATEGORIES:Performance,Storytelling,Theatre
ORGANIZER;CN="Prague Fringe Festival":MAILTO:noreply@facebookmail.com
END:VEVENT
BEGIN:VEVENT
DTSTART;TZID=Europe/Prague:20260526T184500
DTEND;TZID=Europe/Prague:20260526T193500
DTSTAMP:20260420T183839
CREATED:20260414T141727Z
LAST-MODIFIED:20260414T160744Z
UID:12274-1779821100-1779824100@pragueliterarycalendar.com
SUMMARY:Prague Fringe: Boxeur
DESCRIPTION:Paris 1946 and the most awaited boxing match of the post-war period. Pick of Catania Fringe – boxing\, courage\, anti-fascism and anti-Nazism\, never give up because the impossible is not forever – Boxeur \n“…strong emotional impact…” InScena\nLoredana Pinto \n“… to reserve to the spectators continuous surprises.” SpettacoliNews_Valeria Prina \n“Detassis holds the stage with great energy\, and manages to bring out the outline characters with a great suggestion\, …” Elena Zeta Grimaldi\nPaneAcquaCulture \n“….singular grace…” Paolo Randazzo_Dramma.it \nSemi-finalist show for the Dante Cappelletti Award 2023\nitaly \nWinner of the regional circuit award 2024_italy \nRETABLO ETS Award at Milano Off Fringe 2024 \nSpecial mention at Dundee Festival at Milano Off Fringe 2024 \nNomination for Thessaloniki Festival at Milano Off Fringe 2024 \nAvignon Le Off Award at Catania Off Fringe 2024
URL:https://pragueliterarycalendar.com/calendar/prague-fringe-boxeur-2/
LOCATION:Divadlo Inspirace\, Divadlo Inspirace
CATEGORIES:Performance,Storytelling,Theatre
ORGANIZER;CN="Prague Fringe Festival":MAILTO:noreply@facebookmail.com
END:VEVENT
BEGIN:VEVENT
DTSTART;TZID=Europe/Prague:20260526T213000
DTEND;TZID=Europe/Prague:20260526T222000
DTSTAMP:20260420T183839
CREATED:20260414T141729Z
LAST-MODIFIED:20260414T164907Z
UID:12282-1779831000-1779834000@pragueliterarycalendar.com
SUMMARY:Prague Fringe: Dazed and Confused
DESCRIPTION:Magic seamlessly meets theatre in Lin Lu-Chieh’s engaging autobiographical solo show. Confident and captivating\, this young\, self-taught master of prestidigitation offers up a true and touching coming-of-age story that couples delightful ‘How did he do that?’ sleight-of-hand with warm-hearted observations on the sometimes painful yet often humorous process of growing up. His sincerity and skill shine through. Gently laced with audience participation\, this entertaining and universally relatable performance is about finding yourself by doing what you love. See it and understand just how wondrous and transformative magic can be.
URL:https://pragueliterarycalendar.com/calendar/prague-fringe-dazed-and-confused/
LOCATION:Divadlo Inspirace\, Divadlo Inspirace
CATEGORIES:Performance,Storytelling
ORGANIZER;CN="Prague Fringe Festival":MAILTO:noreply@facebookmail.com
END:VEVENT
BEGIN:VEVENT
DTSTART;TZID=Europe/Prague:20260527T173000
DTEND;TZID=Europe/Prague:20260527T182500
DTSTAMP:20260420T183839
CREATED:20260414T141731Z
LAST-MODIFIED:20260414T165934Z
UID:12289-1779903000-1779906300@pragueliterarycalendar.com
SUMMARY:Prague Fringe: Kaddish (How to be a Sanctuary)
DESCRIPTION:Care to learn how to curse in Yiddish and witness a reckoning between a Jewish grandson going to do solidarity work in Palestine and his long-passed on grandfather who fought the Nazis in World War II? “Kaddish (how to be a sanctury)” premiere at the Edinburgh Fringe in 2025 was met with the prestigious Bobby Award by Broadway Baby who praised its “profound writing\, imaginative staging and precise direction” and its “[invitation] to listen to the moral inheritance of our ancestors.” The play uses the real archival journals of playwright/performer Sam’s grandpa Saul N. Sherman – a Jewish WWII vet from New Jersey and intersperses it with Sam’s own writing.  Sam and his dead grandpa have a conversation about everything from resisting fascism to growing up with mobsters – all with the help of a mystical creature from Yiddish folklore.
URL:https://pragueliterarycalendar.com/calendar/prague-fringe-kaddish-how-to-be-a-sanctuary/
LOCATION:Divadlo Inspirace\, Divadlo Inspirace
CATEGORIES:Journalism,Performance,Storytelling,Theatre
ORGANIZER;CN="Prague Fringe Festival":MAILTO:noreply@facebookmail.com
END:VEVENT
BEGIN:VEVENT
DTSTART;TZID=Europe/Prague:20260527T203000
DTEND;TZID=Europe/Prague:20260527T212000
DTSTAMP:20260420T183839
CREATED:20260414T141735Z
LAST-MODIFIED:20260414T164847Z
UID:12304-1779913800-1779916800@pragueliterarycalendar.com
SUMMARY:Prague Fringe: Dazed and Confused
DESCRIPTION:Magic seamlessly meets theatre in Lin Lu-Chieh’s engaging autobiographical solo show. Confident and captivating\, this young\, self-taught master of prestidigitation offers up a true and touching coming-of-age story that couples delightful ‘How did he do that?’ sleight-of-hand with warm-hearted observations on the sometimes painful yet often humorous process of growing up. His sincerity and skill shine through. Gently laced with audience participation\, this entertaining and universally relatable performance is about finding yourself by doing what you love. See it and understand just how wondrous and transformative magic can be.
URL:https://pragueliterarycalendar.com/calendar/prague-fringe-dazed-and-confused-2/
LOCATION:Divadlo Inspirace\, Divadlo Inspirace
CATEGORIES:Performance,Storytelling
ORGANIZER;CN="Prague Fringe Festival":MAILTO:noreply@facebookmail.com
END:VEVENT
BEGIN:VEVENT
DTSTART;TZID=Europe/Prague:20260528T171500
DTEND;TZID=Europe/Prague:20260528T180500
DTSTAMP:20260420T183839
CREATED:20260414T141737Z
LAST-MODIFIED:20260414T160726Z
UID:12313-1779988500-1779991500@pragueliterarycalendar.com
SUMMARY:Prague Fringe: Boxeur
DESCRIPTION:Paris 1946 and the most awaited boxing match of the post-war period. Pick of Catania Fringe – boxing\, courage\, anti-fascism and anti-Nazism\, never give up because the impossible is not forever – Boxeur \n“…strong emotional impact…” InScena\nLoredana Pinto \n“… to reserve to the spectators continuous surprises.” SpettacoliNews_Valeria Prina \n“Detassis holds the stage with great energy\, and manages to bring out the outline characters with a great suggestion\, …” Elena Zeta Grimaldi\nPaneAcquaCulture \n“….singular grace…” Paolo Randazzo_Dramma.it \nSemi-finalist show for the Dante Cappelletti Award 2023\nitaly \nWinner of the regional circuit award 2024_italy \nRETABLO ETS Award at Milano Off Fringe 2024 \nSpecial mention at Dundee Festival at Milano Off Fringe 2024 \nNomination for Thessaloniki Festival at Milano Off Fringe 2024 \nAvignon Le Off Award at Catania Off Fringe 2024
URL:https://pragueliterarycalendar.com/calendar/prague-fringe-boxeur-3/
LOCATION:Divadlo Inspirace\, Divadlo Inspirace
CATEGORIES:Performance,Storytelling,Theatre
ORGANIZER;CN="Prague Fringe Festival":MAILTO:noreply@facebookmail.com
END:VEVENT
BEGIN:VEVENT
DTSTART;TZID=Europe/Prague:20260529T223000
DTEND;TZID=Europe/Prague:20260529T232500
DTSTAMP:20260420T183839
CREATED:20260414T141749Z
LAST-MODIFIED:20260414T165908Z
UID:12368-1780093800-1780097100@pragueliterarycalendar.com
SUMMARY:Prague Fringe: Kaddish (How to be a Sanctuary)
DESCRIPTION:Care to learn how to curse in Yiddish and witness a reckoning between a Jewish grandson going to do solidarity work in Palestine and his long-passed on grandfather who fought the Nazis in World War II? “Kaddish (how to be a sanctury)” premiere at the Edinburgh Fringe in 2025 was met with the prestigious Bobby Award by Broadway Baby who praised its “profound writing\, imaginative staging and precise direction” and its “[invitation] to listen to the moral inheritance of our ancestors.” The play uses the real archival journals of playwright/performer Sam’s grandpa Saul N. Sherman – a Jewish WWII vet from New Jersey and intersperses it with Sam’s own writing.  Sam and his dead grandpa have a conversation about everything from resisting fascism to growing up with mobsters – all with the help of a mystical creature from Yiddish folklore.
URL:https://pragueliterarycalendar.com/calendar/prague-fringe-kaddish-how-to-be-a-sanctuary-2/
LOCATION:Divadlo Inspirace\, Divadlo Inspirace
CATEGORIES:Journalism,Performance,Storytelling,Theatre
ORGANIZER;CN="Prague Fringe Festival":MAILTO:noreply@facebookmail.com
END:VEVENT
BEGIN:VEVENT
DTSTART;TZID=Europe/Prague:20260530T190000
DTEND;TZID=Europe/Prague:20260530T195000
DTSTAMP:20260420T183839
CREATED:20260414T141751Z
LAST-MODIFIED:20260414T164831Z
UID:12382-1780167600-1780170600@pragueliterarycalendar.com
SUMMARY:Prague Fringe: Dazed and Confused
DESCRIPTION:Magic seamlessly meets theatre in Lin Lu-Chieh’s engaging autobiographical solo show. Confident and captivating\, this young\, self-taught master of prestidigitation offers up a true and touching coming-of-age story that couples delightful ‘How did he do that?’ sleight-of-hand with warm-hearted observations on the sometimes painful yet often humorous process of growing up. His sincerity and skill shine through. Gently laced with audience participation\, this entertaining and universally relatable performance is about finding yourself by doing what you love. See it and understand just how wondrous and transformative magic can be.
URL:https://pragueliterarycalendar.com/calendar/prague-fringe-dazed-and-confused-3/
LOCATION:Divadlo Inspirace\, Divadlo Inspirace
CATEGORIES:Performance,Storytelling
ORGANIZER;CN="Prague Fringe Festival":MAILTO:noreply@facebookmail.com
END:VEVENT
BEGIN:VEVENT
DTSTART;TZID=Europe/Prague:20260530T190000
DTEND;TZID=Europe/Prague:20260530T200000
DTSTAMP:20260420T183839
CREATED:20260414T141752Z
LAST-MODIFIED:20260414T155547Z
UID:12385-1780167600-1780171200@pragueliterarycalendar.com
SUMMARY:Prague Fringe: Pip Utton - Hunchback of Notre Dames
DESCRIPTION:Fringe legend Pip Utton returns to Prague with what he considers to be one of his most beautiful scripts. Quasimodo keeps vigil over the lifeless body of Gypsy dancer\, Esmeralda. This Hunchback is no caricature\, but a sensitive soul;  rejected at birth as an abomination\, raised lovingly by the cathedral’s archdeacon but cast out  by the people of Paris\, because he is misshapen and ugly. He looks down on Paris from his home\, the lofty tower of Notre Dames\, only the bells and gargoyles for company.” Perhaps God doesn’t love me” If Beauty is only skin deep\, isn’t ugliness the same? \n‘Rare and beautiful’ (Three Weeks). ‘Achieves beauty in its simplicity’ (Stage). ‘Beautifully crafted\, absolutely compelling’ (EdinburghGuide.com) \nfar beyond any star rating a reviewer might give’ Theatreparadijs.nl
URL:https://pragueliterarycalendar.com/calendar/prague-fringe-pip-utton-hunchback-of-notre-dames-3/
LOCATION:A Studio RubÃ­n\, A Studio RubÃ­n
CATEGORIES:Performance,Storytelling,Theatre
ORGANIZER;CN="Prague Fringe Festival":MAILTO:noreply@facebookmail.com
END:VEVENT
BEGIN:VEVENT
DTSTART;TZID=Europe/Prague:20260530T204500
DTEND;TZID=Europe/Prague:20260530T214000
DTSTAMP:20260420T183839
CREATED:20260414T141754Z
LAST-MODIFIED:20260414T165852Z
UID:12392-1780173900-1780177200@pragueliterarycalendar.com
SUMMARY:Prague Fringe: Kaddish (How to be a Sanctuary)
DESCRIPTION:Care to learn how to curse in Yiddish and witness a reckoning between a Jewish grandson going to do solidarity work in Palestine and his long-passed on grandfather who fought the Nazis in World War II? “Kaddish (how to be a sanctury)” premiere at the Edinburgh Fringe in 2025 was met with the prestigious Bobby Award by Broadway Baby who praised its “profound writing\, imaginative staging and precise direction” and its “[invitation] to listen to the moral inheritance of our ancestors.” The play uses the real archival journals of playwright/performer Sam’s grandpa Saul N. Sherman – a Jewish WWII vet from New Jersey and intersperses it with Sam’s own writing.  Sam and his dead grandpa have a conversation about everything from resisting fascism to growing up with mobsters – all with the help of a mystical creature from Yiddish folklore.
URL:https://pragueliterarycalendar.com/calendar/prague-fringe-kaddish-how-to-be-a-sanctuary-3/
LOCATION:Divadlo Inspirace\, Divadlo Inspirace
CATEGORIES:Journalism,Performance,Storytelling,Theatre
ORGANIZER;CN="Prague Fringe Festival":MAILTO:noreply@facebookmail.com
END:VEVENT
END:VCALENDAR