BEGIN:VCALENDAR
VERSION:2.0
PRODID:-//The Prague Literary Calendar - ECPv6.15.20//NONSGML v1.0//EN
CALSCALE:GREGORIAN
METHOD:PUBLISH
X-ORIGINAL-URL:https://pragueliterarycalendar.com
X-WR-CALDESC:Events for The Prague Literary Calendar
REFRESH-INTERVAL;VALUE=DURATION:PT1H
X-Robots-Tag:noindex
X-PUBLISHED-TTL:PT1H
BEGIN:VTIMEZONE
TZID:Europe/Prague
BEGIN:DAYLIGHT
TZOFFSETFROM:+0100
TZOFFSETTO:+0200
TZNAME:CEST
DTSTART:20250330T010000
END:DAYLIGHT
BEGIN:STANDARD
TZOFFSETFROM:+0200
TZOFFSETTO:+0100
TZNAME:CET
DTSTART:20251026T010000
END:STANDARD
BEGIN:DAYLIGHT
TZOFFSETFROM:+0100
TZOFFSETTO:+0200
TZNAME:CEST
DTSTART:20260329T010000
END:DAYLIGHT
BEGIN:STANDARD
TZOFFSETFROM:+0200
TZOFFSETTO:+0100
TZNAME:CET
DTSTART:20261025T010000
END:STANDARD
BEGIN:DAYLIGHT
TZOFFSETFROM:+0100
TZOFFSETTO:+0200
TZNAME:CEST
DTSTART:20270328T010000
END:DAYLIGHT
BEGIN:STANDARD
TZOFFSETFROM:+0200
TZOFFSETTO:+0100
TZNAME:CET
DTSTART:20271031T010000
END:STANDARD
END:VTIMEZONE
BEGIN:VEVENT
DTSTART;TZID=Europe/Prague:20260413T190000
DTEND;TZID=Europe/Prague:20260413T210000
DTSTAMP:20260420T140457
CREATED:20260326T111742Z
LAST-MODIFIED:20260331T125203Z
UID:9883-1776106800-1776114000@pragueliterarycalendar.com
SUMMARY:Globe Creative Writing Group
DESCRIPTION:Globe Creative Writing Group was established in October of 2016. We meet weekly at the Globe Bookstore on Mondays from 19-21.  \nFeel free to come by and introduce yourself\, whether or not your facebook request has been acknowledged by us. We receive many requests\, and prefer to accept those we know will contribute later on. :). \nWe are an eclectic group composed of various writers practising a range of techniques. We’ve so far been writing short fiction\, poetry\, essays\, genre fiction\, experimental prose\, surrealism\, playwriting\, screenwriting\, non-fiction as well as long-term projects. \nThis group relies on and sustains itself through thoughtful and productive critique. During our meetings\, we discuss each member’s submission (should they choose to submit that week) in depth. \n At the end of each meeting\, a prompt is assigned that we will base our submissions for the next week on. Transcending the prompt\, of course\, is always possible. If you would like feedback on a long-term project or a submission that isn’t related to the prompt\, feel free to do so. \n \nRules and Guidelines for Submissions: \n-To ensure everyone can give\, and get\, quality critiques\, we will review no more than 8 submissions per week. \n-Please submit by Saturday at the latest. As many of us have jobs\, families\, holidays etc.\, we need ample time to give thoughtful feedback and criticism to each submission. If you submit later than the Saturday deadline\, don’t worry! We can save your work to critique the next week. \n-If you do submit\, please be present at the meeting that your work will be critiqued. If you cannot make it\, please let the group know via the Facebook group. If we take the time to critique\, we want to know that you will be there to accept feedback. Again\, if you cannot make it\, we will save your submission for the next week. \n-Please do not submit work that is longer than 1\,500 words. We want to make sure everyone receives ample time to discuss and is not overwhelmed by the amount of content they will need to read. Because of this\, please try to adhere to a no more than 1\,500-word standard. \n \nAI Disclaimer \nWriters: If you’ve used AI in your work\, please inform us and tell us to what extent you have used AI. \nCritiques: Please refrain from using AI to assist in your critiques. We are sharing our work with others because we want your perspective. \nPrompts are meant to be broad in order to maximize creativity. We have had long-term projects devised from simple prompts and continue to! It’s a way for us to break free of our comfort zones as writers. Don’t be afraid! \nAs a group\, we also encourage publishing work\, whether it be in Prague or outside. Feel free to post any publishing opportunities you think would fit the group or anyone in it. So far we have had several prize winners and magazine publications from group members. This group is fundamentally about encouragement! \nAny other questions\, please send us a message on Facebook 🙂 \nHappy writing!
URL:https://pragueliterarycalendar.com/calendar/globe-creative-writing-group-11/
LOCATION:The Globe Bookstore And Café\, Pštrossova 1925/6\, Nové Město\, 110 00 Praha-Praha 1\, Czechia\, The Globe Bookstore And Café\, Pštrossova 1925/6\, Nové Město\, 110 00 Praha-Praha 1\, Czechia
CATEGORIES:Workshop,Writing
END:VEVENT
BEGIN:VEVENT
DTSTART;TZID=Europe/Prague:20260413T190000
DTEND;TZID=Europe/Prague:20260413T220000
DTSTAMP:20260420T140457
CREATED:20260413T103130Z
LAST-MODIFIED:20260413T104014Z
UID:11839-1776106800-1776117600@pragueliterarycalendar.com
SUMMARY:Our favourite museums
DESCRIPTION:Join our meeting moderated by Cécile! \nYou can look forward to:👉 speeches by body language and vocal variety oriented speeches by Jakub and Mei👉 improvized speeches – anyone can participate👉 constructive feedback\, not only for the speakers – there is always something to take home for everyone😉 experience the positive and supportive learning environment of our club👍 no previous experience needed \nTO GET TO THE MEETING ROOM: Pass by the reception and cross the yard to entrance B. Take elevator to 4th floor and follow signs to room BETA. Or let us know and we will meet you in front of the building 👍
URL:https://pragueliterarycalendar.com/calendar/our-favourite-museums/
LOCATION:Senovážné nám. 978/23\, 110 00 Nové Město\, Praha\, Senovážné nám. 978/23\, 110 00 Nové Město\, Praha
CATEGORIES:Public Speaking,Workshop
END:VEVENT
END:VCALENDAR