BEGIN:VCALENDAR
VERSION:2.0
PRODID:-//The Prague Literary Calendar - ECPv6.15.20//NONSGML v1.0//EN
CALSCALE:GREGORIAN
METHOD:PUBLISH
X-WR-CALNAME:The Prague Literary Calendar
X-ORIGINAL-URL:https://pragueliterarycalendar.com
X-WR-CALDESC:Events for The Prague Literary Calendar
REFRESH-INTERVAL;VALUE=DURATION:PT1H
X-Robots-Tag:noindex
X-PUBLISHED-TTL:PT1H
BEGIN:VTIMEZONE
TZID:Europe/Prague
BEGIN:DAYLIGHT
TZOFFSETFROM:+0100
TZOFFSETTO:+0200
TZNAME:CEST
DTSTART:20250330T010000
END:DAYLIGHT
BEGIN:STANDARD
TZOFFSETFROM:+0200
TZOFFSETTO:+0100
TZNAME:CET
DTSTART:20251026T010000
END:STANDARD
BEGIN:DAYLIGHT
TZOFFSETFROM:+0100
TZOFFSETTO:+0200
TZNAME:CEST
DTSTART:20260329T010000
END:DAYLIGHT
BEGIN:STANDARD
TZOFFSETFROM:+0200
TZOFFSETTO:+0100
TZNAME:CET
DTSTART:20261025T010000
END:STANDARD
BEGIN:DAYLIGHT
TZOFFSETFROM:+0100
TZOFFSETTO:+0200
TZNAME:CEST
DTSTART:20270328T010000
END:DAYLIGHT
BEGIN:STANDARD
TZOFFSETFROM:+0200
TZOFFSETTO:+0100
TZNAME:CET
DTSTART:20271031T010000
END:STANDARD
END:VTIMEZONE
BEGIN:VEVENT
DTSTART;TZID=Europe/Prague:20260420T200000
DTEND;TZID=Europe/Prague:20260420T220000
DTSTAMP:20260425T183617
CREATED:20260324T090353Z
LAST-MODIFIED:20260331T131432Z
UID:10743-1776715200-1776722400@pragueliterarycalendar.com
SUMMARY:The Improv Academy @ Myslíš?: The Comedy Show – every Monday (ENG)
DESCRIPTION:Experience a brand-new\, fully improvised comedy show every Monday at Myslíš?! \nJoin us for an ever-changing lineup: enjoy a professional comedy show from experienced improvisers\, or support The Academy’s students as they take the stage in their very own fully improvised performances. Using your suggestions and occasional participation\, performers create one-of-a-kind shows filled with intricate stories\, hilarious games\, and original songs.  \nAnd while you laugh\, enjoy 12 craft beers on tap and tasty snacks – the perfect combo for a fun night out! \nEntry: depending on the type of show Student show – 100 KčMain Company Show – 350 Kč  \nhttps://www.facebook.com/events/1312905260898444/?event_time_id=1312905284231775
URL:https://pragueliterarycalendar.com/calendar/the-improv-academy-myslis-the-comedy-show-every-monday-eng-2/
LOCATION:Skořepka 3\, Praha 1\, Skořepka 3\, Praha 1
CATEGORIES:Improv,Performance
END:VEVENT
BEGIN:VEVENT
DTSTART;TZID=Europe/Prague:20260418T200000
DTEND;TZID=Europe/Prague:20260418T230000
DTSTAMP:20260425T183617
CREATED:20260413T103054Z
LAST-MODIFIED:20260413T104340Z
UID:11837-1776542400-1776553200@pragueliterarycalendar.com
SUMMARY:The Imperfectionists Present - Cabinet of Curiosities
DESCRIPTION:The Imperfectionists invite you to an evening of curiosities from the ends of the earth — objects with stories stranger than fiction\, histories darker than you’d expect\, and origins that raise more questions than they answer. \nWithin this interactive\, fully improvised show\, we’ll explore mysterious artifacts together: the peculiar\, the priceless\, and the possibly cursed. Who owned them? How did they travel so far from home? How many hands have touched them\, and how many of those hands met an untimely end? Each artifact will spark a cascade of improvised scenes — no script\, no plan\, just the stories that want to be told in the moment. \nCome with us on a journey through forgotten corners of history. Bring your curiosity\, your skepticism\, and maybe a little good luck charm of your own. Every show is different\, every discovery is real\, and nobody — not even us — knows quite where the night will take us.
URL:https://pragueliterarycalendar.com/calendar/the-imperfectionists-present-cabinet-of-curiosities/
LOCATION:Klub Letka\, Klub Letka
CATEGORIES:Improv,Performance,Theatre
ORGANIZER;CN="The Imperfectionists":MAILTO:noreply@facebookmail.com
END:VEVENT
BEGIN:VEVENT
DTSTART;TZID=Europe/Prague:20260416T183000
DTEND;TZID=Europe/Prague:20260416T200000
DTSTAMP:20260425T183617
CREATED:20260331T121358Z
LAST-MODIFIED:20260331T131452Z
UID:11281-1776364200-1776369600@pragueliterarycalendar.com
SUMMARY:Long-Form Improv: Beyond Games and Comedy
DESCRIPTION:This 6-week course invites improvisers to move beyond short-form games and quick-fire comedy into the world of sustained storytelling. Participants will learn the techniques required to develop deep characters\, maintain long-form scene structures\, and create interconnected narratives from a single suggestion. It is perfect for those looking to refine their acting skills and explore the more theatrical side of improvisation. \n \nThe full course is 2000 czk. Interested? Sign up here: https://form.typeform.com/to/RUsuXAS0?typeform-source=thetrueimprov.com
URL:https://pragueliterarycalendar.com/calendar/long-form-improv-beyond-games-and-comedy/
LOCATION:Joi Studio\, Ve Smečkách 592/22\, Praha 1\, 110 00\, Czech Republic
CATEGORIES:Improv,Make Connections,Performance,Public Speaking,Storytelling,Workshop
ORGANIZER;CN="True Improv":MAILTO:matteogonzato@hotmail.com
END:VEVENT
BEGIN:VEVENT
DTSTART;TZID=Europe/Prague:20260415T190000
DTEND;TZID=Europe/Prague:20260415T220000
DTSTAMP:20260425T183617
CREATED:20260413T103036Z
LAST-MODIFIED:20260413T104133Z
UID:11834-1776279600-1776290400@pragueliterarycalendar.com
SUMMARY:Improv Comedy Night
DESCRIPTION:Watch or Play—it’s up to you! Blue Moon Improv invites you to a night of high-energy\, unscripted entertainment. Whether you want to jump on stage and join the chaos or just grab a drink and laugh from the safety of the audience\, everyone is welcome. \n🕒 The Schedule:19:00 | The Workshop: Want to sharpen your skills? Join us for an open workshop / warm up to learn the ropes. All levels (including total beginners) are welcome! \n20:00 (approx) | The Show or Jam: The stage opens! See Blue Moon Improv & Friends perform\, followed by a wide-open jam where anyone can get some stage time. Formats vary weekly – check @bluemoonimprov on instagram for updates. \nFor Jams (a format where anyone can come on stage and play) \nSign-up for performers opens at 18:45 at Coze? Bar. \n💰 Support the SceneWe want to keep this jam accessible and community-driven. We don’t have a fixed ticket price and operate entirely on a “Pay What You Can” basis. \nIf you’re playing: If you’re joining the workshop or getting stage time\, we ask for a donation to help cover the coaching and organization. \nIf you’re watching: Enjoy the show! If you like what we’re doing\, feel free to drop something in the hat to help us keep the lights on—and definitely support Coze? Bar by grabbing a few drinks! \n⚖️ The House RulesTo keep the night running smoothly and the environment safe\, we have a few firm policies: \nThe Director’s Word: This event is hosted and directed by Tim Burgi. To ensure a great show for the audience\, Tim has final authority on all stage participation\, casting\, and show flow. \nA Safe Space for Comedy: We are a judgment-free zone when it comes to creativity—no censorship here. However\, we have zero tolerance for real-world harassment\, physical aggression\, or violence. \nVetted Promotion: We love the Prague scene\, but we only promote events and groups that align with our community safety standards. Please do not advertise or recruit for outside groups without checking with Tim first. We want to ensure that any event we “bless” is a safe and respectful environment for our players. \nRight of Admission: We prioritize the safety of our participants. We reserve the right of admission and do not welcome individuals with a history of misconduct or those who have been excluded from other community spaces for safety reasons. \nPhotos & Media: We love capturing the night! Attendance implies consent for photos/video to be shared on our social media. (If you’d rather stay off-camera\, just let Tim know). \nhttps://www.facebook.com/events/898583029762917/?event_time_id=898583059762914
URL:https://pragueliterarycalendar.com/calendar/improv-comedy-night/
LOCATION:Cože?\, Cože?
CATEGORIES:Improv,Performance
END:VEVENT
BEGIN:VEVENT
DTSTART;TZID=Europe/Prague:20260413T200000
DTEND;TZID=Europe/Prague:20260413T220000
DTSTAMP:20260425T183617
CREATED:20260324T091022Z
LAST-MODIFIED:20260331T131452Z
UID:10753-1776110400-1776117600@pragueliterarycalendar.com
SUMMARY:The Improv Academy @ Myslíš?: The Comedy Show – every Monday (ENG)
DESCRIPTION:Experience a brand-new\, fully improvised comedy show every Monday at Myslíš?! \nJoin us for an ever-changing lineup: enjoy a professional comedy show from experienced improvisers\, or support The Academy’s students as they take the stage in their very own fully improvised performances. Using your suggestions and occasional participation\, performers create one-of-a-kind shows filled with intricate stories\, hilarious games\, and original songs.  \nAnd while you laugh\, enjoy 12 craft beers on tap and tasty snacks – the perfect combo for a fun night out! \nEntry: depending on the type of show Student show – 100 KčMain Company Show – 350 Kč  \nhttps://www.facebook.com/events/1312905260898444/?event_time_id=1312905297565107
URL:https://pragueliterarycalendar.com/calendar/the-improv-academy-myslis-the-comedy-show-every-monday-eng-6/
LOCATION:Skořepka 3\, Praha 1\, Skořepka 3\, Praha 1
CATEGORIES:Improv,Performance
END:VEVENT
BEGIN:VEVENT
DTSTART;TZID=Europe/Prague:20260407T183000
DTEND;TZID=Europe/Prague:20260407T200000
DTSTAMP:20260425T183617
CREATED:20260331T120847Z
LAST-MODIFIED:20260331T131453Z
UID:11273-1775586600-1775592000@pragueliterarycalendar.com
SUMMARY:Improv Roots: The Foundations of Doing Improv
DESCRIPTION:A comprehensive 6-week introductory course designed to build a solid foundation in the art of improvisation. Participants will explore the core principles of “Yes\, and\,” active listening\, and spontaneous storytelling in a supportive\, high-energy environment. This workshop is ideal for beginners looking to boost their confidence\, improve public speaking\, or simply explore their creative side through play. \n \n2000 czk for the full course.\nInterested? Sign up here: https://form.typeform.com/to/RUsuXAS0?typeform-source=thetrueimprov.com
URL:https://pragueliterarycalendar.com/calendar/improv-roots-the-foundations-of-doing-improv/
LOCATION:Joi Studio\, Ve Smečkách 592/22\, Praha 1\, 110 00\, Czech Republic
CATEGORIES:Improv,Make Connections,Performance,Public Speaking,Storytelling,Workshop
ORGANIZER;CN="True Improv":MAILTO:matteogonzato@hotmail.com
END:VEVENT
BEGIN:VEVENT
DTSTART;TZID=Europe/Prague:20260406T200000
DTEND;TZID=Europe/Prague:20260406T220000
DTSTAMP:20260425T183617
CREATED:20260324T090430Z
LAST-MODIFIED:20260331T131453Z
UID:10747-1775505600-1775512800@pragueliterarycalendar.com
SUMMARY:The Improv Academy @ Myslíš?: The Comedy Show – every Monday (ENG)
DESCRIPTION:Experience a brand-new\, fully improvised comedy show every Monday at Myslíš?! \nJoin us for an ever-changing lineup: enjoy a professional comedy show from experienced improvisers\, or support The Academy’s students as they take the stage in their very own fully improvised performances. Using your suggestions and occasional participation\, performers create one-of-a-kind shows filled with intricate stories\, hilarious games\, and original songs.  \nAnd while you laugh\, enjoy 12 craft beers on tap and tasty snacks – the perfect combo for a fun night out! \nEntry: depending on the type of show Student show – 100 KčMain Company Show – 350 Kč  \nhttps://www.facebook.com/events/1312905260898444/?event_time_id=1312905290898441
URL:https://pragueliterarycalendar.com/calendar/the-improv-academy-myslis-the-comedy-show-every-monday-eng-4/
LOCATION:Skořepka 3\, Praha 1\, Skořepka 3\, Praha 1
CATEGORIES:Improv,Performance
END:VEVENT
BEGIN:VEVENT
DTSTART;TZID=Europe/Prague:20260330T200000
DTEND;TZID=Europe/Prague:20260330T220000
DTSTAMP:20260425T183617
CREATED:20260324T090336Z
LAST-MODIFIED:20260331T131453Z
UID:10739-1774900800-1774908000@pragueliterarycalendar.com
SUMMARY:The Improv Academy @ Myslíš?: The Comedy Show – every Monday (ENG)
DESCRIPTION:Experience a brand-new\, fully improvised comedy show every Monday at Myslíš?! \nJoin us for an ever-changing lineup: enjoy a professional comedy show from experienced improvisers\, or support The Academy’s students as they take the stage in their very own fully improvised performances. Using your suggestions and occasional participation\, performers create one-of-a-kind shows filled with intricate stories\, hilarious games\, and original songs.  \nAnd while you laugh\, enjoy 12 craft beers on tap and tasty snacks – the perfect combo for a fun night out! \nEntry: depending on the type of show Student show – 100 KčMain Company Show – 350 Kč  \nhttps://www.facebook.com/events/1312905260898444/?event_time_id=1312905280898442
URL:https://pragueliterarycalendar.com/calendar/the-improv-academy-myslis-the-comedy-show-every-monday-eng/
LOCATION:Skořepka 3\, Praha 1\, Skořepka 3\, Praha 1
CATEGORIES:Improv,Performance
END:VEVENT
END:VCALENDAR