BEGIN:VCALENDAR
VERSION:2.0
PRODID:-//The Prague Literary Calendar - ECPv6.15.20//NONSGML v1.0//EN
CALSCALE:GREGORIAN
METHOD:PUBLISH
X-ORIGINAL-URL:https://pragueliterarycalendar.com
X-WR-CALDESC:Events for The Prague Literary Calendar
REFRESH-INTERVAL;VALUE=DURATION:PT1H
X-Robots-Tag:noindex
X-PUBLISHED-TTL:PT1H
BEGIN:VTIMEZONE
TZID:Europe/Prague
BEGIN:DAYLIGHT
TZOFFSETFROM:+0100
TZOFFSETTO:+0200
TZNAME:CEST
DTSTART:20250330T010000
END:DAYLIGHT
BEGIN:STANDARD
TZOFFSETFROM:+0200
TZOFFSETTO:+0100
TZNAME:CET
DTSTART:20251026T010000
END:STANDARD
BEGIN:DAYLIGHT
TZOFFSETFROM:+0100
TZOFFSETTO:+0200
TZNAME:CEST
DTSTART:20260329T010000
END:DAYLIGHT
BEGIN:STANDARD
TZOFFSETFROM:+0200
TZOFFSETTO:+0100
TZNAME:CET
DTSTART:20261025T010000
END:STANDARD
BEGIN:DAYLIGHT
TZOFFSETFROM:+0100
TZOFFSETTO:+0200
TZNAME:CEST
DTSTART:20270328T010000
END:DAYLIGHT
BEGIN:STANDARD
TZOFFSETFROM:+0200
TZOFFSETTO:+0100
TZNAME:CET
DTSTART:20271031T010000
END:STANDARD
END:VTIMEZONE
BEGIN:VEVENT
DTSTART;TZID=Europe/Prague:20260428T180000
DTEND;TZID=Europe/Prague:20260428T210000
DTSTAMP:20260425T141955
CREATED:20260408T093621Z
LAST-MODIFIED:20260413T104548Z
UID:11752-1777399200-1777410000@pragueliterarycalendar.com
SUMMARY:FREE\, Fun & Informative Workshops on the topics of Art\, Money\, Activism\, Youth Work & Community
DESCRIPTION:Our Final Event for the TRY Program (Theater Reconnecting with Youth) was an astounding success!Attendees learned more about us (Vice Versa) \, our NGO work\, and the 2-Year TRY Program that was co-funded by Creative Europe! \nAnd now…We are holding 2 more “must-attend” FREE\, Fun & Informative Workshops on the topics of Art\, Money\, Activism\, Youth Work & Community.Please join our Trainer\, Nicole J. Adelman\, as she shares and engages you on the following topics: \nWorkshop #1 – This coming Friday\, April 10th from 6pm to 9pm \n *Snacks & Drinks Provided! \nMoney\, Power & Play: Building Sustainable Creative LivesThe goal of this workshop is to achieve a clear understanding of how money and power operate in your field—and how you can actively engage with both to support a sustainable creative life. \nBuilding on the TRY (Theater Reconnecting with Youth) methodology\, this 3-hour session combines participatory theater\, peer learning\, and practical tools to move from reflection into action. \nParticipants will: \nExplore how financial systems and power structures shape the cultural sectorExamine personal beliefs and experiences around money and sustainabilityEngage in interactive theater scenarios to practice navigating real-world challengesMap their own creative economy and identify new income possibilitiesLeave with a concrete\, personalized strategy for the next 30 daysThis workshop is designed for artists\, educators\, and cultural practitioners who want to move beyond survival thinking and develop a more intentional\, resilient approach to their work. \nWorkshop #2 – Tuesday\, April 28th from 6pm to 9pm \n*Snacks & Drinks Provided! \nFrom Survival to Creation: Theater as Economic Imagination \nThis workshop invites participants to move beyond survival thinking and into the creative authorship of their economic lives. \nBuilding on the TRY (Theater Reconnecting with Youth) methodology\, this 3-hour session uses participatory theater\, reflection\, and co-creation to explore how we can reimagine money\, value\, and sustainability in the arts. \nParticipants will: \nExamine and challenge inherited beliefs about money and worthExplore what “enough” means on a personal and collective levelUse performance and storytelling to envision sustainable creative futuresCollaboratively design alternative economic models rooted in care\, reciprocity\, and accessLeave with a renewed sense of agency and a concrete step toward building a more aligned creative lifeThis workshop is ideal for artists\, educators\, and cultural practitioners who are ready to expand beyond existing systems and explore what else might be possible. \nAll are welcome!Please RSVP by filling out this Registration Form https://docs.google.com/forms/u/0/d/1_-ZinkSXOaLwvYf-j0YSWFIbAE5mLzM06r_zi0rz3OA/viewform?ts=69ce9568&edit_requested=trueWe can’t wait to welcome you! \nhttps://www.facebook.com/events/2046160932599731/?event_time_id=2046161542599670
URL:https://pragueliterarycalendar.com/calendar/free-fun-informative-workshops-on-the-topics-of-art-money-activism-youth-work-community/
LOCATION:Dělnická 8\, Praha Holešovice\, Praha\, Dělnická 8\, Praha Holešovice\, Praha
CATEGORIES:Activism,Discussion,Make Connections,Movement,Workshop
END:VEVENT
BEGIN:VEVENT
DTSTART;TZID=Europe/Prague:20260502T140000
DTEND;TZID=Europe/Prague:20260502T170000
DTSTAMP:20260425T141955
CREATED:20260327T093510Z
LAST-MODIFIED:20260331T130903Z
UID:11140-1777730400-1777741200@pragueliterarycalendar.com
SUMMARY:ROZTANČENÉ NÁMĚSTÍ
DESCRIPTION:Po zimní pauze znovu ožíváme 💃🕺Zveme vás na další Roztančené náměstí\, kde společně proměníme Náměstí Míru v živý\, pulzující prostor plný hudby\, lehkosti a přirozeného pohybu. Možná přijdeš jen na chvíli se podívat… a najednou zjistíš\, že už tančíš. Bez kroků\, bez tlaku\, bez očekávání – jen tak\, jak to cítíš.Celá událost je inspirovaná Biodanzou\, takže nejde o výkon\, ale o prožitek. O kontakt se sebou\, s ostatními i s hudbou. Je otevřená opravdu každému – bez ohledu na věk nebo zkušenosti. Stačí přijít a dovolit si být součástí.Jako malou ochutnávku přidávám video z posledního Roztančeného náměstí v Praze – je vtipné a krásně zachycuje atmosféru\, kterou spolu tvoříme. Možná v něm ucítíš tu chuť být u toho příště taky!Roztančené náměstí tentokrát vzniká ve spolupráci se zahraničním lektorem Biodanzy 😀 Jako skvělá podpora přijede můj kamarád\, Piotr z Polska\, se kterým jsme už společně tvořili podobnou událost ve Wrocławi – a právě díky němu se můžete těšit i na profesionální hudební zázemí\, které dodá celému setkání ještě silnější atmosféru.Tak přijď. Roztančíme náměstí\, roztančíme sebe.02.05.2026 na Náměstí Míru v PrazeTěšíme se na vás 🤍Kasia a Piotr video made by @RolandKosik
URL:https://pragueliterarycalendar.com/calendar/roztancene-namesti/
LOCATION:Náměstí Míru\, Náměstí Míru
CATEGORIES:Dance,Movement
END:VEVENT
BEGIN:VEVENT
DTSTART;TZID=Europe/Prague:20260526T161500
DTEND;TZID=Europe/Prague:20260526T171500
DTSTAMP:20260425T141955
CREATED:20260414T141724Z
LAST-MODIFIED:20260414T164445Z
UID:12263-1779812100-1779815700@pragueliterarycalendar.com
SUMMARY:Prague Fringe: Sherlock Holmes The Death and Life
DESCRIPTION:A fantasy based upon a fiction\, finds Arthur Conan Doyle tiring of his intolerably arrogant Sherlock Holmes\, and inventing the arch villain\, Moriarty\, to dispose of him. \nBut Doyle’s dangerous strategy\, combined with his passion for raising the spirits of the dead\, has rather more surreal and dramatic consequences than he bargains for! \nA light-hearted and intriguing investigation of the consequences\, when fictional characters take on lives and ambitions of their own\, quite against the wishes of the author. \nIn this wryly humorous one man tale\, of murder\, mystery and the occult the world’s greatest detective refuses to leave the stage! \nStarring Nigel Miles-Thomas\, written by David Stuart Davies\, adapted for the stage and directed by Gareth Armstrong; with original music by Simon Slater.
URL:https://pragueliterarycalendar.com/calendar/prague-fringe-sherlock-holmes-the-death-and-life/
LOCATION:CafÃ© Club MÃ­Å¡enskÃ¡\, CafÃ© Club MÃ­Å¡enskÃ¡
CATEGORIES:Movement,Performance,Theatre
ORGANIZER;CN="Prague Fringe Festival":MAILTO:noreply@facebookmail.com
END:VEVENT
BEGIN:VEVENT
DTSTART;TZID=Europe/Prague:20260526T201500
DTEND;TZID=Europe/Prague:20260526T211500
DTSTAMP:20260425T141955
CREATED:20260414T141728Z
LAST-MODIFIED:20260414T164623Z
UID:12280-1779826500-1779830100@pragueliterarycalendar.com
SUMMARY:Prague Fringe: Arthur Vinegar: Good Boy
DESCRIPTION:Multi-award nominated Scottish clown Arthur Vinegar brings “Good Boy” to the Prague Fringe for the very first time. \nImagine waking up\, wearing only pants and a grubby vest\, to find a room full of strangers staring at you. This is what happens to the unsuspecting Arthur Vinegar every night. Suddenly thrust into the spotlight\, Arthur scrambles to create magic\, joy and absurd worlds with the only thing he knows – the humble carrot – as his muse. All the while wondering\, ‘Am I being a good boy?’ \nNominated Best Newcomer 2025 (Long List) ISH Edinburgh Comedy Awards. \n***** “It’s weird\, wonderful and beautiful… A magical hour of incredible clowning and comedy.” A Young(ish) Perspective \n***** “First-class clowning. I left feeling uplifted and transformed. What a gift. Take note: Arthur Vinegar is someone who’ll be on everyone’s radar in the years to come.”
URL:https://pragueliterarycalendar.com/calendar/prague-fringe-arthur-vinegar-good-boy/
LOCATION:Metro Comedy Club\, Metro Comedy Club
CATEGORIES:Movement,Performance,Theatre
ORGANIZER;CN="Prague Fringe Festival":MAILTO:noreply@facebookmail.com
END:VEVENT
BEGIN:VEVENT
DTSTART;TZID=Europe/Prague:20260527T190000
DTEND;TZID=Europe/Prague:20260527T200000
DTSTAMP:20260425T141955
CREATED:20260414T141733Z
LAST-MODIFIED:20260414T164555Z
UID:12296-1779908400-1779912000@pragueliterarycalendar.com
SUMMARY:Prague Fringe: Arthur Vinegar: Good Boy
DESCRIPTION:Multi-award nominated Scottish clown Arthur Vinegar brings “Good Boy” to the Prague Fringe for the very first time. \nImagine waking up\, wearing only pants and a grubby vest\, to find a room full of strangers staring at you. This is what happens to the unsuspecting Arthur Vinegar every night. Suddenly thrust into the spotlight\, Arthur scrambles to create magic\, joy and absurd worlds with the only thing he knows – the humble carrot – as his muse. All the while wondering\, ‘Am I being a good boy?’ \nNominated Best Newcomer 2025 (Long List) ISH Edinburgh Comedy Awards. \n***** “It’s weird\, wonderful and beautiful… A magical hour of incredible clowning and comedy.” A Young(ish) Perspective \n***** “First-class clowning. I left feeling uplifted and transformed. What a gift. Take note: Arthur Vinegar is someone who’ll be on everyone’s radar in the years to come.”
URL:https://pragueliterarycalendar.com/calendar/prague-fringe-arthur-vinegar-good-boy-2/
LOCATION:Metro Comedy Club\, Metro Comedy Club
CATEGORIES:Movement,Performance,Theatre
ORGANIZER;CN="Prague Fringe Festival":MAILTO:noreply@facebookmail.com
END:VEVENT
BEGIN:VEVENT
DTSTART;TZID=Europe/Prague:20260527T201500
DTEND;TZID=Europe/Prague:20260527T211500
DTSTAMP:20260425T141955
CREATED:20260414T141734Z
LAST-MODIFIED:20260414T164445Z
UID:12300-1779912900-1779916500@pragueliterarycalendar.com
SUMMARY:Prague Fringe: Sherlock Holmes The Death and Life
DESCRIPTION:A fantasy based upon a fiction\, finds Arthur Conan Doyle tiring of his intolerably arrogant Sherlock Holmes\, and inventing the arch villain\, Moriarty\, to dispose of him. \nBut Doyle’s dangerous strategy\, combined with his passion for raising the spirits of the dead\, has rather more surreal and dramatic consequences than he bargains for! \nA light-hearted and intriguing investigation of the consequences\, when fictional characters take on lives and ambitions of their own\, quite against the wishes of the author. \nIn this wryly humorous one man tale\, of murder\, mystery and the occult the world’s greatest detective refuses to leave the stage! \nStarring Nigel Miles-Thomas\, written by David Stuart Davies\, adapted for the stage and directed by Gareth Armstrong; with original music by Simon Slater.
URL:https://pragueliterarycalendar.com/calendar/prague-fringe-sherlock-holmes-the-death-and-life-2/
LOCATION:CafÃ© Club MÃ­Å¡enskÃ¡\, CafÃ© Club MÃ­Å¡enskÃ¡
CATEGORIES:Movement,Performance,Theatre
ORGANIZER;CN="Prague Fringe Festival":MAILTO:noreply@facebookmail.com
END:VEVENT
BEGIN:VEVENT
DTSTART;TZID=Europe/Prague:20260527T201500
DTEND;TZID=Europe/Prague:20260527T211500
DTSTAMP:20260425T141955
CREATED:20260414T141735Z
LAST-MODIFIED:20260414T171923Z
UID:12302-1779912900-1779916500@pragueliterarycalendar.com
SUMMARY:Prague Fringe: Norman's Big Day Out
DESCRIPTION:One man\, one bag\, one amazing night. Join Norman as he lassos wild horses\, battles sleepless nights and weathers a mighty storm. Shortlisted for Best Dance Work at the Brighton Fringe 2025\, now coming to Prague for it’s European Premiere. \nA variety and circus show including lasso\, acrobatics\, and spinning cube with character based clowning created by international circus artist\, Adam Havsky\, Norman is an ode to the absurd and the exhausted. Out to make a food delivery\, he finds he must deliver the house as well. What other wonders and curiosities does he keep in his oversized delivery bag. \n“So often when performing there is just so much performance that goes into it. Circus is really hard and I was tired of pretending that I could do all the things I do with such ease and grace. This show is about breaking that façade\, laying out the effort and exhaustion that goes into my craft\, and really showing I’m just a regular guy doing extraordinary stuff.” – Adam Havsky
URL:https://pragueliterarycalendar.com/calendar/prague-fringe-normans-big-day-out/
LOCATION:Metro Comedy Club\, Metro Comedy Club
CATEGORIES:Dance,Movement,Performance,Theatre
ORGANIZER;CN="Prague Fringe Festival":MAILTO:noreply@facebookmail.com
END:VEVENT
BEGIN:VEVENT
DTSTART;TZID=Europe/Prague:20260528T171500
DTEND;TZID=Europe/Prague:20260528T181500
DTSTAMP:20260425T141955
CREATED:20260414T141737Z
LAST-MODIFIED:20260414T164445Z
UID:12314-1779988500-1779992100@pragueliterarycalendar.com
SUMMARY:Prague Fringe: Sherlock Holmes The Death and Life
DESCRIPTION:A fantasy based upon a fiction\, finds Arthur Conan Doyle tiring of his intolerably arrogant Sherlock Holmes\, and inventing the arch villain\, Moriarty\, to dispose of him. \nBut Doyle’s dangerous strategy\, combined with his passion for raising the spirits of the dead\, has rather more surreal and dramatic consequences than he bargains for! \nA light-hearted and intriguing investigation of the consequences\, when fictional characters take on lives and ambitions of their own\, quite against the wishes of the author. \nIn this wryly humorous one man tale\, of murder\, mystery and the occult the world’s greatest detective refuses to leave the stage! \nStarring Nigel Miles-Thomas\, written by David Stuart Davies\, adapted for the stage and directed by Gareth Armstrong; with original music by Simon Slater.
URL:https://pragueliterarycalendar.com/calendar/prague-fringe-sherlock-holmes-the-death-and-life-3/
LOCATION:CafÃ© Club MÃ­Å¡enskÃ¡\, CafÃ© Club MÃ­Å¡enskÃ¡
CATEGORIES:Movement,Performance,Theatre
ORGANIZER;CN="Prague Fringe Festival":MAILTO:noreply@facebookmail.com
END:VEVENT
BEGIN:VEVENT
DTSTART;TZID=Europe/Prague:20260528T173000
DTEND;TZID=Europe/Prague:20260528T183000
DTSTAMP:20260425T141955
CREATED:20260414T141737Z
LAST-MODIFIED:20260414T171907Z
UID:12316-1779989400-1779993000@pragueliterarycalendar.com
SUMMARY:Prague Fringe: Norman's Big Day Out
DESCRIPTION:One man\, one bag\, one amazing night. Join Norman as he lassos wild horses\, battles sleepless nights and weathers a mighty storm. Shortlisted for Best Dance Work at the Brighton Fringe 2025\, now coming to Prague for it’s European Premiere. \nA variety and circus show including lasso\, acrobatics\, and spinning cube with character based clowning created by international circus artist\, Adam Havsky\, Norman is an ode to the absurd and the exhausted. Out to make a food delivery\, he finds he must deliver the house as well. What other wonders and curiosities does he keep in his oversized delivery bag. \n“So often when performing there is just so much performance that goes into it. Circus is really hard and I was tired of pretending that I could do all the things I do with such ease and grace. This show is about breaking that façade\, laying out the effort and exhaustion that goes into my craft\, and really showing I’m just a regular guy doing extraordinary stuff.” – Adam Havsky
URL:https://pragueliterarycalendar.com/calendar/prague-fringe-normans-big-day-out-2/
LOCATION:Metro Comedy Club\, Metro Comedy Club
CATEGORIES:Dance,Movement,Performance,Theatre
ORGANIZER;CN="Prague Fringe Festival":MAILTO:noreply@facebookmail.com
END:VEVENT
BEGIN:VEVENT
DTSTART;TZID=Europe/Prague:20260529T163000
DTEND;TZID=Europe/Prague:20260529T173000
DTSTAMP:20260425T141955
CREATED:20260414T141742Z
LAST-MODIFIED:20260414T164541Z
UID:12339-1780072200-1780075800@pragueliterarycalendar.com
SUMMARY:Prague Fringe: Arthur Vinegar: Good Boy
DESCRIPTION:Multi-award nominated Scottish clown Arthur Vinegar brings “Good Boy” to the Prague Fringe for the very first time. \nImagine waking up\, wearing only pants and a grubby vest\, to find a room full of strangers staring at you. This is what happens to the unsuspecting Arthur Vinegar every night. Suddenly thrust into the spotlight\, Arthur scrambles to create magic\, joy and absurd worlds with the only thing he knows – the humble carrot – as his muse. All the while wondering\, ‘Am I being a good boy?’ \nNominated Best Newcomer 2025 (Long List) ISH Edinburgh Comedy Awards. \n***** “It’s weird\, wonderful and beautiful… A magical hour of incredible clowning and comedy.” A Young(ish) Perspective \n***** “First-class clowning. I left feeling uplifted and transformed. What a gift. Take note: Arthur Vinegar is someone who’ll be on everyone’s radar in the years to come.”
URL:https://pragueliterarycalendar.com/calendar/prague-fringe-arthur-vinegar-good-boy-3/
LOCATION:Metro Comedy Club\, Metro Comedy Club
CATEGORIES:Movement,Performance,Theatre
ORGANIZER;CN="Prague Fringe Festival":MAILTO:noreply@facebookmail.com
END:VEVENT
BEGIN:VEVENT
DTSTART;TZID=Europe/Prague:20260529T201500
DTEND;TZID=Europe/Prague:20260529T211500
DTSTAMP:20260425T141955
CREATED:20260414T141747Z
LAST-MODIFIED:20260414T171851Z
UID:12361-1780085700-1780089300@pragueliterarycalendar.com
SUMMARY:Prague Fringe: Norman's Big Day Out
DESCRIPTION:One man\, one bag\, one amazing night. Join Norman as he lassos wild horses\, battles sleepless nights and weathers a mighty storm. Shortlisted for Best Dance Work at the Brighton Fringe 2025\, now coming to Prague for it’s European Premiere. \nA variety and circus show including lasso\, acrobatics\, and spinning cube with character based clowning created by international circus artist\, Adam Havsky\, Norman is an ode to the absurd and the exhausted. Out to make a food delivery\, he finds he must deliver the house as well. What other wonders and curiosities does he keep in his oversized delivery bag. \n“So often when performing there is just so much performance that goes into it. Circus is really hard and I was tired of pretending that I could do all the things I do with such ease and grace. This show is about breaking that façade\, laying out the effort and exhaustion that goes into my craft\, and really showing I’m just a regular guy doing extraordinary stuff.” – Adam Havsky
URL:https://pragueliterarycalendar.com/calendar/prague-fringe-normans-big-day-out-3/
LOCATION:Metro Comedy Club\, Metro Comedy Club
CATEGORIES:Dance,Movement,Performance,Theatre
ORGANIZER;CN="Prague Fringe Festival":MAILTO:noreply@facebookmail.com
END:VEVENT
BEGIN:VEVENT
DTSTART;TZID=Europe/Prague:20260529T214500
DTEND;TZID=Europe/Prague:20260529T224500
DTSTAMP:20260425T141955
CREATED:20260414T141748Z
LAST-MODIFIED:20260414T164445Z
UID:12365-1780091100-1780094700@pragueliterarycalendar.com
SUMMARY:Prague Fringe: Sherlock Holmes The Death and Life
DESCRIPTION:A fantasy based upon a fiction\, finds Arthur Conan Doyle tiring of his intolerably arrogant Sherlock Holmes\, and inventing the arch villain\, Moriarty\, to dispose of him. \nBut Doyle’s dangerous strategy\, combined with his passion for raising the spirits of the dead\, has rather more surreal and dramatic consequences than he bargains for! \nA light-hearted and intriguing investigation of the consequences\, when fictional characters take on lives and ambitions of their own\, quite against the wishes of the author. \nIn this wryly humorous one man tale\, of murder\, mystery and the occult the world’s greatest detective refuses to leave the stage! \nStarring Nigel Miles-Thomas\, written by David Stuart Davies\, adapted for the stage and directed by Gareth Armstrong; with original music by Simon Slater.
URL:https://pragueliterarycalendar.com/calendar/prague-fringe-sherlock-holmes-the-death-and-life-4/
LOCATION:CafÃ© Club MÃ­Å¡enskÃ¡\, CafÃ© Club MÃ­Å¡enskÃ¡
CATEGORIES:Movement,Performance,Theatre
ORGANIZER;CN="Prague Fringe Festival":MAILTO:noreply@facebookmail.com
END:VEVENT
BEGIN:VEVENT
DTSTART;TZID=Europe/Prague:20260530T214500
DTEND;TZID=Europe/Prague:20260530T224500
DTSTAMP:20260425T141955
CREATED:20260414T141754Z
LAST-MODIFIED:20260414T164445Z
UID:12394-1780177500-1780181100@pragueliterarycalendar.com
SUMMARY:Prague Fringe: Sherlock Holmes The Death and Life
DESCRIPTION:A fantasy based upon a fiction\, finds Arthur Conan Doyle tiring of his intolerably arrogant Sherlock Holmes\, and inventing the arch villain\, Moriarty\, to dispose of him. \nBut Doyle’s dangerous strategy\, combined with his passion for raising the spirits of the dead\, has rather more surreal and dramatic consequences than he bargains for! \nA light-hearted and intriguing investigation of the consequences\, when fictional characters take on lives and ambitions of their own\, quite against the wishes of the author. \nIn this wryly humorous one man tale\, of murder\, mystery and the occult the world’s greatest detective refuses to leave the stage! \nStarring Nigel Miles-Thomas\, written by David Stuart Davies\, adapted for the stage and directed by Gareth Armstrong; with original music by Simon Slater.
URL:https://pragueliterarycalendar.com/calendar/prague-fringe-sherlock-holmes-the-death-and-life-5/
LOCATION:CafÃ© Club MÃ­Å¡enskÃ¡\, CafÃ© Club MÃ­Å¡enskÃ¡
CATEGORIES:Movement,Performance,Theatre
ORGANIZER;CN="Prague Fringe Festival":MAILTO:noreply@facebookmail.com
END:VEVENT
END:VCALENDAR