BEGIN:VCALENDAR
VERSION:2.0
PRODID:-//The Prague Literary Calendar - ECPv6.15.20//NONSGML v1.0//EN
CALSCALE:GREGORIAN
METHOD:PUBLISH
X-WR-CALNAME:The Prague Literary Calendar
X-ORIGINAL-URL:https://pragueliterarycalendar.com
X-WR-CALDESC:Events for The Prague Literary Calendar
REFRESH-INTERVAL;VALUE=DURATION:PT1H
X-Robots-Tag:noindex
X-PUBLISHED-TTL:PT1H
BEGIN:VTIMEZONE
TZID:Europe/Prague
BEGIN:DAYLIGHT
TZOFFSETFROM:+0100
TZOFFSETTO:+0200
TZNAME:CEST
DTSTART:20250330T010000
END:DAYLIGHT
BEGIN:STANDARD
TZOFFSETFROM:+0200
TZOFFSETTO:+0100
TZNAME:CET
DTSTART:20251026T010000
END:STANDARD
BEGIN:DAYLIGHT
TZOFFSETFROM:+0100
TZOFFSETTO:+0200
TZNAME:CEST
DTSTART:20260329T010000
END:DAYLIGHT
BEGIN:STANDARD
TZOFFSETFROM:+0200
TZOFFSETTO:+0100
TZNAME:CET
DTSTART:20261025T010000
END:STANDARD
BEGIN:DAYLIGHT
TZOFFSETFROM:+0100
TZOFFSETTO:+0200
TZNAME:CEST
DTSTART:20270328T010000
END:DAYLIGHT
BEGIN:STANDARD
TZOFFSETFROM:+0200
TZOFFSETTO:+0100
TZNAME:CET
DTSTART:20271031T010000
END:STANDARD
END:VTIMEZONE
BEGIN:VEVENT
DTSTART;TZID=Europe/Prague:20260327T130000
DTEND;TZID=Europe/Prague:20260328T170000
DTSTAMP:20260421T113927
CREATED:20260327T094317Z
LAST-MODIFIED:20260331T125714Z
UID:11167-1774616400-1774717200@pragueliterarycalendar.com
SUMMARY:Workshop: Humanistický revizionista. Sto a jeden rok Ivana Svitáka
DESCRIPTION:This event was curated by the Prague Literary Calendar\nFilosofický spolek Praxis ve spolupráci s Ústavem filosofie a religionistiky Vás srdečně zve na workshop o životu a díle Ivana Svitáka u příležitosti jeho 101. nedožitých narozenin! \n📍Místo konání: Hlavní budova Filosofické fakulty UK v Praze\, nám. J. Palacha 1/2\, 116 38 Staré Město\n🕑 Termín konání: pátek & sobota 27.–28. 3. 2026 \nProgram konference: \nPátek 27.3.2026:\n13:00: přivítání\n13:05-14:05: Temné stránky humanismu Ivana Svitáka – Jan Mervart\n14:15-15:15: Ivan Sviták na “vlně pravdy” ve filmu – Lucie Česálková\n15:30-16:30: Svitákovy modely člověka: lidské\, až příliš lidské – Joseph Grim Feinberg \nSobota 28.3.2026:\n13:05-14:05: Mezi reformním komunismem a sociální demokracií: Svitákovo politické myšlení v roce 1968 – Kristina Andělová\n14:15-15:15: Člověk jako ‘antientropický činitel kosmu’. Svitákovo tvůrčí přivlastnění kybernetiky\n15:25-16:10: Jejich nynější krize: Polemika Ivana Svitáka a Karla Kosíka – Petr Franc\n16:15–17:00: Naše životy jsou prázdné a smutné jako létající dveře: Ivan Sviták a surrealismus – Kryštof Jánský \nPo oficiálním programu se přesuneme se zájemci z řad hostů i posluchačů k neformálnímu posezení do Kavárny Na Boršově na adrese Náprstkova 272/10 🍷 (https://kavarna-na-borsove-cafe.eatbu.com/?lang=cs) \nOrganizují Petr Franc a Sylvia Holánik\n✉️ Kontakt: ufar.praxis@gmail.com \nTěšíme se na Vás!\nThis event was curated by the Prague Literary Calendar
URL:https://pragueliterarycalendar.com/calendar/workshop-humanisticky-revizionista-sto-a-jeden-rok-ivana-svitaka/
LOCATION:Náměstí Jana Palacha 2\, 110 00 Prague\, Czech Republic\, Náměstí Jana Palacha 2\, 110 00 Prague\, Czech Republic
CATEGORIES:Activism,Workshop
END:VEVENT
BEGIN:VEVENT
DTSTART;TZID=Europe/Prague:20260327T180000
DTEND;TZID=Europe/Prague:20260327T210000
DTSTAMP:20260421T113928
CREATED:20260327T094349Z
LAST-MODIFIED:20260331T130725Z
UID:11171-1774634400-1774645200@pragueliterarycalendar.com
SUMMARY:FEMINIST PUB QUIZ - Czech feminist history
DESCRIPTION:Come to play a pub quiz with us! This time we will learn about Czech feminism!
URL:https://pragueliterarycalendar.com/calendar/feminist-pub-quiz-czech-feminist-history/
LOCATION:U božích bojovníků 606/3\, 13000 Prague\, Czech Republic\, U božích bojovníků 606/3\, 13000 Prague\, Czech Republic
CATEGORIES:Activism,Book Club,Make Connections
ORGANIZER;CN="Safe space bookstore":MAILTO:noreply@facebookmail.com
END:VEVENT
END:VCALENDAR