BEGIN:VCALENDAR
VERSION:2.0
PRODID:-//The Prague Literary Calendar - ECPv6.15.20//NONSGML v1.0//EN
CALSCALE:GREGORIAN
METHOD:PUBLISH
X-ORIGINAL-URL:https://pragueliterarycalendar.com
X-WR-CALDESC:Events for The Prague Literary Calendar
REFRESH-INTERVAL;VALUE=DURATION:PT1H
X-Robots-Tag:noindex
X-PUBLISHED-TTL:PT1H
BEGIN:VTIMEZONE
TZID:Europe/Prague
BEGIN:DAYLIGHT
TZOFFSETFROM:+0100
TZOFFSETTO:+0200
TZNAME:CEST
DTSTART:20250330T010000
END:DAYLIGHT
BEGIN:STANDARD
TZOFFSETFROM:+0200
TZOFFSETTO:+0100
TZNAME:CET
DTSTART:20251026T010000
END:STANDARD
BEGIN:DAYLIGHT
TZOFFSETFROM:+0100
TZOFFSETTO:+0200
TZNAME:CEST
DTSTART:20260329T010000
END:DAYLIGHT
BEGIN:STANDARD
TZOFFSETFROM:+0200
TZOFFSETTO:+0100
TZNAME:CET
DTSTART:20261025T010000
END:STANDARD
BEGIN:DAYLIGHT
TZOFFSETFROM:+0100
TZOFFSETTO:+0200
TZNAME:CEST
DTSTART:20270328T010000
END:DAYLIGHT
BEGIN:STANDARD
TZOFFSETFROM:+0200
TZOFFSETTO:+0100
TZNAME:CET
DTSTART:20271031T010000
END:STANDARD
END:VTIMEZONE
BEGIN:VEVENT
DTSTART;TZID=Europe/Prague:20260407T183000
DTEND;TZID=Europe/Prague:20260407T200000
DTSTAMP:20260420T151355
CREATED:20260331T120847Z
LAST-MODIFIED:20260331T131453Z
UID:11273-1775586600-1775592000@pragueliterarycalendar.com
SUMMARY:Improv Roots: The Foundations of Doing Improv
DESCRIPTION:A comprehensive 6-week introductory course designed to build a solid foundation in the art of improvisation. Participants will explore the core principles of “Yes\, and\,” active listening\, and spontaneous storytelling in a supportive\, high-energy environment. This workshop is ideal for beginners looking to boost their confidence\, improve public speaking\, or simply explore their creative side through play. \n \n2000 czk for the full course.\nInterested? Sign up here: https://form.typeform.com/to/RUsuXAS0?typeform-source=thetrueimprov.com
URL:https://pragueliterarycalendar.com/calendar/improv-roots-the-foundations-of-doing-improv/
LOCATION:Joi Studio\, Ve Smečkách 592/22\, Praha 1\, 110 00\, Czech Republic
CATEGORIES:Improv,Make Connections,Performance,Public Speaking,Storytelling,Workshop
ORGANIZER;CN="True Improv":MAILTO:matteogonzato@hotmail.com
END:VEVENT
END:VCALENDAR