BEGIN:VCALENDAR
VERSION:2.0
PRODID:-//The Prague Literary Calendar - ECPv6.15.20//NONSGML v1.0//EN
CALSCALE:GREGORIAN
METHOD:PUBLISH
X-WR-CALNAME:The Prague Literary Calendar
X-ORIGINAL-URL:https://pragueliterarycalendar.com
X-WR-CALDESC:Events for The Prague Literary Calendar
REFRESH-INTERVAL;VALUE=DURATION:PT1H
X-Robots-Tag:noindex
X-PUBLISHED-TTL:PT1H
BEGIN:VTIMEZONE
TZID:Europe/Prague
BEGIN:DAYLIGHT
TZOFFSETFROM:+0100
TZOFFSETTO:+0200
TZNAME:CEST
DTSTART:20250330T010000
END:DAYLIGHT
BEGIN:STANDARD
TZOFFSETFROM:+0200
TZOFFSETTO:+0100
TZNAME:CET
DTSTART:20251026T010000
END:STANDARD
BEGIN:DAYLIGHT
TZOFFSETFROM:+0100
TZOFFSETTO:+0200
TZNAME:CEST
DTSTART:20260329T010000
END:DAYLIGHT
BEGIN:STANDARD
TZOFFSETFROM:+0200
TZOFFSETTO:+0100
TZNAME:CET
DTSTART:20261025T010000
END:STANDARD
BEGIN:DAYLIGHT
TZOFFSETFROM:+0100
TZOFFSETTO:+0200
TZNAME:CEST
DTSTART:20270328T010000
END:DAYLIGHT
BEGIN:STANDARD
TZOFFSETFROM:+0200
TZOFFSETTO:+0100
TZNAME:CET
DTSTART:20271031T010000
END:STANDARD
END:VTIMEZONE
BEGIN:VEVENT
DTSTART;TZID=Europe/Prague:20260411T090000
DTEND;TZID=Europe/Prague:20260411T170000
DTSTAMP:20260420T152450
CREATED:20260327T072111Z
LAST-MODIFIED:20260331T125203Z
UID:11011-1775898000-1775926800@pragueliterarycalendar.com
SUMMARY:Critique-Free Writing Group
DESCRIPTION:http://www.praguewritersgroup.com/ \nEvery Saturday from 9-12 & 14-17 we have no-critique writing meetups just to sit down and write (on your own work) in the company of other writers\, no critiquing involved: It’s hosted for free by Locus Workspace and anyone is welcome to come to either one or both sessions.
URL:https://pragueliterarycalendar.com/calendar/critique-free-writing-group-2/
LOCATION:Locus Workspace\, Slezská 857/45\, 130 00 Praha 3-Vinohrady\, Czechia\, Locus Workspace\, Slezská 857/45\, 130 00 Praha 3-Vinohrady\, Czechia
CATEGORIES:Workshop,Writing
END:VEVENT
BEGIN:VEVENT
DTSTART;TZID=Europe/Prague:20260411T150000
DTEND;TZID=Europe/Prague:20260411T180000
DTSTAMP:20260420T152450
CREATED:20260407T122547Z
LAST-MODIFIED:20260407T123335Z
UID:11715-1775919600-1775930400@pragueliterarycalendar.com
SUMMARY:Jewelry workshop : metal silver clay
DESCRIPTION:You’re going to make real silver jewelry. With your own hands. Yes\, really.Pick what you want to make\, a pendant\, a ring\, a brooch\, anything you want. Up to you. No experience needed! \nSilver clay is real silver in a form you can actually shape and work with. It’s easier than it sounds. I promise. And it’s real 999 pure silver. \nThe workshop takes about 2 to 2.5 hours. I’ll walk you through everything. \nWhat’s IncludedAll the silver clay and toolsStep by step explanationHelp whenever you need itI fire and polish everything so your pieces come out finished and ready to wearGood music\, relaxed studio\, no stressPick up your pieces in 1-2 weeks or get them sent via Zásilkovna. \nWhat You’ll Take HomeSilver jewelry you’ll actually wear and bragging rights!A feel for how silver clay worksThe satisfaction of making something with your hands \nThe VibeIt’s not a formal class. Think of it more like making stuff with a friend who happens to know what they’re doing. \nSpots are limited. Book right here https://www.fullspectrumworkshop.com/silver-clay-jewelry-workshop/?date=11.04 \nAdditional InfoFormat: In-person workshop at Vlkova 23\, Prague \nDuration: 2 to 2.5 hoursPrice: from 850  \nMaximum participants: 12 people \nRequired equipment: Provided
URL:https://pragueliterarycalendar.com/calendar/jewelry-workshop-metal-silver-clay/
LOCATION:Full Spectrum Vlkova 23\, 130 00 Praha 3-Žižkov\, Full Spectrum Vlkova 23\, 130 00 Praha 3-Žižkov
CATEGORIES:Craft,Workshop
ORGANIZER;CN="Full Spectrum House":MAILTO:noreply@facebookmail.com
END:VEVENT
END:VCALENDAR