BEGIN:VCALENDAR
VERSION:2.0
PRODID:-//The Prague Literary Calendar - ECPv6.15.20//NONSGML v1.0//EN
CALSCALE:GREGORIAN
METHOD:PUBLISH
X-ORIGINAL-URL:https://pragueliterarycalendar.com
X-WR-CALDESC:Events for The Prague Literary Calendar
REFRESH-INTERVAL;VALUE=DURATION:PT1H
X-Robots-Tag:noindex
X-PUBLISHED-TTL:PT1H
BEGIN:VTIMEZONE
TZID:Europe/Prague
BEGIN:DAYLIGHT
TZOFFSETFROM:+0100
TZOFFSETTO:+0200
TZNAME:CEST
DTSTART:20250330T010000
END:DAYLIGHT
BEGIN:STANDARD
TZOFFSETFROM:+0200
TZOFFSETTO:+0100
TZNAME:CET
DTSTART:20251026T010000
END:STANDARD
BEGIN:DAYLIGHT
TZOFFSETFROM:+0100
TZOFFSETTO:+0200
TZNAME:CEST
DTSTART:20260329T010000
END:DAYLIGHT
BEGIN:STANDARD
TZOFFSETFROM:+0200
TZOFFSETTO:+0100
TZNAME:CET
DTSTART:20261025T010000
END:STANDARD
BEGIN:DAYLIGHT
TZOFFSETFROM:+0100
TZOFFSETTO:+0200
TZNAME:CEST
DTSTART:20270328T010000
END:DAYLIGHT
BEGIN:STANDARD
TZOFFSETFROM:+0200
TZOFFSETTO:+0100
TZNAME:CET
DTSTART:20271031T010000
END:STANDARD
END:VTIMEZONE
BEGIN:VEVENT
DTSTART;TZID=Europe/Prague:20260418T090000
DTEND;TZID=Europe/Prague:20260418T170000
DTSTAMP:20260420T152640
CREATED:20260327T072111Z
LAST-MODIFIED:20260331T125204Z
UID:11012-1776502800-1776531600@pragueliterarycalendar.com
SUMMARY:Critique-Free Writing Group
DESCRIPTION:http://www.praguewritersgroup.com/ \nEvery Saturday from 9-12 & 14-17 we have no-critique writing meetups just to sit down and write (on your own work) in the company of other writers\, no critiquing involved: It’s hosted for free by Locus Workspace and anyone is welcome to come to either one or both sessions.
URL:https://pragueliterarycalendar.com/calendar/critique-free-writing-group-3/
LOCATION:Locus Workspace\, Slezská 857/45\, 130 00 Praha 3-Vinohrady\, Czechia\, Locus Workspace\, Slezská 857/45\, 130 00 Praha 3-Vinohrady\, Czechia
CATEGORIES:Workshop,Writing
END:VEVENT
END:VCALENDAR