BEGIN:VCALENDAR
VERSION:2.0
PRODID:-//The Prague Literary Calendar - ECPv6.15.20//NONSGML v1.0//EN
CALSCALE:GREGORIAN
METHOD:PUBLISH
X-WR-CALNAME:The Prague Literary Calendar
X-ORIGINAL-URL:https://pragueliterarycalendar.com
X-WR-CALDESC:Events for The Prague Literary Calendar
REFRESH-INTERVAL;VALUE=DURATION:PT1H
X-Robots-Tag:noindex
X-PUBLISHED-TTL:PT1H
BEGIN:VTIMEZONE
TZID:Europe/Prague
BEGIN:DAYLIGHT
TZOFFSETFROM:+0100
TZOFFSETTO:+0200
TZNAME:CEST
DTSTART:20250330T010000
END:DAYLIGHT
BEGIN:STANDARD
TZOFFSETFROM:+0200
TZOFFSETTO:+0100
TZNAME:CET
DTSTART:20251026T010000
END:STANDARD
BEGIN:DAYLIGHT
TZOFFSETFROM:+0100
TZOFFSETTO:+0200
TZNAME:CEST
DTSTART:20260329T010000
END:DAYLIGHT
BEGIN:STANDARD
TZOFFSETFROM:+0200
TZOFFSETTO:+0100
TZNAME:CET
DTSTART:20261025T010000
END:STANDARD
BEGIN:DAYLIGHT
TZOFFSETFROM:+0100
TZOFFSETTO:+0200
TZNAME:CEST
DTSTART:20270328T010000
END:DAYLIGHT
BEGIN:STANDARD
TZOFFSETFROM:+0200
TZOFFSETTO:+0100
TZNAME:CET
DTSTART:20271031T010000
END:STANDARD
END:VTIMEZONE
BEGIN:VEVENT
DTSTART;TZID=Europe/Prague:20260420T180000
DTEND;TZID=Europe/Prague:20260420T200000
DTSTAMP:20260420T135737
CREATED:20260320T100827Z
LAST-MODIFIED:20260331T130021Z
UID:10465-1776708000-1776715200@pragueliterarycalendar.com
SUMMARY:Life Drawing Session - Kresba Život
DESCRIPTION:Join us for an uninstructed figure drawing session featuring a range of dynamic poses—short (2-6 minutes) to longer (10-20 minutes). This is a relaxed\, supportive environment for artists of all levels to practice and create together. \n📍 Location: Steinerův sál Lidového domu�Address:– Hybernska 7a\, Prague 1�Entrance is located in the courtyard\, first door to the right (Just after Fio Bank). Steiner Hall is on the 1st Floor.  \nVideo shows the way: https://tinyurl.com/praguelifedrawing \n🎨 Bring Your Own Supplies: Pens\, ink\, paints\, pencils\, paper\, canvas—plus wine\, coffee\, or anything else to fuel your creativity! \n💰 Entry Fee: 200 Kč  \n✅ Please mark “GOING” if you plan to attend so we can prepare the space accordingly. \nFollow our events at PragueLifeDrawing.com
URL:https://pragueliterarycalendar.com/calendar/life-drawing-session-kresba-zivot-5/
LOCATION:Hybernska 7\, 100 00 Prague\, Czech Republic\, Hybernska 7\, 100 00 Prague\, Czech Republic
CATEGORIES:Drawing,Life Drawing
ORGANIZER;CN="Prague Life Drawing":MAILTO:noreply@facebookmail.com
END:VEVENT
BEGIN:VEVENT
DTSTART;TZID=Europe/Prague:20260420T190000
DTEND;TZID=Europe/Prague:20260420T210000
DTSTAMP:20260420T135737
CREATED:20260326T111741Z
LAST-MODIFIED:20260331T125204Z
UID:9884-1776711600-1776718800@pragueliterarycalendar.com
SUMMARY:Globe Creative Writing Group
DESCRIPTION:Globe Creative Writing Group was established in October of 2016. We meet weekly at the Globe Bookstore on Mondays from 19-21.  \nFeel free to come by and introduce yourself\, whether or not your facebook request has been acknowledged by us. We receive many requests\, and prefer to accept those we know will contribute later on. :). \nWe are an eclectic group composed of various writers practising a range of techniques. We’ve so far been writing short fiction\, poetry\, essays\, genre fiction\, experimental prose\, surrealism\, playwriting\, screenwriting\, non-fiction as well as long-term projects. \nThis group relies on and sustains itself through thoughtful and productive critique. During our meetings\, we discuss each member’s submission (should they choose to submit that week) in depth. \n At the end of each meeting\, a prompt is assigned that we will base our submissions for the next week on. Transcending the prompt\, of course\, is always possible. If you would like feedback on a long-term project or a submission that isn’t related to the prompt\, feel free to do so. \n \nRules and Guidelines for Submissions: \n-To ensure everyone can give\, and get\, quality critiques\, we will review no more than 8 submissions per week. \n-Please submit by Saturday at the latest. As many of us have jobs\, families\, holidays etc.\, we need ample time to give thoughtful feedback and criticism to each submission. If you submit later than the Saturday deadline\, don’t worry! We can save your work to critique the next week. \n-If you do submit\, please be present at the meeting that your work will be critiqued. If you cannot make it\, please let the group know via the Facebook group. If we take the time to critique\, we want to know that you will be there to accept feedback. Again\, if you cannot make it\, we will save your submission for the next week. \n-Please do not submit work that is longer than 1\,500 words. We want to make sure everyone receives ample time to discuss and is not overwhelmed by the amount of content they will need to read. Because of this\, please try to adhere to a no more than 1\,500-word standard. \n \nAI Disclaimer \nWriters: If you’ve used AI in your work\, please inform us and tell us to what extent you have used AI. \nCritiques: Please refrain from using AI to assist in your critiques. We are sharing our work with others because we want your perspective. \nPrompts are meant to be broad in order to maximize creativity. We have had long-term projects devised from simple prompts and continue to! It’s a way for us to break free of our comfort zones as writers. Don’t be afraid! \nAs a group\, we also encourage publishing work\, whether it be in Prague or outside. Feel free to post any publishing opportunities you think would fit the group or anyone in it. So far we have had several prize winners and magazine publications from group members. This group is fundamentally about encouragement! \nAny other questions\, please send us a message on Facebook 🙂 \nHappy writing!
URL:https://pragueliterarycalendar.com/calendar/globe-creative-writing-group-12/
LOCATION:The Globe Bookstore And Café\, Pštrossova 1925/6\, Nové Město\, 110 00 Praha-Praha 1\, Czechia\, The Globe Bookstore And Café\, Pštrossova 1925/6\, Nové Město\, 110 00 Praha-Praha 1\, Czechia
CATEGORIES:Workshop,Writing
END:VEVENT
BEGIN:VEVENT
DTSTART;TZID=Europe/Prague:20260422T183000
DTEND;TZID=Europe/Prague:20260422T213000
DTSTAMP:20260420T135737
CREATED:20260407T122151Z
LAST-MODIFIED:20260407T123554Z
UID:11689-1776882600-1776893400@pragueliterarycalendar.com
SUMMARY:Fundamentals Lino cut
DESCRIPTION:You don’t need to know how to draw. You don’t need to be “creative.” You just need to show up. \nLinocut is one of those things that looks impressive but is secretly very doable. And cutting into the block feels so good\, it’s almost suspicious. You’ll carve your design\, smoosh the ink\, press the paper\, peel it back… and suddenly you’ve made something very cool. Something you’ll actually want to keep. New skill unlocked!We’ll be with you the whole time. Ask a gazillion questions. Make a mess. Change your mind halfway through. That’s what workshops are for. We’re here to support you. \nYou’ll leave with a stack of prints\, a new skill\, and that very awesome feeling of: “I made this with my hands\, and it looks so cool!” \nWhat we’ll doDesign your motif (stuck? We’ll help you)Learn to carve: tools\, techniques\, and very solid safety tips (seriously\, even 7-year-olds have done this)Pull as many prints as you wantExperiment with color if you feel like it \nWhat’s included Everything. Lino block\, tools\, ink\, paper\, and an apron. All of it!Ready to make something cool?  \nBook your spot → https://www.fullspectrumworkshop.com/linocut-printing-fundamentals/?date=22.04 \nAdditional info Format: In-person workshop at Vlkova 23\, Prague Duration: 2–3 hours Maximum participants: 12 people Required equipment: All provided
URL:https://pragueliterarycalendar.com/calendar/fundamentals-lino-cut/
LOCATION:Full Spectrum Vlkova 23\, 130 00 Praha 3-Žižkov\, Full Spectrum Vlkova 23\, 130 00 Praha 3-Žižkov
CATEGORIES:Art,Craft,Make Connections,Workshop
ORGANIZER;CN="Full Spectrum House":MAILTO:noreply@facebookmail.com
END:VEVENT
BEGIN:VEVENT
DTSTART;TZID=Europe/Prague:20260425T090000
DTEND;TZID=Europe/Prague:20260425T170000
DTSTAMP:20260420T135737
CREATED:20260327T072111Z
LAST-MODIFIED:20260331T125204Z
UID:11014-1777107600-1777136400@pragueliterarycalendar.com
SUMMARY:Critique-Free Writing Group
DESCRIPTION:http://www.praguewritersgroup.com/\nEvery Saturday from 9-12 & 14-17 we have no-critique writing meetups just to sit down and write (on your own work) in the company of other writers\, no critiquing involved: It’s hosted for free by Locus Workspace and anyone is welcome to come to either one or both sessions.
URL:https://pragueliterarycalendar.com/calendar/critique-free-writing-group-4/
LOCATION:Locus Workspace\, Slezská 857/45\, 130 00 Praha 3-Vinohrady\, Czechia\, Locus Workspace\, Slezská 857/45\, 130 00 Praha 3-Vinohrady\, Czechia
CATEGORIES:Workshop,Writing
END:VEVENT
BEGIN:VEVENT
DTSTART;TZID=Europe/Prague:20260425T100000
DTEND;TZID=Europe/Prague:20260425T130000
DTSTAMP:20260420T135737
CREATED:20260331T113745Z
LAST-MODIFIED:20260331T125638Z
UID:11263-1777111200-1777122000@pragueliterarycalendar.com
SUMMARY:Befriending AI: The Basics & More
DESCRIPTION:Befriending AI: The Basics & More \nGlimpse into what AI actually is\, and how AI transforms teaching and learning. Learn to use AI tools to design lessons\, automate routine tasks\, and foster creativity\, communication\, critical thinking\, and collaboration in your classroom. \nWho Is It For?Teachers of any subject who want to integrate AI meaningfully and responsibly into their practice. \nDate: 25 April 2026Time: 10:00-14:00Place: Vice Versa Academy Dělnická 8\, Holešovice\, PraguePrice: 990czk \nAbout the trainer: \nŁukasz combines academic research with corporate experience in HR and sustainability. He teaches across formal and non-formal education\, focusing on culture\, communication\, and digital tools. In his free time\, he is a photographer\, writer\, and traveler. \nScan the QR code or get tickets here: https://connect.boomevents.org/en/vice-versa-academy-gvaxe/befriending-ai-the-basics-more-fcibt
URL:https://pragueliterarycalendar.com/calendar/befriending-ai-the-basics-more/
LOCATION:Dělnická 8\, Praha\, Dělnická 8\, Praha
CATEGORIES:Workshop
END:VEVENT
BEGIN:VEVENT
DTSTART;TZID=Europe/Prague:20260426T120000
DTEND;TZID=Europe/Prague:20260426T150000
DTSTAMP:20260420T135737
CREATED:20260327T070224Z
LAST-MODIFIED:20260331T125204Z
UID:10158-1777204800-1777215600@pragueliterarycalendar.com
SUMMARY:Shut Up & Write! ve Skauťáku
DESCRIPTION:Shut Up & Write! — a worldwide phenomenon. No matter\, if you’re sixteen or sixty\, come and join us on a writing adventure! Anyone’s welcome! You don’t have to be an established author. In fact\, you don’t have to be an author at all! Join our laid‐back group on a Sunday afternoon\, and work on anything you desire. A novel\, a short story\, a screenplay\, a diary entry\, a scientific paper\, a poem\, a recipe\, a blogpost\, or maybe just an urgent e‐mail? Whatever it is that’s on your mind\, we’re here to silently support your efforts. You’ll find us every Sunday at high noon in one of the café back rooms — usually the first one. We gather\, grab some refreshments\, and around 12:15 start a short introductory round. Then we — as expected — Shut Up & Write! We write in two 45‐minute blocks with about 15‐minute break in between to stretch\, resupply\, or visit the bathroom. Perfect for networking too! At the end\, we have a short wrap‐up loop. Sometimes we stay and chat a bit afterwards\, share news\, ideas\, fresh thoughts… But we’re usually done even with that by 3 pm latest. Of course\, you’re free to leave anytime! Started by a San Francisco based sci‐fi writer Rennie Saunders in 2007\, based on years of experience\, and joined by over 10\,000 writers in over 400 cities in more than 60 countries worldwide. Now in Prague! Come try the magic of writing in a company. The primary communication language is English\, but you can write anything you want\, in any language you prefer. No sharing\, no critique\, no stress\, completely free. Participants can be assisted in Czech if necessary. ~~~ Shut Up & Write! (Zmlkni a piš!) — celosvětový fenomén. Ať už je ti šestnáct nebo šedesát\, přijď a připoj se k našemu psacímu dobrodužství! Všichni jsou vítáni! Nemusíš být zavedený/á spisovatel/ka. Vlastně vůbec nemusíš být spisovatel/ka! Připoj se k naší uvolněné skupině během nedělního odpoledne a pracuj na čemkoliv se ti zachce. Román\, povídka\, scénář\, deníček\, vědecký článek\, báseň\, recept\, blog\, nebo třeba jen urgentní e‐mail? Ať už myslíš na cokoliv\, my tvé úsilí tiše podpoříme. Najdeš nás každou neděli v pravé poledne v jedné za zadních místností kavárny — obvykle té první. Sejdeme se\, dáme si něco dobrého\, a okolo 12:15 začneme krátké úvodní kolečko. Potom — dle očekávání — zmlkneme a píšeme! Píšeme ve dvou 45minutových blocích s přibližně 15minutovou pauzou uprostřed na protažení\, doplnění zásob\, nebo návštěvu toalet. Také je to skvělá příležitost pro navázání hovoru! Na konci pak máme krátké shrnutí. Občas se zdržíme a zabředneme do hovoru\, sdílíme novinky\, nápady\, čerstvé myšlenky… I tak ale býváme nejpozději kolem třetí hotovi se vším všudy. Můžeš ale samozřejmě odejít kdykoliv! Stvořeno sanfranciským autorem sci‐fi Rennie Saundersem v roce 2007\, založeno na letech zkušeností\, s více než 10 000 účastníky z více než 400 měst ve více než 60 zemích. Nyní i v Praze! Přijď zkusit kouzlo skupinového psaní. Primárním komunikačním jazykem je angličtina\, ale můžeš psát cokoliv chceš v jakémkoliv jazyce uznáš za vhodné. Žádné sdílení\, žádná kritika\, žádný stres\, zcela zdarma. A pokud je angličtina problém\, rádi ti pomůžeme i česky! 
URL:https://pragueliterarycalendar.com/calendar/shut-up-write-ve-skautaku-9/
LOCATION:Scout Institute\, Staroměstské nám. 4/1\, Staré Město\, 110 00 Praha-Praha 1\, Czechia\, Scout Institute\, Staroměstské nám. 4/1\, Staré Město\, 110 00 Praha-Praha 1\, Czechia
CATEGORIES:Workshop,Writing
END:VEVENT
BEGIN:VEVENT
DTSTART;TZID=Europe/Prague:20260426T160000
DTEND;TZID=Europe/Prague:20260426T190000
DTSTAMP:20260420T135737
CREATED:20260413T103402Z
LAST-MODIFIED:20260413T104517Z
UID:11855-1777219200-1777230000@pragueliterarycalendar.com
SUMMARY:SONG WRITING WORKSHOP
DESCRIPTION:Songwriting Workshop📅26.04⏰ 16:00 – 18:00📍 ŽižkovšiškaHusitská 888/11PragueWhat you will learn🎼 How real songs are structuredUnderstand verse\, pre-chorus\, chorus and emotional flow.✍️ How to write lyrics that feel realTurn emotions and ideas into strong lines and hooks.🎤 How to create melodies over musicLearn simple techniques to build melody on instrumental tracks.🎧 How producers shape a songUnderstand demo creation and basic song direction.🤝 Creative group exercisesWrite and perform short song ideas together. \n⚡ Limited capacity \nRegistration contact:📞 +420 722 235 883
URL:https://pragueliterarycalendar.com/calendar/song-writing-workshop/
LOCATION:žižkovšiška\, žižkovšiška
CATEGORIES:Music,Workshop,Writing
END:VEVENT
BEGIN:VEVENT
DTSTART;TZID=Europe/Prague:20260427T180000
DTEND;TZID=Europe/Prague:20260427T200000
DTSTAMP:20260420T135737
CREATED:20260320T100737Z
LAST-MODIFIED:20260331T130021Z
UID:10459-1777312800-1777320000@pragueliterarycalendar.com
SUMMARY:Life Drawing Session - Kresba Život
DESCRIPTION:Join us for an uninstructed figure drawing session featuring a range of dynamic poses—short (2-6 minutes) to longer (10-20 minutes). This is a relaxed\, supportive environment for artists of all levels to practice and create together. \n📍 Location: Steinerův sál Lidového domu�Address:– Hybernska 7a\, Prague 1�Entrance is located in the courtyard\, first door to the right (Just after Fio Bank). Steiner Hall is on the 1st Floor.  \nVideo shows the way: https://tinyurl.com/praguelifedrawing \n🎨 Bring Your Own Supplies: Pens\, ink\, paints\, pencils\, paper\, canvas—plus wine\, coffee\, or anything else to fuel your creativity! \n💰 Entry Fee: 200 Kč  \n✅ Please mark “GOING” if you plan to attend so we can prepare the space accordingly. \nFollow our events at PragueLifeDrawing.com
URL:https://pragueliterarycalendar.com/calendar/life-drawing-session-kresba-zivot-2/
LOCATION:Hybernska 7\, 100 00 Prague\, Czech Republic\, Hybernska 7\, 100 00 Prague\, Czech Republic
CATEGORIES:Drawing,Life Drawing
ORGANIZER;CN="Prague Life Drawing":MAILTO:noreply@facebookmail.com
END:VEVENT
BEGIN:VEVENT
DTSTART;TZID=Europe/Prague:20260427T190000
DTEND;TZID=Europe/Prague:20260427T210000
DTSTAMP:20260420T135737
CREATED:20260326T111742Z
LAST-MODIFIED:20260331T125204Z
UID:9885-1777316400-1777323600@pragueliterarycalendar.com
SUMMARY:Globe Creative Writing Group
DESCRIPTION:Globe Creative Writing Group was established in October of 2016. We meet weekly at the Globe Bookstore on Mondays from 19-21.  \nFeel free to come by and introduce yourself\, whether or not your facebook request has been acknowledged by us. We receive many requests\, and prefer to accept those we know will contribute later on. :). \nWe are an eclectic group composed of various writers practising a range of techniques. We’ve so far been writing short fiction\, poetry\, essays\, genre fiction\, experimental prose\, surrealism\, playwriting\, screenwriting\, non-fiction as well as long-term projects. \nThis group relies on and sustains itself through thoughtful and productive critique. During our meetings\, we discuss each member’s submission (should they choose to submit that week) in depth. \n At the end of each meeting\, a prompt is assigned that we will base our submissions for the next week on. Transcending the prompt\, of course\, is always possible. If you would like feedback on a long-term project or a submission that isn’t related to the prompt\, feel free to do so. \n \nRules and Guidelines for Submissions: \n-To ensure everyone can give\, and get\, quality critiques\, we will review no more than 8 submissions per week. \n-Please submit by Saturday at the latest. As many of us have jobs\, families\, holidays etc.\, we need ample time to give thoughtful feedback and criticism to each submission. If you submit later than the Saturday deadline\, don’t worry! We can save your work to critique the next week. \n-If you do submit\, please be present at the meeting that your work will be critiqued. If you cannot make it\, please let the group know via the Facebook group. If we take the time to critique\, we want to know that you will be there to accept feedback. Again\, if you cannot make it\, we will save your submission for the next week. \n-Please do not submit work that is longer than 1\,500 words. We want to make sure everyone receives ample time to discuss and is not overwhelmed by the amount of content they will need to read. Because of this\, please try to adhere to a no more than 1\,500-word standard. \n \nAI Disclaimer \nWriters: If you’ve used AI in your work\, please inform us and tell us to what extent you have used AI. \nCritiques: Please refrain from using AI to assist in your critiques. We are sharing our work with others because we want your perspective. \nPrompts are meant to be broad in order to maximize creativity. We have had long-term projects devised from simple prompts and continue to! It’s a way for us to break free of our comfort zones as writers. Don’t be afraid! \nAs a group\, we also encourage publishing work\, whether it be in Prague or outside. Feel free to post any publishing opportunities you think would fit the group or anyone in it. So far we have had several prize winners and magazine publications from group members. This group is fundamentally about encouragement! \nAny other questions\, please send us a message on Facebook 🙂 \nHappy writing!
URL:https://pragueliterarycalendar.com/calendar/globe-creative-writing-group-13/
LOCATION:The Globe Bookstore And Café\, Pštrossova 1925/6\, Nové Město\, 110 00 Praha-Praha 1\, Czechia\, The Globe Bookstore And Café\, Pštrossova 1925/6\, Nové Město\, 110 00 Praha-Praha 1\, Czechia
CATEGORIES:Workshop,Writing
END:VEVENT
BEGIN:VEVENT
DTSTART;TZID=Europe/Prague:20260430T160000
DTEND;TZID=Europe/Prague:20260430T190000
DTSTAMP:20260420T135737
CREATED:20260225T160945Z
LAST-MODIFIED:20260331T125204Z
UID:10159-1777564800-1777575600@pragueliterarycalendar.com
SUMMARY:Literární dílny s Terezou Matouškovou - Smíchov
DESCRIPTION:Píšete do šuplíku? Toužíte jednoho dne vydat knihu? Chcete sedozvědět něco víc o tvůrčím psaní? Přijďte si zkusit párkreativních úkolů mezi lidi\, kteří mají stejný sen jako vy. Literárnídílny pro mládež pod vedením Terezy Matouškové můžete navštítiti z pohodlí svého domova! Tak to nepropásněte!
URL:https://pragueliterarycalendar.com/calendar/literarni-dilny-s-terezou-matouskovou-smichov-5/
LOCATION:Municipal Library of Prague – Smíchov\, nám. 14. října 83/15\, 150 00 Praha 5-Smíchov\, Czechia\, Municipal Library of Prague - Smíchov\, nám. 14. října 83/15\, 150 00 Praha 5-Smíchov\, Czechia
CATEGORIES:Workshop,Writing
END:VEVENT
BEGIN:VEVENT
DTSTART;TZID=Europe/Prague:20260430T183000
DTEND;TZID=Europe/Prague:20260430T203000
DTSTAMP:20260420T135737
CREATED:20260407T124127Z
LAST-MODIFIED:20260407T124326Z
UID:11736-1777573800-1777581000@pragueliterarycalendar.com
SUMMARY:Scribbles and Giggles Creative Writing Session
DESCRIPTION:Join us for a fun creative evening where you will write a brand new story in 40 minutes (based on creative writing prompts). \nUnlock your creativity! Play with plots and words! Share your story and get feedback from new friends. \nEntry fee: 150czk if you book in advance\, 200czk for walk-ins\, 100czk for those with a Scribbles Loyalty card. \nBring your own writing materials. All writers welcome!! \nPlease buzz the door for Locus workspace. The entrance to the space is on the fourth floor. \nWhen you reach the fourth floor\, you will need to buzz another door to get inside. We’ll be in the big meeting room (on the right as you walk up the stairs). \nSubscribe to the the Prague Literary Calendar as well for more events.
URL:https://pragueliterarycalendar.com/calendar/scribbles-and-giggles-creative-writing-session-6/
LOCATION:Locus Workspace\, Locus Workspace
CATEGORIES:Workshop,Writing
ORGANIZER;CN="Debbie Liebenberg":MAILTO:noreply@facebookmail.com
END:VEVENT
END:VCALENDAR