BEGIN:VCALENDAR
VERSION:2.0
PRODID:-//The Prague Literary Calendar - ECPv6.15.20//NONSGML v1.0//EN
CALSCALE:GREGORIAN
METHOD:PUBLISH
X-ORIGINAL-URL:https://pragueliterarycalendar.com
X-WR-CALDESC:Events for The Prague Literary Calendar
REFRESH-INTERVAL;VALUE=DURATION:PT1H
X-Robots-Tag:noindex
X-PUBLISHED-TTL:PT1H
BEGIN:VTIMEZONE
TZID:Europe/Prague
BEGIN:DAYLIGHT
TZOFFSETFROM:+0100
TZOFFSETTO:+0200
TZNAME:CEST
DTSTART:20250330T010000
END:DAYLIGHT
BEGIN:STANDARD
TZOFFSETFROM:+0200
TZOFFSETTO:+0100
TZNAME:CET
DTSTART:20251026T010000
END:STANDARD
BEGIN:DAYLIGHT
TZOFFSETFROM:+0100
TZOFFSETTO:+0200
TZNAME:CEST
DTSTART:20260329T010000
END:DAYLIGHT
BEGIN:STANDARD
TZOFFSETFROM:+0200
TZOFFSETTO:+0100
TZNAME:CET
DTSTART:20261025T010000
END:STANDARD
BEGIN:DAYLIGHT
TZOFFSETFROM:+0100
TZOFFSETTO:+0200
TZNAME:CEST
DTSTART:20270328T010000
END:DAYLIGHT
BEGIN:STANDARD
TZOFFSETFROM:+0200
TZOFFSETTO:+0100
TZNAME:CET
DTSTART:20271031T010000
END:STANDARD
END:VTIMEZONE
BEGIN:VEVENT
DTSTART;TZID=Europe/Prague:20260403T173000
DTEND;TZID=Europe/Prague:20260403T203000
DTSTAMP:20260420T111812
CREATED:20260327T094450Z
LAST-MODIFIED:20260331T124639Z
UID:11175-1775237400-1775248200@pragueliterarycalendar.com
SUMMARY:Život Briana v Biu Oko
DESCRIPTION:🐣Ve své době vyvolal Život Briana skandál kvůli neúctě k církvi\, dnes zbyl velice zábavný snímek parodující příběh o Ježíši. Brian se totiž narodil ve stejný den jako Mesiáš\, se kterým si ho všichni pletou\, což vede ke spoustě absurdních gagů. Hlavní hrdina se připojuje k Lidové frontě Judee\, aby pomohl svou zemi osvobodit od nadvlády Římanů. A to i přesto\, že Římani dali Židům vodovod\, silnice\, pořádek\, kanalizace\, školství\, víno…To je snad bez debat\, ne? \n⏳ 3. dubna v 17.30🎟️ Vstupenky: biooko.net/zivot-briana \nŠestice z Monty Python se tu objevuje hned v několika rolích. Graham Chapman hraje nejen Briana ale i Pya Čůra\, Michael Palin se objevuje v roli Piláta i soucitného dozorce vydávajícího kříže odsouzencům na smrt atd. Známým vtipálkům při natáčení posloužily dokonce i marocké kulisy Hvězdných válek. \n———- \n🇬🇧 Monty Python delivers the group’s sharpest and smartest satire of both religion and Hollywood’s epic films. Set in 33 A.D. Judea where the exasperated Romans try to impose order\, it is a time of chaos and change with no shortage of messiahs and followers willing to believe them. At it’s center is Brian Cohen\, born in Bethlehem in a stable next door\, who\, by a series of absurd circumstances is caught up in the new religion and reluctantly mistake for the promised messiah\, providing ample opportunity for the entire ensemble (Graham Chapman\, John Cleese\, Terry Gilliam\, Eric Idle\, Terry Jones and Michael Palin) to shine in multiple roles as they question everyone and everything from ex-lepers\, Pontius Pilate and haggling to revolutionaries\, crazy prophets\, religious fanaticism\, Roman centurions and crucifixion\, forever changing our biblical view. \n⏳ April 3 at 17.30🎟️ Tickets: biooko.net/zivot-briana
URL:https://pragueliterarycalendar.com/calendar/zivot-briana-v-biu-oko/
LOCATION:Františka Křížka 15\, 170 00 Prague\, Czech Republic\, Františka Křížka 15\, 170 00 Prague\, Czech Republic
CATEGORIES:Film
ORGANIZER;CN="BIO | OKO":MAILTO:noreply@facebookmail.com
END:VEVENT
BEGIN:VEVENT
DTSTART;TZID=Europe/Prague:20260403T180000
DTEND;TZID=Europe/Prague:20260403T220000
DTSTAMP:20260420T111812
CREATED:20251129T123113Z
LAST-MODIFIED:20260331T130724Z
UID:9168-1775239200-1775253600@pragueliterarycalendar.com
SUMMARY:Face to Face with Artistis in prague
DESCRIPTION:WHY?The “Artists in Prague” PB group was created almost ten years ago\, when I settled in Prague\, yet we’ve never met in person. It’s time to meet face-to-face and let new collaborations flourish. In many sectors\, foreign and local artists are still separated and show little interest in each other. Why is that? Let’s demystify this separation and create a more dynamic\, inclusive\, and international art community. \nWHEN?We will meet every first and third Friday of the month at a cozy café in Prague 1\, the Dorado Cafe\, starting at 18:00. Bring your friends\, share ideas\, and let’s make it happen! \nhttps://www.facebook.com/events/1757825948670681/?event_time_id=1757828665337076
URL:https://pragueliterarycalendar.com/calendar/face-to-face-with-artistis-in-prague/
LOCATION:Betlémské nám. 269/1\, 110 00 Staré Město\, Betlémské nám. 269/1\, 110 00 Staré Město
CATEGORIES:Art,Make Connections
END:VEVENT
END:VCALENDAR