BEGIN:VCALENDAR
VERSION:2.0
PRODID:-//The Prague Literary Calendar - ECPv6.15.20//NONSGML v1.0//EN
CALSCALE:GREGORIAN
METHOD:PUBLISH
X-ORIGINAL-URL:https://pragueliterarycalendar.com
X-WR-CALDESC:Events for The Prague Literary Calendar
REFRESH-INTERVAL;VALUE=DURATION:PT1H
X-Robots-Tag:noindex
X-PUBLISHED-TTL:PT1H
BEGIN:VTIMEZONE
TZID:Europe/Prague
BEGIN:DAYLIGHT
TZOFFSETFROM:+0100
TZOFFSETTO:+0200
TZNAME:CEST
DTSTART:20250330T010000
END:DAYLIGHT
BEGIN:STANDARD
TZOFFSETFROM:+0200
TZOFFSETTO:+0100
TZNAME:CET
DTSTART:20251026T010000
END:STANDARD
BEGIN:DAYLIGHT
TZOFFSETFROM:+0100
TZOFFSETTO:+0200
TZNAME:CEST
DTSTART:20260329T010000
END:DAYLIGHT
BEGIN:STANDARD
TZOFFSETFROM:+0200
TZOFFSETTO:+0100
TZNAME:CET
DTSTART:20261025T010000
END:STANDARD
BEGIN:DAYLIGHT
TZOFFSETFROM:+0100
TZOFFSETTO:+0200
TZNAME:CEST
DTSTART:20270328T010000
END:DAYLIGHT
BEGIN:STANDARD
TZOFFSETFROM:+0200
TZOFFSETTO:+0100
TZNAME:CET
DTSTART:20271031T010000
END:STANDARD
END:VTIMEZONE
BEGIN:VEVENT
DTSTART;TZID=Europe/Prague:20260409T183000
DTEND;TZID=Europe/Prague:20260409T203000
DTSTAMP:20260420T113206
CREATED:20260407T124147Z
LAST-MODIFIED:20260407T124325Z
UID:11738-1775759400-1775766600@pragueliterarycalendar.com
SUMMARY:Scribbles and Giggles Creative Writing Session
DESCRIPTION:Join us for a fun creative evening where you will write a brand new story in 40 minutes (based on creative writing prompts). \nUnlock your creativity! Play with plots and words! Share your story and get feedback from new friends. \nEntry fee: 150czk if you book in advance\, 200czk for walk-ins\, 100czk for those with a Scribbles Loyalty card. \nBring your own writing materials. All writers welcome!! \nPlease buzz the door for Locus workspace. The entrance to the space is on the fourth floor. \nWhen you reach the fourth floor\, you will need to buzz another door to get inside. We’ll be in the big meeting room (on the right as you walk up the stairs). \nSubscribe to the the Prague Literary Calendar as well for more events.
URL:https://pragueliterarycalendar.com/calendar/scribbles-and-giggles-creative-writing-session-7/
LOCATION:Locus Workspace\, Locus Workspace
CATEGORIES:Workshop,Writing
ORGANIZER;CN="Debbie Liebenberg":MAILTO:noreply@facebookmail.com
END:VEVENT
END:VCALENDAR