BEGIN:VCALENDAR
VERSION:2.0
PRODID:-//The Prague Literary Calendar - ECPv6.15.20//NONSGML v1.0//EN
CALSCALE:GREGORIAN
METHOD:PUBLISH
X-ORIGINAL-URL:https://pragueliterarycalendar.com
X-WR-CALDESC:Events for The Prague Literary Calendar
REFRESH-INTERVAL;VALUE=DURATION:PT1H
X-Robots-Tag:noindex
X-PUBLISHED-TTL:PT1H
BEGIN:VTIMEZONE
TZID:Europe/Prague
BEGIN:DAYLIGHT
TZOFFSETFROM:+0100
TZOFFSETTO:+0200
TZNAME:CEST
DTSTART:20250330T010000
END:DAYLIGHT
BEGIN:STANDARD
TZOFFSETFROM:+0200
TZOFFSETTO:+0100
TZNAME:CET
DTSTART:20251026T010000
END:STANDARD
BEGIN:DAYLIGHT
TZOFFSETFROM:+0100
TZOFFSETTO:+0200
TZNAME:CEST
DTSTART:20260329T010000
END:DAYLIGHT
BEGIN:STANDARD
TZOFFSETFROM:+0200
TZOFFSETTO:+0100
TZNAME:CET
DTSTART:20261025T010000
END:STANDARD
BEGIN:DAYLIGHT
TZOFFSETFROM:+0100
TZOFFSETTO:+0200
TZNAME:CEST
DTSTART:20270328T010000
END:DAYLIGHT
BEGIN:STANDARD
TZOFFSETFROM:+0200
TZOFFSETTO:+0100
TZNAME:CET
DTSTART:20271031T010000
END:STANDARD
END:VTIMEZONE
BEGIN:VEVENT
DTSTART;TZID=Europe/Prague:20260503T190000
DTEND;TZID=Europe/Prague:20260503T230000
DTSTAMP:20260420T154709
CREATED:20260327T093256Z
LAST-MODIFIED:20260331T131431Z
UID:11126-1777834800-1777849200@pragueliterarycalendar.com
SUMMARY:Peter Doherty (UK) - PRAGUE
DESCRIPTION:Peter Doherty\, hlas legendárních The Libertines nebo Babyshambles\, se na své sólové dráze vydal směrem indie-folku. Svou nejnovější desku Felt Better Alive přijede představit českému publiku už 3. května 2026 do klubu MeetFactory. \nVstupenky v prodeji právě teď na GoOuthttps://goout.net/cs/listky/peter-doherty/lkqjb/. \nPeter se do hudební historie zapsal především díky kapele The Libertines\, kterou společně s Carlem Barâtem založil a v níž zpívá\, hraje na kytaru a píše texty. Kritici ho v začátcích kapely označovali za jednoho z nejvíce slibných textařů své generace. \nV roce 2009 přišel i se sólovým projektem\, v němž úspěšně pokračuje dodnes. Jeho poslední album Felt Better Alive (2025) představuje sbírku písní s akustickými\, orchestrálními i country prvky. Skladby jsou navíc protkané Peterovým charakteristickým citem pro melodii\, svérázným poetickým realismem a silným vypravěčským talentem. Navíc deska vznikala ve výjimečném období Peterova života – v době\, kdy jeho manželka Katia čekala jejich společné dítě. \n„Nejsou to nutně veselé písničky\, ale mají v sobě něco povznášejícího\, i když jsou o něčem melancholickém\,“ říká Peter. „Je to kolekce písní\, které opravdu miluji\, a kdo ví\, možná s tím bude souhlasit i celý svět!“
URL:https://pragueliterarycalendar.com/calendar/peter-doherty-uk-prague/
LOCATION:MeetFactory\, MeetFactory
CATEGORIES:Music,Performance
END:VEVENT
END:VCALENDAR