BEGIN:VCALENDAR
VERSION:2.0
PRODID:-//The Prague Literary Calendar - ECPv6.15.20//NONSGML v1.0//EN
CALSCALE:GREGORIAN
METHOD:PUBLISH
X-ORIGINAL-URL:https://pragueliterarycalendar.com
X-WR-CALDESC:Events for The Prague Literary Calendar
REFRESH-INTERVAL;VALUE=DURATION:PT1H
X-Robots-Tag:noindex
X-PUBLISHED-TTL:PT1H
BEGIN:VTIMEZONE
TZID:Europe/Prague
BEGIN:DAYLIGHT
TZOFFSETFROM:+0100
TZOFFSETTO:+0200
TZNAME:CEST
DTSTART:20250330T010000
END:DAYLIGHT
BEGIN:STANDARD
TZOFFSETFROM:+0200
TZOFFSETTO:+0100
TZNAME:CET
DTSTART:20251026T010000
END:STANDARD
BEGIN:DAYLIGHT
TZOFFSETFROM:+0100
TZOFFSETTO:+0200
TZNAME:CEST
DTSTART:20260329T010000
END:DAYLIGHT
BEGIN:STANDARD
TZOFFSETFROM:+0200
TZOFFSETTO:+0100
TZNAME:CET
DTSTART:20261025T010000
END:STANDARD
BEGIN:DAYLIGHT
TZOFFSETFROM:+0100
TZOFFSETTO:+0200
TZNAME:CEST
DTSTART:20270328T010000
END:DAYLIGHT
BEGIN:STANDARD
TZOFFSETFROM:+0200
TZOFFSETTO:+0100
TZNAME:CET
DTSTART:20271031T010000
END:STANDARD
END:VTIMEZONE
BEGIN:VEVENT
DTSTART;TZID=Europe/Prague:20260328T090000
DTEND;TZID=Europe/Prague:20260328T170000
DTSTAMP:20260424T104459
CREATED:20251129T130851Z
LAST-MODIFIED:20260331T125202Z
UID:9226-1774688400-1774717200@pragueliterarycalendar.com
SUMMARY:Critique-Free Writing Group
DESCRIPTION:Every Saturday from 9-12 & 14-17 we have no-critique writing meetups just to sit down and write (on your own work) in the company of other writers\, no critiquing involved: It’s hosted for free by Locus Workspace and anyone is welcome to come to either one or both sessions. \nDetails (link to the current meeting) on the link below.
URL:https://pragueliterarycalendar.com/calendar/critique-free-writing-group-18/
LOCATION:Locus Workspace\, Slezská 857/45\, 130 00 Praha 3-Vinohrady\, Czechia\, Locus Workspace\, Slezská 857/45\, 130 00 Praha 3-Vinohrady\, Czechia
CATEGORIES:Workshop,Writing
END:VEVENT
BEGIN:VEVENT
DTSTART;TZID=Europe/Prague:20260328T100000
DTEND;TZID=Europe/Prague:20260328T190000
DTSTAMP:20260424T104459
CREATED:20260320T112339Z
LAST-MODIFIED:20260331T130755Z
UID:10486-1774692000-1774724400@pragueliterarycalendar.com
SUMMARY:BookFest Praha 2026
DESCRIPTION:📚✨ **BOOKFEST PRAHA** ✨📚 \n🗓️ **Sobota 28. března 2026 | 10:00 – 19:00**\n📍 **Kampus Hybernská\, Hybernská 5\, Praha 1** \nDen plný literatury\, hudby a setkání s výjimečnými autory v osvědčených prostorách Kampusu Hybernská – místě\, kde se potkává kultura\, občanská společnost i svět literatury. 🏛️\n━━━━━━━━━━━━━━━━━━━━━ \n🕐 **12:40** | 📖 NAUTILUS – Nové knihy Josefa Štogra\n➤ *Já Josef Egyptský* a *Samuel\, Sokrates a já*\nSpolu s autorem vystoupí Jan Urban a Jiří Bárta.\n„Není ve světě místo\, ze kterého bychom se nemohli dívat.”\n━━━━━━━━━━━━━━━━━━━━━ \n🕑 **13:30** | 🌴 Milan Jakobec – beseda & autorské čtení\n➤ *Z Kostariky na Kubu\, chceš-li dostat přes hubu*\nVzpomínky na diplomatické působení v Kostarice a na Kubě + živá hudba inspirovaná střední Amerikou. 🎵\n━━━━━━━━━━━━━━━━━━━━━ \n🕒 **14:30** | 🎙️ Magda Vášáryová v diskuzi s Petrem Šabatou\n➤ *Než zmizím* (bestseller!)\nHerečka\, socioložka a diplomatka promluví bez obalu o stavu dnešní střední Evropy. 🇨🇿🇸🇰\n━━━━━━━━━━━━━━━━━━━━━ \n🕓 **15:45** | 🎶 KONCERT – Jiří Dědeček\nPísničkář\, básník\, spisovatel a překladatel představí své nejnovější CD. 🎸\n━━━━━━━━━━━━━━━━━━━━━ \n🕔 **16:45** | 🗺️ Sylva Fischerová – autorské čtení\n➤ *Pupek světa a slinivka břišní – Pražské povídky*\nPraha plná drápů\, trhlin a příběhů – od Žižkova po Zbraslav. „Tahle matička má drápy.” 🐾\n━━━━━━━━━━━━━━━━━━━━━ \n🕔 **17:45** | 🔥 Jakub Stanjura & Sára Zeithammerová\n➤ Jakub Stanjura: *Medúzy* – psychologická próza\, body horror\, záhada\n➤ Sára Zeithammerová: *Svatá* – napětí\, víra a zjevení na Broumovsku v 19. století\n━━━━━━━━━━━━━━━━━━━━━ \n🖨️ **PO CELÝ DEN** na dvoře:\n**Tiskařská dílna** – přijďte si vyzkoušet! \n━━━━━━━━━━━━━━━━━━━━━ \n🎟️ **Vstup volný**\n🚇 Metro B – Náměstí Republiky | Tram – Masarykovo nádraží
URL:https://pragueliterarycalendar.com/calendar/bookfest-praha-2026/
LOCATION:Kampus Hybernská\, Kampus Hybernská
CATEGORIES:Book Club,Festival
ORGANIZER;CN="Cech nakladatel%C5%AF":MAILTO:noreply@facebookmail.com
END:VEVENT
BEGIN:VEVENT
DTSTART;TZID=Europe/Prague:20260328T140000
DTEND;TZID=Europe/Prague:20260328T170000
DTSTAMP:20260424T104459
CREATED:20260327T092952Z
LAST-MODIFIED:20260331T131454Z
UID:11104-1774706400-1774717200@pragueliterarycalendar.com
SUMMARY:Plešatá princezna (Struny dětem)
DESCRIPTION:Příběh o jedné malinko drzé princezně se zlatými vlasy\, která pro svou lásku podstoupí nejedno nebezpečí a jednu zcela zásadní oběť. \nKrásná\, leč malinko (nebo hodně?) drzá princezna se zlatými vlasy odmítá jednoho nápadníka za druhým. Láska si ji však nakonec najde\, ovšem svou prostořekostí zakleje vyvoleného prince v drozda! Vydává se tedy na dobrodružnou\, ba přímo nebezpečnou výpravu za jeho vysvobozením. Za záchranu svého prince zaplatí Zlatovláska vysokou cenu\, ale jako v každé správné pohádce nakonec všechno šťastně skončí! \nPůvabný pohádkový příběh\, zpracovává námět Zlatovláska (Goldhärchen) a původní písně z pera německé autorky Leny Stein-Schneider\, která si v letech 1942 až 1945 prošla útrapami terezínského ghetta. Mladý inscenační tým stvořil poetické\, humorné\, poučné\, interaktivní\, akční a hravé divadlo v jazyce blízkém dnešnímu dětskému divákovi.  \nPořadatel: Mezinárodní divadelní festival Regiony
URL:https://pragueliterarycalendar.com/calendar/plesata-princezna-struny-detem/
LOCATION:Divadlo Minor\, Divadlo Minor
CATEGORIES:Performance,Theatre
END:VEVENT
BEGIN:VEVENT
DTSTART;TZID=Europe/Prague:20260328T173000
DTEND;TZID=Europe/Prague:20260328T203000
DTSTAMP:20260424T104459
CREATED:20260323T174354Z
LAST-MODIFIED:20260331T131454Z
UID:10731-1774719000-1774729800@pragueliterarycalendar.com
SUMMARY:SOUL A SANZA - Conte poétique et musical
DESCRIPTION:SOUL A SANZA est un conte poétique et musical\, issu de l’adapation du Recueil de Poèmes ‘SOUL A SANZA’.Ce conte met en scène un voyage initiatique à travers la poésie\, la puissance des mots et le chant.Les rythmes de l ‘instrument de musique SANZA\, nous accompagnent tout au long de la narration du conte.
URL:https://pragueliterarycalendar.com/calendar/soul-a-sanza-conte-poetique-et-musical/
LOCATION:Boudoir u sta rán\, Boudoir u sta rán
CATEGORIES:Music,Performance,Poetry
END:VEVENT
BEGIN:VEVENT
DTSTART;TZID=Europe/Prague:20260328T193000
DTEND;TZID=Europe/Prague:20260328T210000
DTSTAMP:20260424T104459
CREATED:20260128T153516Z
LAST-MODIFIED:20260331T131454Z
UID:9904-1774726200-1774731600@pragueliterarycalendar.com
SUMMARY:Animal Farm
DESCRIPTION:Animal Farm Returns on Stage! \nThe play is based on Goerge Orwell’s 1945 novella originally published as Animal Farm: A Fairy Story. Do not be fooled by the sub-title. It is no children’s material\, its imagery is wholly bleak\, and its humour dark\, if not absent at all. The satirical fable specifically lampoons Lenin’s and Stalin’s Soviet Union and an admiration thereof in various circles in the United Kingdom. However\, Orwell’s penchant for capturing the essence of the subject matter allows for a more universal metaphor. You can pick your (least) favourite revolution that succeeded in establishing a modern dictatorship and parallels are there to be found. You may even recognize moments in the story almost as cliché\, but they will strike you all the more for their pungency\, acerbity\, and effectiveness. \nAdapted by Ian Wooldridge \nDirected by Martin Murín and Anna Jiroušková \nCast: \nSoňa Bartková\, Vasilina Pazdnikova\, Eleonora Yusupbaeva\, Martina Seidlová\, Charles Simos Zeind\, Milan Ondruch\, Omar Dahy\, Anastasia Sultangirova\, Luboš Duda\, Daria Shudrenko\, Pavla Roučková\, Aleš Gregor\, Nika Arriesgado\, Pavlína Doláková\, Lubomir Kracun\, Oleh Petrusenko\, Viktoriia Barkova \nMusic Arrangement & Vocal Coaching: \nBára Dočkalová \nSound Design: \nDavid Le Cam \nSet Design: \nMartin Murín \nCostumes: \nJulia Okhrimenko \nVisuals: \nMilan Ondruch\, Tereza Votoupalová\, Žaneta Chrobočková \nLight Design: \nPetr Taclík \nSpecial Thanks: \nBára Dočkalová\, COPRIS\, úl – DIY prostor\, Veronika Gajdošíková\, \nhttps://www.facebook.com/events/1214740887468818/?event_time_id=1214740897468817
URL:https://pragueliterarycalendar.com/calendar/animal-farm-2/
LOCATION:Prague\, Czech Republic\, Prague\, Czech Republic
CATEGORIES:Performance,Theatre
END:VEVENT
BEGIN:VEVENT
DTSTART;TZID=Europe/Prague:20260328T193000
DTEND;TZID=Europe/Prague:20260328T213000
DTSTAMP:20260424T104459
CREATED:20260327T092935Z
LAST-MODIFIED:20260331T131453Z
UID:11102-1774726200-1774733400@pragueliterarycalendar.com
SUMMARY:The Little Shop of Horrors (Theatre Production-Closing Night)
DESCRIPTION:A new adaptation of a beloved classic\, this silly comedy is… to die for! \nSynopsis: \nIt all happened on Skid Row…. More specifically\, a small little flower shop with a big surprise. \nA down on his luck shop owner\, Gravis Mushnick\, has had enough of his clumsy and incompetent employee\, Seymour Krelboined. After Seymour messes up a customer’s order\, Mushnick is ready to fire fire him and restore some peace to his business! But Seymour has a surprise for the shop… being a passionate (amateur) botanist\, Seymour had crossed two special plants to make an amazing hybrid\, Audrey Jr. (named after his crush\, Audrey). Seymour promises Mushnick that Audrey Jr. will make his shop a popular site! Everything seems to be going great for the shop… or is it?
URL:https://pragueliterarycalendar.com/calendar/the-little-shop-of-horrors-theatre-production-closing-night/
LOCATION:DIVADLO KOMEDIE\, DIVADLO KOMEDIE
CATEGORIES:Performance,Theatre
ORGANIZER;CN="New Visions Theatre Company":MAILTO:noreply@facebookmail.com
END:VEVENT
BEGIN:VEVENT
DTSTART;TZID=Europe/Prague:20260328T200000
DTEND;TZID=Europe/Prague:20260328T230000
DTSTAMP:20260424T104459
CREATED:20260327T094606Z
LAST-MODIFIED:20260331T131453Z
UID:11182-1774728000-1774738800@pragueliterarycalendar.com
SUMMARY:Anatol Svahilec - Slam Poetry Night v Bistro Moje Místo 2026
DESCRIPTION:Legenda českého slamu se vrací! 28. března ovládne Bistro Moje Místo se svou nezaměnitelnou show. Čekej kulometnou slovní zásobu\, humor\, co tne do živého\, a energii\, která tě nenechá v klidu. 🔥 \nCo tě vlastně čeká? Slam poetry není nudná recitace u tabule. Je to autorská poezie v pohybu. Je to show\, rytmus a drama\, kde básník–performer bojuje o tvoji pozornost přímo tady a teď. A Anatol? Ten je v tomhle oboru naprostý král. 👑 \n📅 Kdy: 28. března | 20:00 📍 Kde: Bistro Moje Místo 🎟️ Vstupenky v prodeji: https://www.fairplay.events/cs/anatol-svahilec-slam-poetry-night-v-bistro-moje-misto-27af
URL:https://pragueliterarycalendar.com/calendar/anatol-svahilec-slam-poetry-night-v-bistro-moje-misto-2026/
LOCATION:28. Pluku 119/33\, 10000 Prague\, Czech Republic\, 28. Pluku 119/33\, 10000 Prague\, Czech Republic
CATEGORIES:Performance,Poetry
END:VEVENT
END:VCALENDAR