BEGIN:VCALENDAR
VERSION:2.0
PRODID:-//The Prague Literary Calendar - ECPv6.15.20//NONSGML v1.0//EN
CALSCALE:GREGORIAN
METHOD:PUBLISH
X-ORIGINAL-URL:https://pragueliterarycalendar.com
X-WR-CALDESC:Events for The Prague Literary Calendar
REFRESH-INTERVAL;VALUE=DURATION:PT1H
X-Robots-Tag:noindex
X-PUBLISHED-TTL:PT1H
BEGIN:VTIMEZONE
TZID:Europe/Prague
BEGIN:DAYLIGHT
TZOFFSETFROM:+0100
TZOFFSETTO:+0200
TZNAME:CEST
DTSTART:20250330T010000
END:DAYLIGHT
BEGIN:STANDARD
TZOFFSETFROM:+0200
TZOFFSETTO:+0100
TZNAME:CET
DTSTART:20251026T010000
END:STANDARD
BEGIN:DAYLIGHT
TZOFFSETFROM:+0100
TZOFFSETTO:+0200
TZNAME:CEST
DTSTART:20260329T010000
END:DAYLIGHT
BEGIN:STANDARD
TZOFFSETFROM:+0200
TZOFFSETTO:+0100
TZNAME:CET
DTSTART:20261025T010000
END:STANDARD
BEGIN:DAYLIGHT
TZOFFSETFROM:+0100
TZOFFSETTO:+0200
TZNAME:CEST
DTSTART:20270328T010000
END:DAYLIGHT
BEGIN:STANDARD
TZOFFSETFROM:+0200
TZOFFSETTO:+0100
TZNAME:CET
DTSTART:20271031T010000
END:STANDARD
END:VTIMEZONE
BEGIN:VEVENT
DTSTART;TZID=Europe/Prague:20260330T190000
DTEND;TZID=Europe/Prague:20260330T210000
DTSTAMP:20260424T150314
CREATED:20260326T111742Z
LAST-MODIFIED:20260331T125203Z
UID:9881-1774897200-1774904400@pragueliterarycalendar.com
SUMMARY:Globe Creative Writing Group
DESCRIPTION:Globe Creative Writing Group was established in October of 2016. We meet weekly at the Globe Bookstore on Mondays from 19-21.  \nFeel free to come by and introduce yourself\, whether or not your facebook request has been acknowledged by us. We receive many requests\, and prefer to accept those we know will contribute later on. :). \nWe are an eclectic group composed of various writers practising a range of techniques. We’ve so far been writing short fiction\, poetry\, essays\, genre fiction\, experimental prose\, surrealism\, playwriting\, screenwriting\, non-fiction as well as long-term projects. \nThis group relies on and sustains itself through thoughtful and productive critique. During our meetings\, we discuss each member’s submission (should they choose to submit that week) in depth. \n At the end of each meeting\, a prompt is assigned that we will base our submissions for the next week on. Transcending the prompt\, of course\, is always possible. If you would like feedback on a long-term project or a submission that isn’t related to the prompt\, feel free to do so. \n \nRules and Guidelines for Submissions: \n-To ensure everyone can give\, and get\, quality critiques\, we will review no more than 8 submissions per week. \n-Please submit by Saturday at the latest. As many of us have jobs\, families\, holidays etc.\, we need ample time to give thoughtful feedback and criticism to each submission. If you submit later than the Saturday deadline\, don’t worry! We can save your work to critique the next week. \n-If you do submit\, please be present at the meeting that your work will be critiqued. If you cannot make it\, please let the group know via the Facebook group. If we take the time to critique\, we want to know that you will be there to accept feedback. Again\, if you cannot make it\, we will save your submission for the next week. \n-Please do not submit work that is longer than 1\,500 words. We want to make sure everyone receives ample time to discuss and is not overwhelmed by the amount of content they will need to read. Because of this\, please try to adhere to a no more than 1\,500-word standard. \n \nAI Disclaimer \nWriters: If you’ve used AI in your work\, please inform us and tell us to what extent you have used AI. \nCritiques: Please refrain from using AI to assist in your critiques. We are sharing our work with others because we want your perspective. \nPrompts are meant to be broad in order to maximize creativity. We have had long-term projects devised from simple prompts and continue to! It’s a way for us to break free of our comfort zones as writers. Don’t be afraid! \nAs a group\, we also encourage publishing work\, whether it be in Prague or outside. Feel free to post any publishing opportunities you think would fit the group or anyone in it. So far we have had several prize winners and magazine publications from group members. This group is fundamentally about encouragement! \nAny other questions\, please send us a message on Facebook 🙂 \nHappy writing!
URL:https://pragueliterarycalendar.com/calendar/globe-creative-writing-group-9/
LOCATION:The Globe Bookstore And Café\, Pštrossova 1925/6\, Nové Město\, 110 00 Praha-Praha 1\, Czechia\, The Globe Bookstore And Café\, Pštrossova 1925/6\, Nové Město\, 110 00 Praha-Praha 1\, Czechia
CATEGORIES:Workshop,Writing
END:VEVENT
BEGIN:VEVENT
DTSTART;TZID=Europe/Prague:20260330T190000
DTEND;TZID=Europe/Prague:20260330T220000
DTSTAMP:20260424T150314
CREATED:20260312T195333Z
LAST-MODIFIED:20260331T130120Z
UID:10367-1774897200-1774908000@pragueliterarycalendar.com
SUMMARY:SciFi Book Club Meeting!
DESCRIPTION:Our new SciFi Book Club will have their next meeting on Monday\, March 30th starting at 7pm. \nThe club is free and open to anyone who has interest. \nThis month’s book is “Roadside Picnic” by Arkady and Boris Strugatsky and the meeting will be hosted by Alejandra Steele and Richard Yonck. \nRicahrd Yonck is a bestselling nonfiction author and futurist who spent years studying disinformation\, AI and the attention economy along with their impact on society and is also a published sci fi author\, so lots to be learned from his insights!  \nPlease call or email us at reservations@globebookstore.cz to secure you place today! \nThank you-
URL:https://pragueliterarycalendar.com/calendar/scifi-book-club-meeting/
LOCATION:Globe Bookstore and Cafe\, Globe Bookstore and Cafe
CATEGORIES:Book Club,Discussion
ORGANIZER;CN="Globe Bookstore and Cafe":MAILTO:noreply@facebookmail.com
END:VEVENT
BEGIN:VEVENT
DTSTART;TZID=Europe/Prague:20260330T190000
DTEND;TZID=Europe/Prague:20260330T220000
DTSTAMP:20260424T150314
CREATED:20260330T150042Z
LAST-MODIFIED:20260331T131325Z
UID:11258-1774897200-1774908000@pragueliterarycalendar.com
SUMMARY:The Importance of Foolishness
DESCRIPTION:Join our meeting moderated by Tomáš! \nYou can look forward to:👉 an icebreaker by Esmee and humorous speech by Daniel👉 improvized speeches – anyone can participate👉 constructive feedback\, not only for the speakers – there is always something to take home for everyone😉 experience the positive and supportive learning environment of our club👍 no previous experience needed \nTO GET TO THE MEETING ROOM: Pass by the reception and cross the yard to entrance B. Take elevator to 4th floor and follow signs to room BETA. Or let us know and we will meet you in front of the building 👍
URL:https://pragueliterarycalendar.com/calendar/the-importance-of-foolishness/
LOCATION:Senovážné nám. 978/23\, 110 00 Nové Město\, Praha\, Senovážné nám. 978/23\, 110 00 Nové Město\, Praha
CATEGORIES:Make Connections,Public Speaking
END:VEVENT
BEGIN:VEVENT
DTSTART;TZID=Europe/Prague:20260330T200000
DTEND;TZID=Europe/Prague:20260330T220000
DTSTAMP:20260424T150314
CREATED:20260324T090336Z
LAST-MODIFIED:20260331T131453Z
UID:10739-1774900800-1774908000@pragueliterarycalendar.com
SUMMARY:The Improv Academy @ Myslíš?: The Comedy Show – every Monday (ENG)
DESCRIPTION:Experience a brand-new\, fully improvised comedy show every Monday at Myslíš?! \nJoin us for an ever-changing lineup: enjoy a professional comedy show from experienced improvisers\, or support The Academy’s students as they take the stage in their very own fully improvised performances. Using your suggestions and occasional participation\, performers create one-of-a-kind shows filled with intricate stories\, hilarious games\, and original songs.  \nAnd while you laugh\, enjoy 12 craft beers on tap and tasty snacks – the perfect combo for a fun night out! \nEntry: depending on the type of show Student show – 100 KčMain Company Show – 350 Kč  \nhttps://www.facebook.com/events/1312905260898444/?event_time_id=1312905280898442
URL:https://pragueliterarycalendar.com/calendar/the-improv-academy-myslis-the-comedy-show-every-monday-eng/
LOCATION:Skořepka 3\, Praha 1\, Skořepka 3\, Praha 1
CATEGORIES:Improv,Performance
END:VEVENT
END:VCALENDAR