BEGIN:VCALENDAR
VERSION:2.0
PRODID:-//The Prague Literary Calendar - ECPv6.15.20//NONSGML v1.0//EN
CALSCALE:GREGORIAN
METHOD:PUBLISH
X-WR-CALNAME:The Prague Literary Calendar
X-ORIGINAL-URL:https://pragueliterarycalendar.com
X-WR-CALDESC:Events for The Prague Literary Calendar
REFRESH-INTERVAL;VALUE=DURATION:PT1H
X-Robots-Tag:noindex
X-PUBLISHED-TTL:PT1H
BEGIN:VTIMEZONE
TZID:Europe/Prague
BEGIN:DAYLIGHT
TZOFFSETFROM:+0100
TZOFFSETTO:+0200
TZNAME:CEST
DTSTART:20250330T010000
END:DAYLIGHT
BEGIN:STANDARD
TZOFFSETFROM:+0200
TZOFFSETTO:+0100
TZNAME:CET
DTSTART:20251026T010000
END:STANDARD
BEGIN:DAYLIGHT
TZOFFSETFROM:+0100
TZOFFSETTO:+0200
TZNAME:CEST
DTSTART:20260329T010000
END:DAYLIGHT
BEGIN:STANDARD
TZOFFSETFROM:+0200
TZOFFSETTO:+0100
TZNAME:CET
DTSTART:20261025T010000
END:STANDARD
BEGIN:DAYLIGHT
TZOFFSETFROM:+0100
TZOFFSETTO:+0200
TZNAME:CEST
DTSTART:20270328T010000
END:DAYLIGHT
BEGIN:STANDARD
TZOFFSETFROM:+0200
TZOFFSETTO:+0100
TZNAME:CET
DTSTART:20271031T010000
END:STANDARD
END:VTIMEZONE
BEGIN:VEVENT
DTSTART;TZID=Europe/Prague:20260513T160000
DTEND;TZID=Europe/Prague:20260513T190000
DTSTAMP:20260424T161044
CREATED:20260327T070224Z
LAST-MODIFIED:20260331T125244Z
UID:10164-1778688000-1778698800@pragueliterarycalendar.com
SUMMARY:Literární dílny s Terezou Matouškovou - Online
DESCRIPTION:Píšete do šuplíku? Toužíte jednoho dne vydat knihu? Chcete sedozvědět něco víc o tvůrčím psaní? Přijďte si zkusit párkreativních úkolů mezi lidi\, kteří mají stejný sen jako vy. Literárnídílny pro mládež pod vedením Terezy Matouškové můžete navštítiti z pohodlí svého domova! Tak to nepropásněte! Online akce proběhne nastreamovací platformě Zoom\, do které je třeba se přihlásit. Odkaz apotřebné údaje naleznete zde: \n     \nLink: <a href="https://www.google.com/url?q=https://us06web.zoom.us/j/93148532345&sa=D&source=calendar&usd=2&usg=AOvVaw10I0d4oBy8DINSGFSGJTPz” target=”_blank”>https://us06web.zoom.us/j/93148532345\n     \nMeeting ID: 931 4853 2345\n     \nPro přihlášení není třeba heslo
URL:https://pragueliterarycalendar.com/calendar/literarni-dilny-s-terezou-matouskovou-online-4/
LOCATION:Online Event\, Online Event
CATEGORIES:Workshop,Writing
END:VEVENT
END:VCALENDAR